BEGIN:VCALENDAR
VERSION:2.0
PRODID:-//Freiraum Ronsdorf - ECPv6.5.1.3//NONSGML v1.0//EN
CALSCALE:GREGORIAN
METHOD:PUBLISH
X-WR-CALNAME:Freiraum Ronsdorf
X-ORIGINAL-URL:https://freiraum-ronsdorf.de
X-WR-CALDESC:Veranstaltungen für Freiraum Ronsdorf
REFRESH-INTERVAL;VALUE=DURATION:PT1H
X-Robots-Tag:noindex
X-PUBLISHED-TTL:PT1H
BEGIN:VTIMEZONE
TZID:Europe/Berlin
BEGIN:DAYLIGHT
TZOFFSETFROM:+0100
TZOFFSETTO:+0200
TZNAME:CEST
DTSTART:20240331T010000
END:DAYLIGHT
BEGIN:STANDARD
TZOFFSETFROM:+0200
TZOFFSETTO:+0100
TZNAME:CET
DTSTART:20241027T010000
END:STANDARD
BEGIN:DAYLIGHT
TZOFFSETFROM:+0100
TZOFFSETTO:+0200
TZNAME:CEST
DTSTART:20250330T010000
END:DAYLIGHT
BEGIN:STANDARD
TZOFFSETFROM:+0200
TZOFFSETTO:+0100
TZNAME:CET
DTSTART:20251026T010000
END:STANDARD
END:VTIMEZONE
BEGIN:VEVENT
DTSTART;TZID=Europe/Berlin:20251015T183000
DTEND;TZID=Europe/Berlin:20251015T183000
DTSTAMP:20260423T104300
CREATED:20250910T193108Z
LAST-MODIFIED:20250915T104543Z
UID:10000749-1760553000-1760553000@freiraum-ronsdorf.de
SUMMARY:LIT.ronsdorf - Georg Wilke / Gerhard von der Heyden
DESCRIPTION:Seit 2014 arbeitet der Arbeitskreis „LIT.ronsdorf“ erfolgreich unter dem Dach  des Ronsdorfer Heimat- und Bürgervereins. \nWir freuen uns in diesem Jahr den Freiraum als einen der wechselnden Orte in Ronsdorf zur Verfügung zu stellen.\nAn diesem Abend: Georg Wilke & Gerhard von der Heyden \nGeorg Wilke: \n \nliest „Flash-Fiction“\, eigene kurze Prosatexte\, die unterhalb der Länge von Short Stories bleiben. Typisch ist der zumeist satirische Einschlag. Einige Texte haben einen Bezug zur Wuppertaler Lokalpolitik\, andere zur „großen“ Politik\, aber auch poetische Geschichten sind dabei. \nGerhard von der Heyden.. \n \nbestreitet den zweiten Teil des Abends mit vertonten Geschichten von Reinhard Mey. \n 
URL:https://freiraum-ronsdorf.de/event/lit-ronsdorf-georg-wilke-2/
LOCATION:Freiraum Ronsdorf\, In der Krim 12\, Wuppertal\, 42369
ATTACH;FMTTYPE=image/jpeg:https://freiraum-ronsdorf.de/wp-content/uploads/2024/08/book-1283865_1280.jpg
END:VEVENT
BEGIN:VEVENT
DTSTART;TZID=Europe/Berlin:20251008T180000
DTEND;TZID=Europe/Berlin:20251008T210000
DTSTAMP:20260423T104300
CREATED:20250910T193222Z
LAST-MODIFIED:20250915T102700Z
UID:10000750-1759946400-1759957200@freiraum-ronsdorf.de
SUMMARY:LIT.ronsdorf - Linda Weißgerber
DESCRIPTION:Seit 2014 arbeitet der Arbeitskreis „LIT.ronsdorf“ erfolgreich unter dem Dach  des Ronsdorfer Heimat- und Bürgervereins. \nWir freuen uns in diesem Jahr den Freiraum als einen der wechselnden Orte in Ronsdorf zur Verfügung zu stellen.\nAn diesem Abend: Linda Weißgerber \n \nWarum noch ein Buch? Ausgerechnet über Arbeiterfrauen und Arbeiterinnen. \nNur unbedeutende Frauengeschichte(n)? Keineswegs. Arbeiterfrauen werden oft unterschätzt\, sind aber eine bedeutende gesellschaftliche Kraft: \nSIE halten das Leben am Laufen – in vielen gesellschaftlichen Bereichen\, oft im Hintergrund. \nSIE kämpfen sich durch den Alltag\, geben nur selten auf\, haben langen Atem. SIE lernen organisiert\, bessere Arbeitsbedingungen und Zukunftsvisionen zu verwirklichen. SIE haben revolutionäres Potenzial\, um Ausbeutung und Unterdrückung abzuschaffen. SIE können mehr als „nur“ arbeiten\, in ihnen stecken ungeahnte Fähigkeiten. Alle Geschichten und Texte beruhen auf persönlichen Erfahrungen und Gedanken\, durchlebten Fragen und Gefühlen und enden mit kleinen Botschaften.
URL:https://freiraum-ronsdorf.de/event/lit-ronsdorf-linda-weissgerber/
LOCATION:Freiraum Ronsdorf\, In der Krim 12\, Wuppertal\, 42369
ATTACH;FMTTYPE=image/jpeg:https://freiraum-ronsdorf.de/wp-content/uploads/2024/08/book-1283865_1280.jpg
END:VEVENT
BEGIN:VEVENT
DTSTART;TZID=Europe/Berlin:20250930T190000
DTEND;TZID=Europe/Berlin:20250930T190000
DTSTAMP:20260423T104300
CREATED:20250910T193036Z
LAST-MODIFIED:20250915T101131Z
UID:10000748-1759258800-1759258800@freiraum-ronsdorf.de
SUMMARY:LIT.ronsdorf - Herr Lutz
DESCRIPTION:Seit 2014 arbeitet der Arbeitskreis „LIT.ronsdorf“ erfolgreich unter dem Dach des Ronsdorfer Heimat- und Bürgervereins. \nWir freuen uns in diesem Jahr den Freiraum als einen der wechselnden Orte in Ronsdorf zur Verfügung zu stellen. \nAn diesem Abend: Herr Lutz. \n \n\n\n\n\nDer Sonnborner Michael Lutz trägt Kurzgeschichten aus dem 2021 erschienenen Buch „Twin Town Blues – Mit Fahrrad\, Kazoo und Walkman von Wuppertal nach South Tyneside“ vor. \nZudem kommen einige noch unveröffentlichte Texte zu Gehör. Musik wird bei der Lesung nicht zu kurz kommen.
URL:https://freiraum-ronsdorf.de/event/lit-ronsdorf-herr-lutz-2/
LOCATION:Freiraum Ronsdorf\, In der Krim 12\, Wuppertal\, 42369
ATTACH;FMTTYPE=image/png:https://freiraum-ronsdorf.de/wp-content/uploads/2024/09/Bildschirmfoto-2024-10-02-um-14.32.29.png
END:VEVENT
BEGIN:VEVENT
DTSTART;TZID=Europe/Berlin:20241023T180000
DTEND;TZID=Europe/Berlin:20241023T220000
DTSTAMP:20260423T104300
CREATED:20240905T163543Z
LAST-MODIFIED:20241002T123656Z
UID:10000482-1729706400-1729720800@freiraum-ronsdorf.de
SUMMARY:LIT.ronsdorf - Herr Lutz
DESCRIPTION:Seit 2014 arbeitet der Arbeitskreis „LIT.ronsdorf“ erfolgreich unter dem Dach des Ronsdorfer Heimat- und Bürgervereins. \nWir freuen uns in diesem Jahr den Freiraum als einen der wechselnden Orte in Ronsdorf zur Verfügung zu stellen. \nAn diesem Abend: Herr Lutz. \n \n\n\n\n\nEin Fahrrad\, ein Walkman\, ein Kazoo und viele Freundinnen und Freunde an der Seite. So macht sich der Autor auf eine lange Radreise von „seinem“ Rathaus in Barmen zur Townhall von South Tyneside in der nordenglischen Partnerstdt South Tyneside. \nIn 29 Kurzgeschichten beschreibt er diese Tour\, geht auf Land und Leute\, Geschichte\, Topografie\, Klima\, Fauna und Flora der bereisten Ländereien sowie auf seine bunte Reisegruppe und deren Dynamik ein.\nEr nimmt die Leser- bzw. Hörer*innen darüberhinaus mit in seine Beobachtungen\, Assoziationen\, Erinnerungen\, Träumereien\, Fantasien und Visionen während langer langer Radfahrstunden und gibt ihnen so einen Einblick in seine Sicht der Dinge – auf die Welt im Allgemeinen und die seinige im Besonderen \nIm Mittelpunkt steht immer die Musik.\nDenn nicht umsonst lautet der Titel des Bandes\, der u.a. die Geschichten vom idyllischen Gruiten über die Überraschungen in Rheinberg\, der unverhofften Begegnung in Tricht (im übrigen der übelstriechende Ort zwischen Linge und Wolga)\, der Musikstadt York bis hin zum „Zweiten Woodstock“ in South Shields zusammenfasst:\nTWIN TOWN BLUES ! \nInsofern wird es vor\, während und nach der Lesung reichlich „Musik“ geben. Und zwar „gute“. Versprochen !
URL:https://freiraum-ronsdorf.de/event/lit-ronsdorf-herr-lutz/
LOCATION:Freiraum Ronsdorf\, In der Krim 12\, Wuppertal\, 42369
ATTACH;FMTTYPE=image/png:https://freiraum-ronsdorf.de/wp-content/uploads/2024/09/Bildschirmfoto-2024-10-02-um-14.32.29.png
END:VEVENT
BEGIN:VEVENT
DTSTART;TZID=Europe/Berlin:20241010T180000
DTEND;TZID=Europe/Berlin:20241010T210000
DTSTAMP:20260423T104300
CREATED:20240816T135750Z
LAST-MODIFIED:20241003T180407Z
UID:10000443-1728583200-1728594000@freiraum-ronsdorf.de
SUMMARY:LIT.ronsdorf - Georg Wilke
DESCRIPTION:Seit 2014 arbeitet der Arbeitskreis „LIT.ronsdorf“ erfolgreich unter dem Dach  des Ronsdorfer Heimat- und Bürgervereins. \nWir freuen uns in diesem Jahr den Freiraum als einen der wechselnden Orte in Ronsdorf zur Verfügung zu stellen.\nAn diesem Abend: Georg Wilke. \nGeorg Wilke ist zum ersten Mal dabei. Texte\, zumeist satirischer Art und teilweise mit Wuppertal-Bezug\, schreibt er seit einigen Jahren. Dank eines eigensinnigen Ronsdorfer Zeitungsmachers wurden einige der Geschichten mit Wuppertal-Bezug als Leserbriefe veröffentlicht. Daneben versucht Wilke sich im experimentellen Fotografieren und entwirft InstalIationen. In einem früheren Leben war er lange Zeit Projektleiter am Wuppertal Institut\, wo er sich hauptsächlich mit der Zukunft der räumlichen Mobilität beschäftigt hat.
URL:https://freiraum-ronsdorf.de/event/lit-ronsdorf-georg-wilke/
LOCATION:Freiraum Ronsdorf\, In der Krim 12\, Wuppertal\, 42369
ATTACH;FMTTYPE=image/jpeg:https://freiraum-ronsdorf.de/wp-content/uploads/2024/08/book-1283865_1280.jpg
END:VEVENT
END:VCALENDAR