BEGIN:VCALENDAR
VERSION:2.0
PRODID:-//Freiraum Ronsdorf - ECPv6.5.1.3//NONSGML v1.0//EN
CALSCALE:GREGORIAN
METHOD:PUBLISH
X-WR-CALNAME:Freiraum Ronsdorf
X-ORIGINAL-URL:https://freiraum-ronsdorf.de
X-WR-CALDESC:Veranstaltungen für Freiraum Ronsdorf
REFRESH-INTERVAL;VALUE=DURATION:PT1H
X-Robots-Tag:noindex
X-PUBLISHED-TTL:PT1H
BEGIN:VTIMEZONE
TZID:Europe/Berlin
BEGIN:DAYLIGHT
TZOFFSETFROM:+0100
TZOFFSETTO:+0200
TZNAME:CEST
DTSTART:20240331T010000
END:DAYLIGHT
BEGIN:STANDARD
TZOFFSETFROM:+0200
TZOFFSETTO:+0100
TZNAME:CET
DTSTART:20241027T010000
END:STANDARD
BEGIN:DAYLIGHT
TZOFFSETFROM:+0100
TZOFFSETTO:+0200
TZNAME:CEST
DTSTART:20250330T010000
END:DAYLIGHT
BEGIN:STANDARD
TZOFFSETFROM:+0200
TZOFFSETTO:+0100
TZNAME:CET
DTSTART:20251026T010000
END:STANDARD
END:VTIMEZONE
BEGIN:VEVENT
DTSTART;TZID=Europe/Berlin:20250119T120000
DTEND;TZID=Europe/Berlin:20250119T140000
DTSTAMP:20260424T201905
CREATED:20241228T103518Z
LAST-MODIFIED:20241228T103518Z
UID:10000531-1737288000-1737295200@freiraum-ronsdorf.de
SUMMARY:Bücherclub
DESCRIPTION:„Es gibt mehr Schätze in Büchern als Piratenbeute auf der Schatzinsel…und das Beste ist\, du kannst diesen Reichtum jeden Tag deines Lebens genießen.“\, sagte schon Walt Disney. \nWir\, Sofia\, Aliena und Selina\, möchten diesen Schätzen gemeinsam mit euch auf den Grund gehen.\nJeder hat Bücher\, die einen bewegt haben\, die Erinnerungen wecken oder die noch auf der Leseliste stehen. Am schönsten ist es doch\, wenn man diese miteinander teilen kann. \nMehr Infos.
URL:https://freiraum-ronsdorf.de/event/buecherclub-6/
LOCATION:Freiraum Ronsdorf\, In der Krim 12\, Wuppertal\, 42369
ATTACH;FMTTYPE=image/jpeg:https://freiraum-ronsdorf.de/wp-content/uploads/2024/04/Buecherclub.jpg
END:VEVENT
BEGIN:VEVENT
DTSTART;TZID=Europe/Berlin:20250118T150000
DTEND;TZID=Europe/Berlin:20250118T170000
DTSTAMP:20260424T201905
CREATED:20241209T170227Z
LAST-MODIFIED:20241209T170227Z
UID:10000514-1737212400-1737219600@freiraum-ronsdorf.de
SUMMARY:Strick-Café
DESCRIPTION:Eigene Projekte unter Gleichgesinnten in gemütlicher Café-Atmosphäre weiter stricken. \nWeitere Infos.
URL:https://freiraum-ronsdorf.de/event/strick-cafe-16/
LOCATION:Freiraum Ronsdorf\, In der Krim 12\, Wuppertal\, 42369
ATTACH;FMTTYPE=image/jpeg:https://freiraum-ronsdorf.de/wp-content/uploads/2023/12/Stricken_1.jpg
END:VEVENT
BEGIN:VEVENT
DTSTART;TZID=Europe/Berlin:20250116T150000
DTEND;TZID=Europe/Berlin:20250116T180000
DTSTAMP:20260424T201905
CREATED:20241209T165949Z
LAST-MODIFIED:20241217T190116Z
UID:10000506-1737039600-1737050400@freiraum-ronsdorf.de
SUMMARY:Café-Freiraum
DESCRIPTION:Freiraum Ronsdorf lädt ein! \nJeden Donnerstag öffnen wir unsere Türen für alle – ganz ohne feste Veranstaltung. Kommt vorbei und genießt eine entspannte Zeit: Ob bei einer Tasse Kaffee\, einem leckeren Stück Kuchen\, beim Stöbern in einem Buch oder einem kleinen Kicker-Match. Hier ist Platz für Begegnungen\, Gespräche und Gemeinschaft. Lasst uns den Tag gemeinsam genießen – wir freuen uns auf euch!
URL:https://freiraum-ronsdorf.de/event/cafe-freiraum-9/
LOCATION:Freiraum Ronsdorf\, In der Krim 12\, Wuppertal\, 42369
ATTACH;FMTTYPE=image/png:https://freiraum-ronsdorf.de/wp-content/uploads/2024/12/Cafe.png
END:VEVENT
BEGIN:VEVENT
DTSTART;TZID=Europe/Berlin:20250114T100000
DTEND;TZID=Europe/Berlin:20250114T170000
DTSTAMP:20260424T201905
CREATED:20250106T144844Z
LAST-MODIFIED:20250106T144844Z
UID:10000534-1736848800-1736874000@freiraum-ronsdorf.de
SUMMARY:Veeh-Harfen - Ensemble Probe
DESCRIPTION:Das Veeh-Harfen-Ensemble mit Urte Rohda probt im Freiraum. \nWer Interesse an dem Instrument hat und sich eine Probe ansehen möchte\, darf sich gern per E-Mail oder über das Kontaktformular unserer Website melden. \n 
URL:https://freiraum-ronsdorf.de/event/veeh-harfen-ensemble-probe-2/
LOCATION:Freiraum Ronsdorf\, In der Krim 12\, Wuppertal\, 42369
ATTACH;FMTTYPE=image/jpeg:https://freiraum-ronsdorf.de/wp-content/uploads/2025/01/MG_6123-scaled.jpg
END:VEVENT
BEGIN:VEVENT
DTSTART;TZID=Europe/Berlin:20250113T190000
DTEND;TZID=Europe/Berlin:20250113T203000
DTSTAMP:20260424T201905
CREATED:20241217T103908Z
LAST-MODIFIED:20241227T184807Z
UID:10000517-1736794800-1736800200@freiraum-ronsdorf.de
SUMMARY:Niederländisch Kurs
DESCRIPTION:Beste mensen! (was soviel heißt wie: Liebe Leute!) \nIm Freiraum gibt es ab sofort die Möglichkeit\, Niederländisch zu lernen.\nWir treffen uns wöchentlich in geselliger Runde zum Plaudern und lernen dabei Grundlagen der Niederländischen Sprache und Themen kennen\, über die man als Niederlande-Fan immer schonmal reden wollte. \nEine Anmeldung ist nicht erforderlich. Kommt einfach vorbei. \nWij gaan Hollands praten.\nTot ziens \nHeike Blombach
URL:https://freiraum-ronsdorf.de/event/niederlaendisch-kurs/
LOCATION:Freiraum Ronsdorf\, In der Krim 12\, Wuppertal\, 42369
ATTACH;FMTTYPE=image/png:https://freiraum-ronsdorf.de/wp-content/uploads/2024/12/Blue-Photo-Collage-Hello-August-Instagram-Post-1.png
END:VEVENT
BEGIN:VEVENT
DTSTART;TZID=Europe/Berlin:20250109T150000
DTEND;TZID=Europe/Berlin:20250109T180000
DTSTAMP:20260424T201905
CREATED:20241209T165934Z
LAST-MODIFIED:20241217T190054Z
UID:10000505-1736434800-1736445600@freiraum-ronsdorf.de
SUMMARY:Café-Freiraum
DESCRIPTION:Freiraum Ronsdorf lädt ein! \nJeden Donnerstag öffnen wir unsere Türen für alle – ganz ohne feste Veranstaltung. Kommt vorbei und genießt eine entspannte Zeit: Ob bei einer Tasse Kaffee\, einem leckeren Stück Kuchen\, beim Stöbern in einem Buch oder einem kleinen Kicker-Match. Hier ist Platz für Begegnungen\, Gespräche und Gemeinschaft. Lasst uns den Tag gemeinsam genießen – wir freuen uns auf euch!
URL:https://freiraum-ronsdorf.de/event/cafe-freiraum-8/
LOCATION:Freiraum Ronsdorf\, In der Krim 12\, Wuppertal\, 42369
ATTACH;FMTTYPE=image/png:https://freiraum-ronsdorf.de/wp-content/uploads/2024/12/Cafe.png
END:VEVENT
BEGIN:VEVENT
DTSTART;TZID=Europe/Berlin:20250107T100000
DTEND;TZID=Europe/Berlin:20250107T170000
DTSTAMP:20260424T201905
CREATED:20250106T144807Z
LAST-MODIFIED:20250106T144807Z
UID:10000533-1736244000-1736269200@freiraum-ronsdorf.de
SUMMARY:Veeh-Harfen - Ensemble Probe
DESCRIPTION:Das Veeh-Harfen-Ensemble mit Urte Rohda probt im Freiraum. \nWer Interesse an dem Instrument hat und sich eine Probe ansehen möchte\, darf sich gern per E-Mail oder über das Kontaktformular unserer Website melden. \n 
URL:https://freiraum-ronsdorf.de/event/veeh-harfen-ensemble-probe/
LOCATION:Freiraum Ronsdorf\, In der Krim 12\, Wuppertal\, 42369
ATTACH;FMTTYPE=image/jpeg:https://freiraum-ronsdorf.de/wp-content/uploads/2025/01/MG_6123-scaled.jpg
END:VEVENT
BEGIN:VEVENT
DTSTART;TZID=Europe/Berlin:20250104T150000
DTEND;TZID=Europe/Berlin:20250104T170000
DTSTAMP:20260424T201905
CREATED:20241209T170211Z
LAST-MODIFIED:20241209T170211Z
UID:10000513-1736002800-1736010000@freiraum-ronsdorf.de
SUMMARY:Strick-Café
DESCRIPTION:Eigene Projekte unter Gleichgesinnten in gemütlicher Café-Atmosphäre weiter stricken. \nWeitere Infos.
URL:https://freiraum-ronsdorf.de/event/strick-cafe-15/
LOCATION:Freiraum Ronsdorf\, In der Krim 12\, Wuppertal\, 42369
ATTACH;FMTTYPE=image/jpeg:https://freiraum-ronsdorf.de/wp-content/uploads/2023/12/Stricken_1.jpg
END:VEVENT
BEGIN:VEVENT
DTSTART;TZID=Europe/Berlin:20241221T150000
DTEND;TZID=Europe/Berlin:20241221T170000
DTSTAMP:20260424T201905
CREATED:20240827T111557Z
LAST-MODIFIED:20240827T111557Z
UID:10000463-1734793200-1734800400@freiraum-ronsdorf.de
SUMMARY:Strick-Café
DESCRIPTION:Eigene Projekte unter Gleichgesinnten in gemütlicher Café-Atmosphäre weiter stricken. \nWeitere Infos.
URL:https://freiraum-ronsdorf.de/event/strick-cafe-14/
LOCATION:Freiraum Ronsdorf\, In der Krim 12\, Wuppertal\, 42369
ATTACH;FMTTYPE=image/jpeg:https://freiraum-ronsdorf.de/wp-content/uploads/2023/12/Stricken_1.jpg
END:VEVENT
BEGIN:VEVENT
DTSTART;TZID=Europe/Berlin:20241219T150000
DTEND;TZID=Europe/Berlin:20241219T180000
DTSTAMP:20260424T201905
CREATED:20241111T165221Z
LAST-MODIFIED:20241217T185927Z
UID:10000501-1734620400-1734631200@freiraum-ronsdorf.de
SUMMARY:Café-Freiraum
DESCRIPTION:Freiraum Ronsdorf lädt ein! \nJeden Donnerstag öffnen wir unsere Türen für alle – ganz ohne feste Veranstaltung. Kommt vorbei und genießt eine entspannte Zeit: Ob bei einer Tasse Kaffee\, einem leckeren Stück Kuchen\, beim Stöbern in einem Buch oder einem kleinen Kicker-Match. Hier ist Platz für Begegnungen\, Gespräche und Gemeinschaft. Lasst uns den Tag gemeinsam genießen – wir freuen uns auf euch!
URL:https://freiraum-ronsdorf.de/event/cafe-freiraum-6/
LOCATION:Freiraum Ronsdorf\, In der Krim 12\, Wuppertal\, 42369
ATTACH;FMTTYPE=image/png:https://freiraum-ronsdorf.de/wp-content/uploads/2024/12/Cafe.png
END:VEVENT
BEGIN:VEVENT
DTSTART;TZID=Europe/Berlin:20241215T120000
DTEND;TZID=Europe/Berlin:20241215T140000
DTSTAMP:20260424T201905
CREATED:20241122T083219Z
LAST-MODIFIED:20241122T083219Z
UID:10000502-1734264000-1734271200@freiraum-ronsdorf.de
SUMMARY:Bücherclub
DESCRIPTION:„Es gibt mehr Schätze in Büchern als Piratenbeute auf der Schatzinsel…und das Beste ist\, du kannst diesen Reichtum jeden Tag deines Lebens genießen.“\, sagte schon Walt Disney. \nWir\, Sofia\, Aliena und Selina\, möchten diesen Schätzen gemeinsam mit euch auf den Grund gehen.\nJeder hat Bücher\, die einen bewegt haben\, die Erinnerungen wecken oder die noch auf der Leseliste stehen. Am schönsten ist es doch\, wenn man diese miteinander teilen kann. \nMehr Infos.
URL:https://freiraum-ronsdorf.de/event/buecherclub-5/
LOCATION:Freiraum Ronsdorf\, In der Krim 12\, Wuppertal\, 42369
ATTACH;FMTTYPE=image/jpeg:https://freiraum-ronsdorf.de/wp-content/uploads/2024/04/Buecherclub.jpg
END:VEVENT
BEGIN:VEVENT
DTSTART;TZID=Europe/Berlin:20241212T150000
DTEND;TZID=Europe/Berlin:20241212T190000
DTSTAMP:20260424T201905
CREATED:20241111T165208Z
LAST-MODIFIED:20241111T165208Z
UID:10000500-1734015600-1734030000@freiraum-ronsdorf.de
SUMMARY:Café-Freiraum
DESCRIPTION:Freiraum Ronsdorf lädt ein! \nJeden Donnerstag öffnen wir unsere Türen für alle – ganz ohne feste Veranstaltung. Kommt vorbei und genießt eine entspannte Zeit: Ob bei einer Tasse Kaffee\, einem leckeren Stück Kuchen\, beim Stöbern in einem Buch oder einem kleinen Kicker-Match. Hier ist Platz für Begegnungen\, Gespräche und Gemeinschaft. Lasst uns den Tag gemeinsam genießen – wir freuen uns auf euch!
URL:https://freiraum-ronsdorf.de/event/cafe-freiraum-5/
LOCATION:Freiraum Ronsdorf\, In der Krim 12\, Wuppertal\, 42369
ATTACH;FMTTYPE=image/png:https://freiraum-ronsdorf.de/wp-content/uploads/2024/11/Cafe.png
END:VEVENT
BEGIN:VEVENT
DTSTART;TZID=Europe/Berlin:20241211T153000
DTEND;TZID=Europe/Berlin:20241211T170000
DTSTAMP:20260424T201905
CREATED:20241122T171716Z
LAST-MODIFIED:20241122T171716Z
UID:10000503-1733931000-1733936400@freiraum-ronsdorf.de
SUMMARY:Basteln: DIY Weihnachtsdeko aus Papier
DESCRIPTION:Wir basteln zusammen 3D Baumschmuck und Tischdeko\, einfach und schlicht aus Papier. Lasst euch überraschen\, der schnelle Erfolg ist garantiert. Die Ideen eignen sich übrigens auch super für ein gemeinsames Adventsbasteln mit Kindern\, allerdings sollten die Kids schon sicher im Umgang mit Schere und Klebstoff sein. Meldet euch gerne per E-Mail an\, die Plätze für diesen Nachmittag sind limitiert. \nWir freuen uns auf eine kreative\, gemeinsame Zeit \n 
URL:https://freiraum-ronsdorf.de/event/basteln-diy-weihnachtsdeko-aus-papier/
LOCATION:Freiraum Ronsdorf\, In der Krim 12\, Wuppertal\, 42369
ATTACH;FMTTYPE=image/jpeg:https://freiraum-ronsdorf.de/wp-content/uploads/2024/11/1000021453-scaled.jpg
END:VEVENT
BEGIN:VEVENT
DTSTART;TZID=Europe/Berlin:20241209T153000
DTEND;TZID=Europe/Berlin:20241209T190000
DTSTAMP:20260424T201905
CREATED:20240829T093258Z
LAST-MODIFIED:20240925T190720Z
UID:10000479-1733758200-1733770800@freiraum-ronsdorf.de
SUMMARY:Gesundheitskiste: Achtsamkeit/Wohlbefinden
DESCRIPTION:Im Freiraum stehen Euch alle 14 Tage die Gesundheitsberaterinnen der Gesundheitskiste\, einem Kooperationsprojekt zwischen der GESA Akademie und dem Gut Einern e.V.\, zur Verfügung.\nIn gemütlicher Atmosphäre zu Gesundheitsthemen beraten lassen! \nDas Thema dieses Mal: Achtsamkeit/Wohlbefinden. \nWeitere Informationen unter www.gesundheitskiste-wuppertal.de
URL:https://freiraum-ronsdorf.de/event/gesundheitskiste-achtsamkeit-wohlbefinden/
LOCATION:Freiraum Ronsdorf\, In der Krim 12\, Wuppertal\, 42369
ATTACH;FMTTYPE=image/jpeg:https://freiraum-ronsdorf.de/wp-content/uploads/2024/08/stones-6546233_1280.jpg
END:VEVENT
BEGIN:VEVENT
DTSTART;TZID=Europe/Berlin:20241207T150000
DTEND;TZID=Europe/Berlin:20241207T170000
DTSTAMP:20260424T201905
CREATED:20240827T111539Z
LAST-MODIFIED:20240827T111539Z
UID:10000462-1733583600-1733590800@freiraum-ronsdorf.de
SUMMARY:Strick-Café
DESCRIPTION:Eigene Projekte unter Gleichgesinnten in gemütlicher Café-Atmosphäre weiter stricken. \nWeitere Infos.
URL:https://freiraum-ronsdorf.de/event/strick-cafe-13/
LOCATION:Freiraum Ronsdorf\, In der Krim 12\, Wuppertal\, 42369
ATTACH;FMTTYPE=image/jpeg:https://freiraum-ronsdorf.de/wp-content/uploads/2023/12/Stricken_1.jpg
END:VEVENT
BEGIN:VEVENT
DTSTART;TZID=Europe/Berlin:20241205T150000
DTEND;TZID=Europe/Berlin:20241205T190000
DTSTAMP:20260424T201905
CREATED:20241111T165152Z
LAST-MODIFIED:20241111T165152Z
UID:10000499-1733410800-1733425200@freiraum-ronsdorf.de
SUMMARY:Café-Freiraum
DESCRIPTION:Freiraum Ronsdorf lädt ein! \nJeden Donnerstag öffnen wir unsere Türen für alle – ganz ohne feste Veranstaltung. Kommt vorbei und genießt eine entspannte Zeit: Ob bei einer Tasse Kaffee\, einem leckeren Stück Kuchen\, beim Stöbern in einem Buch oder einem kleinen Kicker-Match. Hier ist Platz für Begegnungen\, Gespräche und Gemeinschaft. Lasst uns den Tag gemeinsam genießen – wir freuen uns auf euch!
URL:https://freiraum-ronsdorf.de/event/cafe-freiraum-4/
LOCATION:Freiraum Ronsdorf\, In der Krim 12\, Wuppertal\, 42369
ATTACH;FMTTYPE=image/png:https://freiraum-ronsdorf.de/wp-content/uploads/2024/11/Cafe.png
END:VEVENT
BEGIN:VEVENT
DTSTART;TZID=Europe/Berlin:20241128T150000
DTEND;TZID=Europe/Berlin:20241128T190000
DTSTAMP:20260424T201905
CREATED:20241111T165130Z
LAST-MODIFIED:20241111T165130Z
UID:10000498-1732806000-1732820400@freiraum-ronsdorf.de
SUMMARY:Café-Freiraum
DESCRIPTION:Freiraum Ronsdorf lädt ein! \nJeden Donnerstag öffnen wir unsere Türen für alle – ganz ohne feste Veranstaltung. Kommt vorbei und genießt eine entspannte Zeit: Ob bei einer Tasse Kaffee\, einem leckeren Stück Kuchen\, beim Stöbern in einem Buch oder einem kleinen Kicker-Match. Hier ist Platz für Begegnungen\, Gespräche und Gemeinschaft. Lasst uns den Tag gemeinsam genießen – wir freuen uns auf euch!
URL:https://freiraum-ronsdorf.de/event/cafe-freiraum-3/
LOCATION:Freiraum Ronsdorf\, In der Krim 12\, Wuppertal\, 42369
ATTACH;FMTTYPE=image/png:https://freiraum-ronsdorf.de/wp-content/uploads/2024/11/Cafe.png
END:VEVENT
BEGIN:VEVENT
DTSTART;TZID=Europe/Berlin:20241125T153000
DTEND;TZID=Europe/Berlin:20241125T190000
DTSTAMP:20260424T201905
CREATED:20240925T190748Z
LAST-MODIFIED:20240925T190748Z
UID:10000485-1732548600-1732561200@freiraum-ronsdorf.de
SUMMARY:Gesundheitskiste: Magen/Darm
DESCRIPTION:Im Freiraum stehen Euch alle 14 Tage die Gesundheitsberaterinnen der Gesundheitskiste\, einem Kooperationsprojekt zwischen der GESA Akademie und dem Gut Einern e.V.\, zur Verfügung.\nIn gemütlicher Atmosphäre zu Gesundheitsthemen beraten lassen! \nDas Thema dieses Mal: Magen/Darm. \nWeitere Informationen unter www.gesundheitskiste-wuppertal.de
URL:https://freiraum-ronsdorf.de/event/gesundheitskiste-magen-darm-2/
LOCATION:Freiraum Ronsdorf\, In der Krim 12\, Wuppertal\, 42369
ATTACH;FMTTYPE=image/jpeg:https://freiraum-ronsdorf.de/wp-content/uploads/2024/08/ibs-5308379_1280.jpg
END:VEVENT
BEGIN:VEVENT
DTSTART;TZID=Europe/Berlin:20241123T150000
DTEND;TZID=Europe/Berlin:20241123T170000
DTSTAMP:20260424T201905
CREATED:20240827T111513Z
LAST-MODIFIED:20240827T111513Z
UID:10000461-1732374000-1732381200@freiraum-ronsdorf.de
SUMMARY:Strick-Café
DESCRIPTION:Eigene Projekte unter Gleichgesinnten in gemütlicher Café-Atmosphäre weiter stricken. \nWeitere Infos.
URL:https://freiraum-ronsdorf.de/event/strick-cafe-12/
LOCATION:Freiraum Ronsdorf\, In der Krim 12\, Wuppertal\, 42369
ATTACH;FMTTYPE=image/jpeg:https://freiraum-ronsdorf.de/wp-content/uploads/2023/12/Stricken_1.jpg
END:VEVENT
BEGIN:VEVENT
DTSTART;TZID=Europe/Berlin:20241121T150000
DTEND;TZID=Europe/Berlin:20241121T190000
DTSTAMP:20260424T201905
CREATED:20241111T165113Z
LAST-MODIFIED:20241111T165113Z
UID:10000497-1732201200-1732215600@freiraum-ronsdorf.de
SUMMARY:Café-Freiraum
DESCRIPTION:Freiraum Ronsdorf lädt ein! \nJeden Donnerstag öffnen wir unsere Türen für alle – ganz ohne feste Veranstaltung. Kommt vorbei und genießt eine entspannte Zeit: Ob bei einer Tasse Kaffee\, einem leckeren Stück Kuchen\, beim Stöbern in einem Buch oder einem kleinen Kicker-Match. Hier ist Platz für Begegnungen\, Gespräche und Gemeinschaft. Lasst uns den Tag gemeinsam genießen – wir freuen uns auf euch!
URL:https://freiraum-ronsdorf.de/event/cafe-freiraum-2/
LOCATION:Freiraum Ronsdorf\, In der Krim 12\, Wuppertal\, 42369
ATTACH;FMTTYPE=image/png:https://freiraum-ronsdorf.de/wp-content/uploads/2024/11/Cafe.png
END:VEVENT
BEGIN:VEVENT
DTSTART;TZID=Europe/Berlin:20241119T160000
DTEND;TZID=Europe/Berlin:20241119T180000
DTSTAMP:20260424T201905
CREATED:20241025T160302Z
LAST-MODIFIED:20241025T160302Z
UID:10000494-1732032000-1732039200@freiraum-ronsdorf.de
SUMMARY:Herbst-Basteln
DESCRIPTION:Weihnachten kommt dann doch immer schneller als man denkt. Wir laden alle Generationen herzlich zu einem gemeinsamen Bastelnachmittag ein! Wir treffen uns im Freiraum\, um kreativ zu werden und die weiße Jahreszeit vorzubereiten. Egal ob jung oder alt\, ob mit Kindern oder Großeltern – jeder ist willkommen\, mit uns wunderschöne Wintersterne zu basteln. Materialien und Ideen sind vorhanden\, bringt einfach gute Laune und Freude am Gestalten mit! Wir freuen uns auf einen gemütlichen und kreativen Nachmittag mit euch. \nGeeignet für Kinder ab ca. 4 Jahren\, genauso wie für Erwachsene.
URL:https://freiraum-ronsdorf.de/event/herbst-basteln-2/
LOCATION:Freiraum Ronsdorf\, In der Krim 12\, Wuppertal\, 42369
ATTACH;FMTTYPE=image/png:https://freiraum-ronsdorf.de/wp-content/uploads/2024/10/Bildschirmfoto-2024-10-25-um-18.01.54.png
END:VEVENT
BEGIN:VEVENT
DTSTART;TZID=Europe/Berlin:20241117T120000
DTEND;TZID=Europe/Berlin:20241117T140000
DTSTAMP:20260424T201905
CREATED:20241108T112502Z
LAST-MODIFIED:20241108T112502Z
UID:10000495-1731844800-1731852000@freiraum-ronsdorf.de
SUMMARY:Bücherclub
DESCRIPTION:„Es gibt mehr Schätze in Büchern als Piratenbeute auf der Schatzinsel…und das Beste ist\, du kannst diesen Reichtum jeden Tag deines Lebens genießen.“\, sagte schon Walt Disney. \nWir\, Sofia\, Aliena und Selina\, möchten diesen Schätzen gemeinsam mit euch auf den Grund gehen.\nJeder hat Bücher\, die einen bewegt haben\, die Erinnerungen wecken oder die noch auf der Leseliste stehen. Am schönsten ist es doch\, wenn man diese miteinander teilen kann. \nMehr Infos.
URL:https://freiraum-ronsdorf.de/event/buecherclub-4/
LOCATION:Freiraum Ronsdorf\, In der Krim 12\, Wuppertal\, 42369
ATTACH;FMTTYPE=image/jpeg:https://freiraum-ronsdorf.de/wp-content/uploads/2024/04/Buecherclub.jpg
END:VEVENT
BEGIN:VEVENT
DTSTART;TZID=Europe/Berlin:20241114T150000
DTEND;TZID=Europe/Berlin:20241114T190000
DTSTAMP:20260424T201905
CREATED:20241111T165043Z
LAST-MODIFIED:20241111T165043Z
UID:10000496-1731596400-1731610800@freiraum-ronsdorf.de
SUMMARY:Café-Freiraum
DESCRIPTION:Freiraum Ronsdorf lädt ein! \nJeden Donnerstag öffnen wir unsere Türen für alle – ganz ohne feste Veranstaltung. Kommt vorbei und genießt eine entspannte Zeit: Ob bei einer Tasse Kaffee\, einem leckeren Stück Kuchen\, beim Stöbern in einem Buch oder einem kleinen Kicker-Match. Hier ist Platz für Begegnungen\, Gespräche und Gemeinschaft. Lasst uns den Tag gemeinsam genießen – wir freuen uns auf euch!
URL:https://freiraum-ronsdorf.de/event/cafe-freiraum/
LOCATION:Freiraum Ronsdorf\, In der Krim 12\, Wuppertal\, 42369
ATTACH;FMTTYPE=image/png:https://freiraum-ronsdorf.de/wp-content/uploads/2024/11/Cafe.png
END:VEVENT
BEGIN:VEVENT
DTSTART;TZID=Europe/Berlin:20241109T173000
DTEND;TZID=Europe/Berlin:20241109T190000
DTSTAMP:20260424T201905
CREATED:20240815T055414Z
LAST-MODIFIED:20240815T055414Z
UID:10000442-1731173400-1731178800@freiraum-ronsdorf.de
SUMMARY:Veganer-Stammtisch
DESCRIPTION:Wir wollen einen schönen Abend bei mitgebrachten veganen Gerichten verbringen und Ideen\, Tipps und Tricks austauschen.\nWir finden heraus\, wie wir tolle Gerichte und Snacks ganz ohne Lebensmittel tierischen Ursprungs zaubern können. \nWenn Ihr schon etwas Erfahrung habt\, tragt auch gerne schon mit eurer Kreation zum Mitbringbuffet bei. \nMehr Infos.
URL:https://freiraum-ronsdorf.de/event/veganer-stammtisch/
LOCATION:Freiraum Ronsdorf\, In der Krim 12\, Wuppertal\, 42369
ATTACH;FMTTYPE=image/jpeg:https://freiraum-ronsdorf.de/wp-content/uploads/2024/05/Lecker-Gemuese.jpg
END:VEVENT
BEGIN:VEVENT
DTSTART;TZID=Europe/Berlin:20241109T150000
DTEND;TZID=Europe/Berlin:20241109T170000
DTSTAMP:20260424T201905
CREATED:20240827T111448Z
LAST-MODIFIED:20240827T111448Z
UID:10000460-1731164400-1731171600@freiraum-ronsdorf.de
SUMMARY:Strick-Café
DESCRIPTION:Eigene Projekte unter Gleichgesinnten in gemütlicher Café-Atmosphäre weiter stricken. \nWeitere Infos.
URL:https://freiraum-ronsdorf.de/event/strick-cafe-11/
LOCATION:Freiraum Ronsdorf\, In der Krim 12\, Wuppertal\, 42369
ATTACH;FMTTYPE=image/jpeg:https://freiraum-ronsdorf.de/wp-content/uploads/2023/12/Stricken_1.jpg
END:VEVENT
BEGIN:VEVENT
DTSTART;TZID=Europe/Berlin:20241102T100000
DTEND;TZID=Europe/Berlin:20241102T140000
DTSTAMP:20260424T201905
CREATED:20240614T234304Z
LAST-MODIFIED:20240614T234304Z
UID:10000420-1730541600-1730556000@freiraum-ronsdorf.de
SUMMARY:Kleidertauschparty
DESCRIPTION:Unter dem Motto „Tauschen statt kaufen!“ treffen wir uns im Vereinsheim und tauschen was das Zeug hält.\nJeder kann maximal 10 gewaschene\, gut erhaltene Kleidungsstücke mitbringen. \nMehr Infos.
URL:https://freiraum-ronsdorf.de/event/kleidertauschparty/
LOCATION:Freiraum Ronsdorf\, In der Krim 12\, Wuppertal\, 42369
ATTACH;FMTTYPE=image/jpeg:https://freiraum-ronsdorf.de/wp-content/uploads/2023/12/boutique-6796399_1280.jpg
END:VEVENT
BEGIN:VEVENT
DTSTART;TZID=Europe/Berlin:20241028T153000
DTEND;TZID=Europe/Berlin:20241028T190000
DTSTAMP:20260424T201905
CREATED:20240925T190344Z
LAST-MODIFIED:20240925T190344Z
UID:10000483-1730129400-1730142000@freiraum-ronsdorf.de
SUMMARY:Gesundheitskiste: Erkältung (Hausmittel)
DESCRIPTION:Im Freiraum stehen Euch alle 14 Tage die Gesundheitsberaterinnen der Gesundheitskiste\, einem Kooperationsprojekt zwischen der GESA Akademie und dem Gut Einern e.V.\, zur Verfügung.\nIn gemütlicher Atmosphäre zu Gesundheitsthemen beraten lassen! \nDas Thema dieses Mal: Erkältung (Hausmittel). \nWeitere Informationen unter www.gesundheitskiste-wuppertal.de
URL:https://freiraum-ronsdorf.de/event/gesundheitskiste-erkaeltung-hausmittel/
LOCATION:Freiraum Ronsdorf\, In der Krim 12\, Wuppertal\, 42369
ATTACH;FMTTYPE=image/jpeg:https://freiraum-ronsdorf.de/wp-content/uploads/2024/08/ill-298909_1280.jpg
END:VEVENT
BEGIN:VEVENT
DTSTART;TZID=Europe/Berlin:20241027T120000
DTEND;TZID=Europe/Berlin:20241027T140000
DTSTAMP:20260424T201905
CREATED:20240903T110159Z
LAST-MODIFIED:20240903T110159Z
UID:10000481-1730030400-1730037600@freiraum-ronsdorf.de
SUMMARY:Bücherclub
DESCRIPTION:„Es gibt mehr Schätze in Büchern als Piratenbeute auf der Schatzinsel…und das Beste ist\, du kannst diesen Reichtum jeden Tag deines Lebens genießen.“\, sagte schon Walt Disney. \nWir\, Sofia\, Aliena und Selina\, möchten diesen Schätzen gemeinsam mit euch auf den Grund gehen.\nJeder hat Bücher\, die einen bewegt haben\, die Erinnerungen wecken oder die noch auf der Leseliste stehen. Am schönsten ist es doch\, wenn man diese miteinander teilen kann. \nMehr Infos.
URL:https://freiraum-ronsdorf.de/event/buecherclub-3/
LOCATION:Freiraum Ronsdorf\, In der Krim 12\, Wuppertal\, 42369
ATTACH;FMTTYPE=image/jpeg:https://freiraum-ronsdorf.de/wp-content/uploads/2024/04/Buecherclub.jpg
END:VEVENT
BEGIN:VEVENT
DTSTART;TZID=Europe/Berlin:20241026T150000
DTEND;TZID=Europe/Berlin:20241026T170000
DTSTAMP:20260424T201905
CREATED:20240827T111103Z
LAST-MODIFIED:20240827T111103Z
UID:10000453-1729954800-1729962000@freiraum-ronsdorf.de
SUMMARY:Strick-Café
DESCRIPTION:Eigene Projekte unter Gleichgesinnten in gemütlicher Café-Atmosphäre weiter stricken. \nWeitere Infos.
URL:https://freiraum-ronsdorf.de/event/strick-cafe-10/
LOCATION:Freiraum Ronsdorf\, In der Krim 12\, Wuppertal\, 42369
ATTACH;FMTTYPE=image/jpeg:https://freiraum-ronsdorf.de/wp-content/uploads/2023/12/Stricken_1.jpg
END:VEVENT
BEGIN:VEVENT
DTSTART;TZID=Europe/Berlin:20241019T120000
DTEND;TZID=Europe/Berlin:20241019T190000
DTSTAMP:20260424T201905
CREATED:20240827T112606Z
LAST-MODIFIED:20240827T112606Z
UID:10000474-1729339200-1729364400@freiraum-ronsdorf.de
SUMMARY:Tabletop - Warhammer
DESCRIPTION:Wir möchten gemeinsam Warhammer zocken. \nKommt gern dazu und schaut es Euch an. Wenn ihr selbst erfahren seid\, meldet Euch gern an\, damit wir die Spiele planen können. \nMehr Infos.
URL:https://freiraum-ronsdorf.de/event/tabletop-warhammer/
LOCATION:Freiraum Ronsdorf\, In der Krim 12\, Wuppertal\, 42369
ATTACH;FMTTYPE=image/jpeg:https://freiraum-ronsdorf.de/wp-content/uploads/2024/01/tabletop-6031564_1280.jpg
END:VEVENT
END:VCALENDAR