BEGIN:VCALENDAR
VERSION:2.0
PRODID:-//Freiraum Ronsdorf - ECPv6.5.1.3//NONSGML v1.0//EN
CALSCALE:GREGORIAN
METHOD:PUBLISH
X-WR-CALNAME:Freiraum Ronsdorf
X-ORIGINAL-URL:https://freiraum-ronsdorf.de
X-WR-CALDESC:Veranstaltungen für Freiraum Ronsdorf
REFRESH-INTERVAL;VALUE=DURATION:PT1H
X-Robots-Tag:noindex
X-PUBLISHED-TTL:PT1H
BEGIN:VTIMEZONE
TZID:Europe/Berlin
BEGIN:DAYLIGHT
TZOFFSETFROM:+0100
TZOFFSETTO:+0200
TZNAME:CEST
DTSTART:20250330T010000
END:DAYLIGHT
BEGIN:STANDARD
TZOFFSETFROM:+0200
TZOFFSETTO:+0100
TZNAME:CET
DTSTART:20251026T010000
END:STANDARD
END:VTIMEZONE
BEGIN:VEVENT
DTSTART;TZID=Europe/Berlin:20250328T100000
DTEND;TZID=Europe/Berlin:20250328T113000
DTSTAMP:20260424T135538
CREATED:20250205T094535Z
LAST-MODIFIED:20250205T094535Z
UID:10000573-1743156000-1743161400@freiraum-ronsdorf.de
SUMMARY:Krabbelgruppe
DESCRIPTION:Wir freuen uns eine Krabbelgruppe anbieten zu dürfen! \nHier treffen sich Mütter mit Kindern von 0 bis 3 Jahren\, um in entspannter Atmosphäre eine schöne Zeit zu verbringen.\nWährend die Kleinen gemeinsam spielen und die Welt entdecken\, bleibt den Müttern Raum für Austausch\, Gespräche und gegenseitige Unterstützung. \nBei einer Tasse Kaffee oder Tee und kleinen Leckereien könnt ihr den Vormittag genießen und euch in unserem gemütlichen Wohlfühlort eine Auszeit gönnen.\nWir freuen uns darauf\, eine herzliche Gemeinschaft zu schaffen\, in der Groß und Klein sich wohlfühlen. Kommt vorbei und erlebt schöne Stunden mit uns!
URL:https://freiraum-ronsdorf.de/event/krabbelgruppe-8/
LOCATION:Freiraum Ronsdorf\, In der Krim 12\, Wuppertal\, 42369
ATTACH;FMTTYPE=image/png:https://freiraum-ronsdorf.de/wp-content/uploads/2025/01/Navy-Organic-Childrens-Playgroup-Advertisement-Flyer.png
END:VEVENT
BEGIN:VEVENT
DTSTART;TZID=Europe/Berlin:20250327T150000
DTEND;TZID=Europe/Berlin:20250327T180000
DTSTAMP:20260424T135538
CREATED:20250110T171842Z
LAST-MODIFIED:20250110T171910Z
UID:10000543-1743087600-1743098400@freiraum-ronsdorf.de
SUMMARY:Café-Freiraum
DESCRIPTION:Freiraum Ronsdorf lädt ein! \nJeden Donnerstag öffnen wir unsere Türen für alle – ganz ohne feste Veranstaltung. Kommt vorbei und genießt eine entspannte Zeit: Ob bei einer Tasse Kaffee\, einem leckeren Stück Kuchen\, beim Stöbern in einem Buch oder einem kleinen Kicker-Match. Hier ist Platz für Begegnungen\, Gespräche und Gemeinschaft. Lasst uns den Tag gemeinsam genießen – wir freuen uns auf euch!
URL:https://freiraum-ronsdorf.de/event/cafe-freiraum-17/
LOCATION:Freiraum Ronsdorf\, In der Krim 12\, Wuppertal\, 42369
ATTACH;FMTTYPE=image/png:https://freiraum-ronsdorf.de/wp-content/uploads/2024/12/Cafe.png
END:VEVENT
BEGIN:VEVENT
DTSTART;TZID=Europe/Berlin:20250325T100000
DTEND;TZID=Europe/Berlin:20250325T170000
DTSTAMP:20260424T135538
CREATED:20250110T172245Z
LAST-MODIFIED:20250110T172245Z
UID:10000553-1742896800-1742922000@freiraum-ronsdorf.de
SUMMARY:Veeh-Harfen - Ensemble Probe
DESCRIPTION:Das Veeh-Harfen-Ensemble mit Urte Rohda probt im Freiraum. \nWer Interesse an dem Instrument hat und sich eine Probe ansehen möchte\, darf sich gern per E-Mail oder über das Kontaktformular unserer Website melden. \n 
URL:https://freiraum-ronsdorf.de/event/veeh-harfen-ensemble-probe-12/
LOCATION:Freiraum Ronsdorf\, In der Krim 12\, Wuppertal\, 42369
ATTACH;FMTTYPE=image/jpeg:https://freiraum-ronsdorf.de/wp-content/uploads/2025/01/MG_6123-scaled.jpg
END:VEVENT
BEGIN:VEVENT
DTSTART;TZID=Europe/Berlin:20250324T190000
DTEND;TZID=Europe/Berlin:20250324T203000
DTSTAMP:20260424T135538
CREATED:20250110T172057Z
LAST-MODIFIED:20250110T172057Z
UID:10000548-1742842800-1742848200@freiraum-ronsdorf.de
SUMMARY:Niederländisch Kurs
DESCRIPTION:Beste mensen! (was soviel heißt wie: Liebe Leute!) \nIm Freiraum gibt es ab sofort die Möglichkeit\, Niederländisch zu lernen.\nWir treffen uns wöchentlich in geselliger Runde zum Plaudern und lernen dabei Grundlagen der Niederländischen Sprache und Themen kennen\, über die man als Niederlande-Fan immer schonmal reden wollte. \nEine Anmeldung ist nicht erforderlich. Kommt einfach vorbei. \nWij gaan Hollands praten.\nTot ziens \nHeike Blombach
URL:https://freiraum-ronsdorf.de/event/niederlaendisch-kurs-11/
LOCATION:Freiraum Ronsdorf\, In der Krim 12\, Wuppertal\, 42369
ATTACH;FMTTYPE=image/png:https://freiraum-ronsdorf.de/wp-content/uploads/2024/12/Blue-Photo-Collage-Hello-August-Instagram-Post-1.png
END:VEVENT
BEGIN:VEVENT
DTSTART;TZID=Europe/Berlin:20250322T100000
DTEND;TZID=Europe/Berlin:20250322T140000
DTSTAMP:20260424T135538
CREATED:20250113T171927Z
LAST-MODIFIED:20250113T171927Z
UID:10000560-1742637600-1742652000@freiraum-ronsdorf.de
SUMMARY:Kleidertauschparty
DESCRIPTION:Unter dem Motto „Tauschen statt kaufen!“ treffen wir uns im Vereinsheim und tauschen was das Zeug hält.\nJeder kann maximal 10 gewaschene\, gut erhaltene Kleidungsstücke mitbringen.
URL:https://freiraum-ronsdorf.de/event/kleidertauschparty-2/
LOCATION:Freiraum Ronsdorf\, In der Krim 12\, Wuppertal\, 42369
ATTACH;FMTTYPE=image/jpeg:https://freiraum-ronsdorf.de/wp-content/uploads/2023/12/boutique-6796399_1280.jpg
END:VEVENT
BEGIN:VEVENT
DTSTART;TZID=Europe/Berlin:20250320T150000
DTEND;TZID=Europe/Berlin:20250320T180000
DTSTAMP:20260424T135538
CREATED:20250110T171925Z
LAST-MODIFIED:20250110T171925Z
UID:10000544-1742482800-1742493600@freiraum-ronsdorf.de
SUMMARY:Café-Freiraum
DESCRIPTION:Freiraum Ronsdorf lädt ein! \nJeden Donnerstag öffnen wir unsere Türen für alle – ganz ohne feste Veranstaltung. Kommt vorbei und genießt eine entspannte Zeit: Ob bei einer Tasse Kaffee\, einem leckeren Stück Kuchen\, beim Stöbern in einem Buch oder einem kleinen Kicker-Match. Hier ist Platz für Begegnungen\, Gespräche und Gemeinschaft. Lasst uns den Tag gemeinsam genießen – wir freuen uns auf euch!
URL:https://freiraum-ronsdorf.de/event/cafe-freiraum-18/
LOCATION:Freiraum Ronsdorf\, In der Krim 12\, Wuppertal\, 42369
ATTACH;FMTTYPE=image/png:https://freiraum-ronsdorf.de/wp-content/uploads/2024/12/Cafe.png
END:VEVENT
BEGIN:VEVENT
DTSTART;TZID=Europe/Berlin:20250318T100000
DTEND;TZID=Europe/Berlin:20250318T170000
DTSTAMP:20260424T135538
CREATED:20250110T172233Z
LAST-MODIFIED:20250110T172233Z
UID:10000552-1742292000-1742317200@freiraum-ronsdorf.de
SUMMARY:Veeh-Harfen - Ensemble Probe
DESCRIPTION:Das Veeh-Harfen-Ensemble mit Urte Rohda probt im Freiraum. \nWer Interesse an dem Instrument hat und sich eine Probe ansehen möchte\, darf sich gern per E-Mail oder über das Kontaktformular unserer Website melden. \n 
URL:https://freiraum-ronsdorf.de/event/veeh-harfen-ensemble-probe-11/
LOCATION:Freiraum Ronsdorf\, In der Krim 12\, Wuppertal\, 42369
ATTACH;FMTTYPE=image/jpeg:https://freiraum-ronsdorf.de/wp-content/uploads/2025/01/MG_6123-scaled.jpg
END:VEVENT
BEGIN:VEVENT
DTSTART;TZID=Europe/Berlin:20250317T190000
DTEND;TZID=Europe/Berlin:20250317T203000
DTSTAMP:20260424T135538
CREATED:20250110T172043Z
LAST-MODIFIED:20250110T172043Z
UID:10000547-1742238000-1742243400@freiraum-ronsdorf.de
SUMMARY:Niederländisch Kurs
DESCRIPTION:Beste mensen! (was soviel heißt wie: Liebe Leute!) \nIm Freiraum gibt es ab sofort die Möglichkeit\, Niederländisch zu lernen.\nWir treffen uns wöchentlich in geselliger Runde zum Plaudern und lernen dabei Grundlagen der Niederländischen Sprache und Themen kennen\, über die man als Niederlande-Fan immer schonmal reden wollte. \nEine Anmeldung ist nicht erforderlich. Kommt einfach vorbei. \nWij gaan Hollands praten.\nTot ziens \nHeike Blombach
URL:https://freiraum-ronsdorf.de/event/niederlaendisch-kurs-10/
LOCATION:Freiraum Ronsdorf\, In der Krim 12\, Wuppertal\, 42369
ATTACH;FMTTYPE=image/png:https://freiraum-ronsdorf.de/wp-content/uploads/2024/12/Blue-Photo-Collage-Hello-August-Instagram-Post-1.png
END:VEVENT
BEGIN:VEVENT
DTSTART;TZID=Europe/Berlin:20250315T150000
DTEND;TZID=Europe/Berlin:20250315T170000
DTSTAMP:20260424T135538
CREATED:20250110T172557Z
LAST-MODIFIED:20250110T172557Z
UID:10000556-1742050800-1742058000@freiraum-ronsdorf.de
SUMMARY:Strick-Café
DESCRIPTION:Eigene Projekte unter Gleichgesinnten in gemütlicher Café-Atmosphäre weiter stricken. \nWeitere Infos.
URL:https://freiraum-ronsdorf.de/event/strick-cafe-20/
LOCATION:Freiraum Ronsdorf\, In der Krim 12\, Wuppertal\, 42369
ATTACH;FMTTYPE=image/jpeg:https://freiraum-ronsdorf.de/wp-content/uploads/2023/12/Stricken_1.jpg
END:VEVENT
BEGIN:VEVENT
DTSTART;TZID=Europe/Berlin:20250314T100000
DTEND;TZID=Europe/Berlin:20250314T113000
DTSTAMP:20260424T135538
CREATED:20250205T094503Z
LAST-MODIFIED:20250205T094503Z
UID:10000571-1741946400-1741951800@freiraum-ronsdorf.de
SUMMARY:Krabbelgruppe
DESCRIPTION:Wir freuen uns eine Krabbelgruppe anbieten zu dürfen! \nHier treffen sich Mütter mit Kindern von 0 bis 3 Jahren\, um in entspannter Atmosphäre eine schöne Zeit zu verbringen.\nWährend die Kleinen gemeinsam spielen und die Welt entdecken\, bleibt den Müttern Raum für Austausch\, Gespräche und gegenseitige Unterstützung. \nBei einer Tasse Kaffee oder Tee und kleinen Leckereien könnt ihr den Vormittag genießen und euch in unserem gemütlichen Wohlfühlort eine Auszeit gönnen.\nWir freuen uns darauf\, eine herzliche Gemeinschaft zu schaffen\, in der Groß und Klein sich wohlfühlen. Kommt vorbei und erlebt schöne Stunden mit uns!
URL:https://freiraum-ronsdorf.de/event/krabbelgruppe-6/
LOCATION:Freiraum Ronsdorf\, In der Krim 12\, Wuppertal\, 42369
ATTACH;FMTTYPE=image/png:https://freiraum-ronsdorf.de/wp-content/uploads/2025/01/Navy-Organic-Childrens-Playgroup-Advertisement-Flyer.png
END:VEVENT
BEGIN:VEVENT
DTSTART;TZID=Europe/Berlin:20250313T150000
DTEND;TZID=Europe/Berlin:20250313T180000
DTSTAMP:20260424T135538
CREATED:20250110T171830Z
LAST-MODIFIED:20250110T171830Z
UID:10000542-1741878000-1741888800@freiraum-ronsdorf.de
SUMMARY:Café-Freiraum
DESCRIPTION:Freiraum Ronsdorf lädt ein! \nJeden Donnerstag öffnen wir unsere Türen für alle – ganz ohne feste Veranstaltung. Kommt vorbei und genießt eine entspannte Zeit: Ob bei einer Tasse Kaffee\, einem leckeren Stück Kuchen\, beim Stöbern in einem Buch oder einem kleinen Kicker-Match. Hier ist Platz für Begegnungen\, Gespräche und Gemeinschaft. Lasst uns den Tag gemeinsam genießen – wir freuen uns auf euch!
URL:https://freiraum-ronsdorf.de/event/cafe-freiraum-16/
LOCATION:Freiraum Ronsdorf\, In der Krim 12\, Wuppertal\, 42369
ATTACH;FMTTYPE=image/png:https://freiraum-ronsdorf.de/wp-content/uploads/2024/12/Cafe.png
END:VEVENT
BEGIN:VEVENT
DTSTART;TZID=Europe/Berlin:20250311T100000
DTEND;TZID=Europe/Berlin:20250311T170000
DTSTAMP:20260424T135538
CREATED:20250110T172215Z
LAST-MODIFIED:20250110T172215Z
UID:10000551-1741687200-1741712400@freiraum-ronsdorf.de
SUMMARY:Veeh-Harfen - Ensemble Probe
DESCRIPTION:Das Veeh-Harfen-Ensemble mit Urte Rohda probt im Freiraum. \nWer Interesse an dem Instrument hat und sich eine Probe ansehen möchte\, darf sich gern per E-Mail oder über das Kontaktformular unserer Website melden. \n 
URL:https://freiraum-ronsdorf.de/event/veeh-harfen-ensemble-probe-10/
LOCATION:Freiraum Ronsdorf\, In der Krim 12\, Wuppertal\, 42369
ATTACH;FMTTYPE=image/jpeg:https://freiraum-ronsdorf.de/wp-content/uploads/2025/01/MG_6123-scaled.jpg
END:VEVENT
BEGIN:VEVENT
DTSTART;TZID=Europe/Berlin:20250310T190000
DTEND;TZID=Europe/Berlin:20250310T203000
DTSTAMP:20260424T135538
CREATED:20250110T172024Z
LAST-MODIFIED:20250110T172024Z
UID:10000546-1741633200-1741638600@freiraum-ronsdorf.de
SUMMARY:Niederländisch Kurs
DESCRIPTION:Beste mensen! (was soviel heißt wie: Liebe Leute!) \nIm Freiraum gibt es ab sofort die Möglichkeit\, Niederländisch zu lernen.\nWir treffen uns wöchentlich in geselliger Runde zum Plaudern und lernen dabei Grundlagen der Niederländischen Sprache und Themen kennen\, über die man als Niederlande-Fan immer schonmal reden wollte. \nEine Anmeldung ist nicht erforderlich. Kommt einfach vorbei. \nWij gaan Hollands praten.\nTot ziens \nHeike Blombach
URL:https://freiraum-ronsdorf.de/event/niederlaendisch-kurs-9/
LOCATION:Freiraum Ronsdorf\, In der Krim 12\, Wuppertal\, 42369
ATTACH;FMTTYPE=image/png:https://freiraum-ronsdorf.de/wp-content/uploads/2024/12/Blue-Photo-Collage-Hello-August-Instagram-Post-1.png
END:VEVENT
BEGIN:VEVENT
DTSTART;TZID=Europe/Berlin:20250309T120000
DTEND;TZID=Europe/Berlin:20250309T140000
DTSTAMP:20260424T135538
CREATED:20250121T194100Z
LAST-MODIFIED:20250121T194100Z
UID:10000562-1741521600-1741528800@freiraum-ronsdorf.de
SUMMARY:Bücherclub
DESCRIPTION:„Es gibt mehr Schätze in Büchern als Piratenbeute auf der Schatzinsel…und das Beste ist\, du kannst diesen Reichtum jeden Tag deines Lebens genießen.“\, sagte schon Walt Disney. \nWir\, Sofia\, Aliena und Selina\, möchten diesen Schätzen gemeinsam mit euch auf den Grund gehen.\nJeder hat Bücher\, die einen bewegt haben\, die Erinnerungen wecken oder die noch auf der Leseliste stehen. Am schönsten ist es doch\, wenn man diese miteinander teilen kann. \nDie neue Challenge für das nächste Treffen:\nBuch eines Autors/einer Autorin der/die vor 1950 verstorben ist. \nUnd passend dazu können alle die möchten bis zum nächsten Treffen auch „Stolz und Vorurteil“ von Jane Austen lesen.
URL:https://freiraum-ronsdorf.de/event/buecherclub-7/
LOCATION:Freiraum Ronsdorf\, In der Krim 12\, Wuppertal\, 42369
ATTACH;FMTTYPE=image/jpeg:https://freiraum-ronsdorf.de/wp-content/uploads/2024/04/Buecherclub.jpg
END:VEVENT
BEGIN:VEVENT
DTSTART;TZID=Europe/Berlin:20250307T100000
DTEND;TZID=Europe/Berlin:20250307T113000
DTSTAMP:20260424T135538
CREATED:20250205T094447Z
LAST-MODIFIED:20250205T094447Z
UID:10000570-1741341600-1741347000@freiraum-ronsdorf.de
SUMMARY:Krabbelgruppe
DESCRIPTION:Wir freuen uns eine Krabbelgruppe anbieten zu dürfen! \nHier treffen sich Mütter mit Kindern von 0 bis 3 Jahren\, um in entspannter Atmosphäre eine schöne Zeit zu verbringen.\nWährend die Kleinen gemeinsam spielen und die Welt entdecken\, bleibt den Müttern Raum für Austausch\, Gespräche und gegenseitige Unterstützung. \nBei einer Tasse Kaffee oder Tee und kleinen Leckereien könnt ihr den Vormittag genießen und euch in unserem gemütlichen Wohlfühlort eine Auszeit gönnen.\nWir freuen uns darauf\, eine herzliche Gemeinschaft zu schaffen\, in der Groß und Klein sich wohlfühlen. Kommt vorbei und erlebt schöne Stunden mit uns!
URL:https://freiraum-ronsdorf.de/event/krabbelgruppe-5/
LOCATION:Freiraum Ronsdorf\, In der Krim 12\, Wuppertal\, 42369
ATTACH;FMTTYPE=image/png:https://freiraum-ronsdorf.de/wp-content/uploads/2025/01/Navy-Organic-Childrens-Playgroup-Advertisement-Flyer.png
END:VEVENT
BEGIN:VEVENT
DTSTART;TZID=Europe/Berlin:20250306T150000
DTEND;TZID=Europe/Berlin:20250306T180000
DTSTAMP:20260424T135538
CREATED:20250110T171815Z
LAST-MODIFIED:20250110T171815Z
UID:10000541-1741273200-1741284000@freiraum-ronsdorf.de
SUMMARY:Café-Freiraum
DESCRIPTION:Freiraum Ronsdorf lädt ein! \nJeden Donnerstag öffnen wir unsere Türen für alle – ganz ohne feste Veranstaltung. Kommt vorbei und genießt eine entspannte Zeit: Ob bei einer Tasse Kaffee\, einem leckeren Stück Kuchen\, beim Stöbern in einem Buch oder einem kleinen Kicker-Match. Hier ist Platz für Begegnungen\, Gespräche und Gemeinschaft. Lasst uns den Tag gemeinsam genießen – wir freuen uns auf euch!
URL:https://freiraum-ronsdorf.de/event/cafe-freiraum-7/
LOCATION:Freiraum Ronsdorf\, In der Krim 12\, Wuppertal\, 42369
ATTACH;FMTTYPE=image/png:https://freiraum-ronsdorf.de/wp-content/uploads/2024/12/Cafe.png
END:VEVENT
BEGIN:VEVENT
DTSTART;TZID=Europe/Berlin:20250304T170000
DTEND;TZID=Europe/Berlin:20250304T190000
DTSTAMP:20260424T135538
CREATED:20250110T172443Z
LAST-MODIFIED:20250113T130518Z
UID:10000554-1741107600-1741114800@freiraum-ronsdorf.de
SUMMARY:Harfen-Café
DESCRIPTION:Jeden ersten Dienstag im Monat lädt Urte Rohda herzlich dazu ein\, die Veeh-Harfe kennenzulernen und auszuprobieren. In gemütlicher Atmosphäre genießen wir gemeinsam Kaffee\, Knabbereien und musikalische Klänge. Ob mit oder ohne Vorkenntnisse – einfach vorbeikommen und den Zauber der Musik entdecken!
URL:https://freiraum-ronsdorf.de/event/harfen-cafe-2/
LOCATION:Freiraum Ronsdorf\, In der Krim 12\, Wuppertal\, 42369
ATTACH;FMTTYPE=image/png:https://freiraum-ronsdorf.de/wp-content/uploads/2025/01/Blue-Photo-Collage-Hello-August-Instagram-Post.png
END:VEVENT
BEGIN:VEVENT
DTSTART;TZID=Europe/Berlin:20250304T100000
DTEND;TZID=Europe/Berlin:20250304T170000
DTSTAMP:20260424T135538
CREATED:20250110T172201Z
LAST-MODIFIED:20250110T172201Z
UID:10000550-1741082400-1741107600@freiraum-ronsdorf.de
SUMMARY:Veeh-Harfen - Ensemble Probe
DESCRIPTION:Das Veeh-Harfen-Ensemble mit Urte Rohda probt im Freiraum. \nWer Interesse an dem Instrument hat und sich eine Probe ansehen möchte\, darf sich gern per E-Mail oder über das Kontaktformular unserer Website melden. \n 
URL:https://freiraum-ronsdorf.de/event/veeh-harfen-ensemble-probe-9/
LOCATION:Freiraum Ronsdorf\, In der Krim 12\, Wuppertal\, 42369
ATTACH;FMTTYPE=image/jpeg:https://freiraum-ronsdorf.de/wp-content/uploads/2025/01/MG_6123-scaled.jpg
END:VEVENT
BEGIN:VEVENT
DTSTART;TZID=Europe/Berlin:20250303T190000
DTEND;TZID=Europe/Berlin:20250303T203000
DTSTAMP:20260424T135538
CREATED:20250110T172010Z
LAST-MODIFIED:20250110T172010Z
UID:10000545-1741028400-1741033800@freiraum-ronsdorf.de
SUMMARY:Niederländisch Kurs
DESCRIPTION:Beste mensen! (was soviel heißt wie: Liebe Leute!) \nIm Freiraum gibt es ab sofort die Möglichkeit\, Niederländisch zu lernen.\nWir treffen uns wöchentlich in geselliger Runde zum Plaudern und lernen dabei Grundlagen der Niederländischen Sprache und Themen kennen\, über die man als Niederlande-Fan immer schonmal reden wollte. \nEine Anmeldung ist nicht erforderlich. Kommt einfach vorbei. \nWij gaan Hollands praten.\nTot ziens \nHeike Blombach
URL:https://freiraum-ronsdorf.de/event/niederlaendisch-kurs-8/
LOCATION:Freiraum Ronsdorf\, In der Krim 12\, Wuppertal\, 42369
ATTACH;FMTTYPE=image/png:https://freiraum-ronsdorf.de/wp-content/uploads/2024/12/Blue-Photo-Collage-Hello-August-Instagram-Post-1.png
END:VEVENT
BEGIN:VEVENT
DTSTART;TZID=Europe/Berlin:20250301T150000
DTEND;TZID=Europe/Berlin:20250301T170000
DTSTAMP:20260424T135538
CREATED:20250110T172530Z
LAST-MODIFIED:20250110T172530Z
UID:10000555-1740841200-1740848400@freiraum-ronsdorf.de
SUMMARY:Strick-Café
DESCRIPTION:Eigene Projekte unter Gleichgesinnten in gemütlicher Café-Atmosphäre weiter stricken. \nWeitere Infos.
URL:https://freiraum-ronsdorf.de/event/strick-cafe-19/
LOCATION:Freiraum Ronsdorf\, In der Krim 12\, Wuppertal\, 42369
ATTACH;FMTTYPE=image/jpeg:https://freiraum-ronsdorf.de/wp-content/uploads/2023/12/Stricken_1.jpg
END:VEVENT
BEGIN:VEVENT
DTSTART;TZID=Europe/Berlin:20250228T100000
DTEND;TZID=Europe/Berlin:20250228T113000
DTSTAMP:20260424T135538
CREATED:20250205T094427Z
LAST-MODIFIED:20250205T094427Z
UID:10000569-1740736800-1740742200@freiraum-ronsdorf.de
SUMMARY:Krabbelgruppe
DESCRIPTION:Wir freuen uns eine Krabbelgruppe anbieten zu dürfen! \nHier treffen sich Mütter mit Kindern von 0 bis 3 Jahren\, um in entspannter Atmosphäre eine schöne Zeit zu verbringen.\nWährend die Kleinen gemeinsam spielen und die Welt entdecken\, bleibt den Müttern Raum für Austausch\, Gespräche und gegenseitige Unterstützung. \nBei einer Tasse Kaffee oder Tee und kleinen Leckereien könnt ihr den Vormittag genießen und euch in unserem gemütlichen Wohlfühlort eine Auszeit gönnen.\nWir freuen uns darauf\, eine herzliche Gemeinschaft zu schaffen\, in der Groß und Klein sich wohlfühlen. Kommt vorbei und erlebt schöne Stunden mit uns!
URL:https://freiraum-ronsdorf.de/event/krabbelgruppe-4/
LOCATION:Freiraum Ronsdorf\, In der Krim 12\, Wuppertal\, 42369
ATTACH;FMTTYPE=image/png:https://freiraum-ronsdorf.de/wp-content/uploads/2025/01/Navy-Organic-Childrens-Playgroup-Advertisement-Flyer.png
END:VEVENT
BEGIN:VEVENT
DTSTART;TZID=Europe/Berlin:20250227T150000
DTEND;TZID=Europe/Berlin:20250227T180000
DTSTAMP:20260424T135538
CREATED:20241209T170107Z
LAST-MODIFIED:20241217T190347Z
UID:10000512-1740668400-1740679200@freiraum-ronsdorf.de
SUMMARY:Café-Freiraum
DESCRIPTION:Freiraum Ronsdorf lädt ein! \nJeden Donnerstag öffnen wir unsere Türen für alle – ganz ohne feste Veranstaltung. Kommt vorbei und genießt eine entspannte Zeit: Ob bei einer Tasse Kaffee\, einem leckeren Stück Kuchen\, beim Stöbern in einem Buch oder einem kleinen Kicker-Match. Hier ist Platz für Begegnungen\, Gespräche und Gemeinschaft. Lasst uns den Tag gemeinsam genießen – wir freuen uns auf euch!
URL:https://freiraum-ronsdorf.de/event/cafe-freiraum-15/
LOCATION:Freiraum Ronsdorf\, In der Krim 12\, Wuppertal\, 42369
ATTACH;FMTTYPE=image/png:https://freiraum-ronsdorf.de/wp-content/uploads/2024/12/Cafe.png
END:VEVENT
BEGIN:VEVENT
DTSTART;TZID=Europe/Berlin:20250225T100000
DTEND;TZID=Europe/Berlin:20250225T170000
DTSTAMP:20260424T135538
CREATED:20250106T145023Z
LAST-MODIFIED:20250106T145023Z
UID:10000540-1740477600-1740502800@freiraum-ronsdorf.de
SUMMARY:Veeh-Harfen - Ensemble Probe
DESCRIPTION:Das Veeh-Harfen-Ensemble mit Urte Rohda probt im Freiraum. \nWer Interesse an dem Instrument hat und sich eine Probe ansehen möchte\, darf sich gern per E-Mail oder über das Kontaktformular unserer Website melden. \n 
URL:https://freiraum-ronsdorf.de/event/veeh-harfen-ensemble-probe-8/
LOCATION:Freiraum Ronsdorf\, In der Krim 12\, Wuppertal\, 42369
ATTACH;FMTTYPE=image/jpeg:https://freiraum-ronsdorf.de/wp-content/uploads/2025/01/MG_6123-scaled.jpg
END:VEVENT
BEGIN:VEVENT
DTSTART;TZID=Europe/Berlin:20250224T190000
DTEND;TZID=Europe/Berlin:20250224T203000
DTSTAMP:20260424T135538
CREATED:20241217T185131Z
LAST-MODIFIED:20241227T184943Z
UID:10000530-1740423600-1740429000@freiraum-ronsdorf.de
SUMMARY:Niederländisch Kurs
DESCRIPTION:Beste mensen! (was soviel heißt wie: Liebe Leute!) \nIm Freiraum gibt es ab sofort die Möglichkeit\, Niederländisch zu lernen.\nWir treffen uns wöchentlich in geselliger Runde zum Plaudern und lernen dabei Grundlagen der Niederländischen Sprache und Themen kennen\, über die man als Niederlande-Fan immer schonmal reden wollte. \nEine Anmeldung ist nicht erforderlich. Kommt einfach vorbei. \nWij gaan Hollands praten.\nTot ziens \nHeike Blombach
URL:https://freiraum-ronsdorf.de/event/niederlaendisch-kurs-7/
LOCATION:Freiraum Ronsdorf\, In der Krim 12\, Wuppertal\, 42369
ATTACH;FMTTYPE=image/png:https://freiraum-ronsdorf.de/wp-content/uploads/2024/12/Blue-Photo-Collage-Hello-August-Instagram-Post-1.png
END:VEVENT
BEGIN:VEVENT
DTSTART;TZID=Europe/Berlin:20250223T180000
DTEND;TZID=Europe/Berlin:20250223T220000
DTSTAMP:20260424T135538
CREATED:20250203T212902Z
LAST-MODIFIED:20250214T073047Z
UID:10000565-1740333600-1740348000@freiraum-ronsdorf.de
SUMMARY:Spieleabend
DESCRIPTION:Wir treffen uns in einem gemütlichen Raum\, um Brett- oder auch mal ein Kartenspiel zu spielen. Es können gerne eigene Spiele mitgebracht werden\, sofern die Regeln bekannt sind und auch erklärt werden können.\n\nUm Anmeldung wird zwecks Organisation gebeten.
URL:https://freiraum-ronsdorf.de/event/spieleabend-4/
LOCATION:Freiraum Ronsdorf\, In der Krim 12\, Wuppertal\, 42369
ATTACH;FMTTYPE=image/jpeg:https://freiraum-ronsdorf.de/wp-content/uploads/2024/12/IMG_1132-scaled-1.jpeg
END:VEVENT
BEGIN:VEVENT
DTSTART;TZID=Europe/Berlin:20250221T100000
DTEND;TZID=Europe/Berlin:20250221T113000
DTSTAMP:20260424T135538
CREATED:20250205T094356Z
LAST-MODIFIED:20250205T094356Z
UID:10000568-1740132000-1740137400@freiraum-ronsdorf.de
SUMMARY:Krabbelgruppe
DESCRIPTION:Wir freuen uns eine Krabbelgruppe anbieten zu dürfen! \nHier treffen sich Mütter mit Kindern von 0 bis 3 Jahren\, um in entspannter Atmosphäre eine schöne Zeit zu verbringen.\nWährend die Kleinen gemeinsam spielen und die Welt entdecken\, bleibt den Müttern Raum für Austausch\, Gespräche und gegenseitige Unterstützung. \nBei einer Tasse Kaffee oder Tee und kleinen Leckereien könnt ihr den Vormittag genießen und euch in unserem gemütlichen Wohlfühlort eine Auszeit gönnen.\nWir freuen uns darauf\, eine herzliche Gemeinschaft zu schaffen\, in der Groß und Klein sich wohlfühlen. Kommt vorbei und erlebt schöne Stunden mit uns!
URL:https://freiraum-ronsdorf.de/event/krabbelgruppe-3/
LOCATION:Freiraum Ronsdorf\, In der Krim 12\, Wuppertal\, 42369
ATTACH;FMTTYPE=image/png:https://freiraum-ronsdorf.de/wp-content/uploads/2025/01/Navy-Organic-Childrens-Playgroup-Advertisement-Flyer.png
END:VEVENT
BEGIN:VEVENT
DTSTART;TZID=Europe/Berlin:20250220T150000
DTEND;TZID=Europe/Berlin:20250220T180000
DTSTAMP:20260424T135538
CREATED:20241209T170053Z
LAST-MODIFIED:20241217T190328Z
UID:10000511-1740063600-1740074400@freiraum-ronsdorf.de
SUMMARY:Café-Freiraum
DESCRIPTION:Freiraum Ronsdorf lädt ein! \nJeden Donnerstag öffnen wir unsere Türen für alle – ganz ohne feste Veranstaltung. Kommt vorbei und genießt eine entspannte Zeit: Ob bei einer Tasse Kaffee\, einem leckeren Stück Kuchen\, beim Stöbern in einem Buch oder einem kleinen Kicker-Match. Hier ist Platz für Begegnungen\, Gespräche und Gemeinschaft. Lasst uns den Tag gemeinsam genießen – wir freuen uns auf euch!
URL:https://freiraum-ronsdorf.de/event/cafe-freiraum-14/
LOCATION:Freiraum Ronsdorf\, In der Krim 12\, Wuppertal\, 42369
ATTACH;FMTTYPE=image/png:https://freiraum-ronsdorf.de/wp-content/uploads/2024/12/Cafe.png
END:VEVENT
BEGIN:VEVENT
DTSTART;TZID=Europe/Berlin:20250218T100000
DTEND;TZID=Europe/Berlin:20250218T170000
DTSTAMP:20260424T135538
CREATED:20250106T145006Z
LAST-MODIFIED:20250106T145006Z
UID:10000539-1739872800-1739898000@freiraum-ronsdorf.de
SUMMARY:Veeh-Harfen - Ensemble Probe
DESCRIPTION:Das Veeh-Harfen-Ensemble mit Urte Rohda probt im Freiraum. \nWer Interesse an dem Instrument hat und sich eine Probe ansehen möchte\, darf sich gern per E-Mail oder über das Kontaktformular unserer Website melden. \n 
URL:https://freiraum-ronsdorf.de/event/veeh-harfen-ensemble-probe-7/
LOCATION:Freiraum Ronsdorf\, In der Krim 12\, Wuppertal\, 42369
ATTACH;FMTTYPE=image/jpeg:https://freiraum-ronsdorf.de/wp-content/uploads/2025/01/MG_6123-scaled.jpg
END:VEVENT
BEGIN:VEVENT
DTSTART;TZID=Europe/Berlin:20250217T190000
DTEND;TZID=Europe/Berlin:20250217T203000
DTSTAMP:20260424T135538
CREATED:20241217T185106Z
LAST-MODIFIED:20241227T184930Z
UID:10000529-1739818800-1739824200@freiraum-ronsdorf.de
SUMMARY:Niederländisch Kurs
DESCRIPTION:Beste mensen! (was soviel heißt wie: Liebe Leute!) \nIm Freiraum gibt es ab sofort die Möglichkeit\, Niederländisch zu lernen.\nWir treffen uns wöchentlich in geselliger Runde zum Plaudern und lernen dabei Grundlagen der Niederländischen Sprache und Themen kennen\, über die man als Niederlande-Fan immer schonmal reden wollte. \nEine Anmeldung ist nicht erforderlich. Kommt einfach vorbei. \nWij gaan Hollands praten.\nTot ziens \nHeike Blombach
URL:https://freiraum-ronsdorf.de/event/niederlaendisch-kurs-6/
LOCATION:Freiraum Ronsdorf\, In der Krim 12\, Wuppertal\, 42369
ATTACH;FMTTYPE=image/png:https://freiraum-ronsdorf.de/wp-content/uploads/2024/12/Blue-Photo-Collage-Hello-August-Instagram-Post-1.png
END:VEVENT
BEGIN:VEVENT
DTSTART;TZID=Europe/Berlin:20250215T150000
DTEND;TZID=Europe/Berlin:20250215T170000
DTSTAMP:20260424T135538
CREATED:20241209T170306Z
LAST-MODIFIED:20241209T170306Z
UID:10000516-1739631600-1739638800@freiraum-ronsdorf.de
SUMMARY:Strick-Café
DESCRIPTION:Eigene Projekte unter Gleichgesinnten in gemütlicher Café-Atmosphäre weiter stricken. \nWeitere Infos.
URL:https://freiraum-ronsdorf.de/event/strick-cafe-18/
LOCATION:Freiraum Ronsdorf\, In der Krim 12\, Wuppertal\, 42369
ATTACH;FMTTYPE=image/jpeg:https://freiraum-ronsdorf.de/wp-content/uploads/2023/12/Stricken_1.jpg
END:VEVENT
END:VCALENDAR