BEGIN:VCALENDAR
VERSION:2.0
PRODID:-//Freiraum Ronsdorf - ECPv6.5.1.3//NONSGML v1.0//EN
CALSCALE:GREGORIAN
METHOD:PUBLISH
X-WR-CALNAME:Freiraum Ronsdorf
X-ORIGINAL-URL:https://freiraum-ronsdorf.de
X-WR-CALDESC:Veranstaltungen für Freiraum Ronsdorf
REFRESH-INTERVAL;VALUE=DURATION:PT1H
X-Robots-Tag:noindex
X-PUBLISHED-TTL:PT1H
BEGIN:VTIMEZONE
TZID:Europe/Berlin
BEGIN:DAYLIGHT
TZOFFSETFROM:+0100
TZOFFSETTO:+0200
TZNAME:CEST
DTSTART:20250330T010000
END:DAYLIGHT
BEGIN:STANDARD
TZOFFSETFROM:+0200
TZOFFSETTO:+0100
TZNAME:CET
DTSTART:20251026T010000
END:STANDARD
END:VTIMEZONE
BEGIN:VEVENT
DTSTART;TZID=Europe/Berlin:20250802T150000
DTEND;TZID=Europe/Berlin:20250802T170000
DTSTAMP:20260422T025609
CREATED:20250531T191639Z
LAST-MODIFIED:20250531T191639Z
UID:10000697-1754146800-1754154000@freiraum-ronsdorf.de
SUMMARY:Strick-Café
DESCRIPTION:Eigene Projekte unter Gleichgesinnten in gemütlicher Café-Atmosphäre weiter stricken. \nWeitere Infos.
URL:https://freiraum-ronsdorf.de/event/strick-cafe-30/
LOCATION:Freiraum Ronsdorf\, In der Krim 12\, Wuppertal\, 42369
ATTACH;FMTTYPE=image/jpeg:https://freiraum-ronsdorf.de/wp-content/uploads/2023/12/Stricken_1.jpg
END:VEVENT
BEGIN:VEVENT
DTSTART;TZID=Europe/Berlin:20250801T100000
DTEND;TZID=Europe/Berlin:20250801T113000
DTSTAMP:20260422T025609
CREATED:20250531T191238Z
LAST-MODIFIED:20250531T191238Z
UID:10000692-1754042400-1754047800@freiraum-ronsdorf.de
SUMMARY:Krabbelgruppe
DESCRIPTION:Wir freuen uns eine Krabbelgruppe anbieten zu dürfen! \nHier treffen sich Mütter mit Kindern von 0 bis 3 Jahren\, um in entspannter Atmosphäre eine schöne Zeit zu verbringen.\nWährend die Kleinen gemeinsam spielen und die Welt entdecken\, bleibt den Müttern Raum für Austausch\, Gespräche und gegenseitige Unterstützung. \nBei einer Tasse Kaffee oder Tee und kleinen Leckereien könnt ihr den Vormittag genießen und euch in unserem gemütlichen Wohlfühlort eine Auszeit gönnen.\nWir freuen uns darauf\, eine herzliche Gemeinschaft zu schaffen\, in der Groß und Klein sich wohlfühlen. Kommt vorbei und erlebt schöne Stunden mit uns!
URL:https://freiraum-ronsdorf.de/event/krabbelgruppe-7/
LOCATION:Freiraum Ronsdorf\, In der Krim 12\, Wuppertal\, 42369
ATTACH;FMTTYPE=image/png:https://freiraum-ronsdorf.de/wp-content/uploads/2025/01/Navy-Organic-Childrens-Playgroup-Advertisement-Flyer.png
END:VEVENT
BEGIN:VEVENT
DTSTART;TZID=Europe/Berlin:20250731T150000
DTEND;TZID=Europe/Berlin:20250731T180000
DTSTAMP:20260422T025609
CREATED:20250508T080816Z
LAST-MODIFIED:20250607T192352Z
UID:10000664-1753974000-1753984800@freiraum-ronsdorf.de
SUMMARY:Café-Freiraum
DESCRIPTION:Freiraum Ronsdorf lädt ein! \nJeden Donnerstag öffnen wir unsere Türen für alle – ganz ohne feste Veranstaltung. Kommt vorbei und genießt eine entspannte Zeit: Ob bei einer Tasse Kaffee\, einem leckeren Stück Kuchen\, beim Stöbern in einem Buch oder einem kleinen Kicker-Match. Hier ist Platz für Begegnungen\, Gespräche und Gemeinschaft. Lasst uns den Tag gemeinsam genießen – wir freuen uns auf euch!
URL:https://freiraum-ronsdorf.de/event/cafe-freiraum-35/
LOCATION:Freiraum Ronsdorf\, In der Krim 12\, Wuppertal\, 42369
ATTACH;FMTTYPE=image/png:https://freiraum-ronsdorf.de/wp-content/uploads/2025/04/Cafe-scaled.png
END:VEVENT
BEGIN:VEVENT
DTSTART;TZID=Europe/Berlin:20250731T093000
DTEND;TZID=Europe/Berlin:20250731T113000
DTSTAMP:20260422T025609
CREATED:20250718T094309Z
LAST-MODIFIED:20250718T094309Z
UID:10000722-1753954200-1753961400@freiraum-ronsdorf.de
SUMMARY:Kreativ Gruppe – Raum für Ruhe und Ausdruck
DESCRIPTION:Gestalten heißt\, dem „Inneren“ Ausdruck verleihen – das stärkt\, verbindet und bringt neue Impulse. \nDiese Gruppe richtet sich an Menschen\, die gerne in einer kleinen Gruppe kreativ sein möchten. \nDu hast Lust\, kreativ zu sein\, ganz in deinem Tempo und ohne Leistungsdruck?\nIn dieser fortlaufenden Gruppe darfst du gestalten\, ausprobieren\, zur Ruhe kommen und dich über dein Tun ausdrücken. Im Fokus steht die Freude am Tun\, nicht das Ergebnis! \nDu kannst gerne aus einem Pool von Materialien das Passende für dich auswählen und/oder selber Material und Ideen mitbringen. Es gibt keine Vorgaben\, du entscheidest\, woran und womit du gestalten möchtest. \nEs erfolgt keine fachliche Begleitung. Alle Teilnehmer sind die Gestalter der gemeinsamen kreativen Zeit. \nTraut euch! Kommt vorbei.. schaut euch um.. ich freue mich schon sehr auf Euch!! Eure Nike
URL:https://freiraum-ronsdorf.de/event/kreativ-gruppe-raum-fuer-ruhe-und-ausdruck-2/
LOCATION:Freiraum Ronsdorf\, In der Krim 12\, Wuppertal\, 42369
ATTACH;FMTTYPE=image/jpeg:https://freiraum-ronsdorf.de/wp-content/uploads/2025/06/Kreativ.jpg
END:VEVENT
BEGIN:VEVENT
DTSTART;TZID=Europe/Berlin:20250729T100000
DTEND;TZID=Europe/Berlin:20250729T113000
DTSTAMP:20260422T025609
CREATED:20250508T080627Z
LAST-MODIFIED:20250526T103634Z
UID:10000658-1753783200-1753788600@freiraum-ronsdorf.de
SUMMARY:Veeh-Harfen - Ensemble Probe
DESCRIPTION:Das Veeh-Harfen-Ensemble mit Urte Rohda probt im Freiraum. \nWer Interesse an dem Instrument hat und sich eine Probe ansehen möchte\, darf sich gern per E-Mail oder über das Kontaktformular unserer Website melden. \n 
URL:https://freiraum-ronsdorf.de/event/veeh-harfen-ensemble-probe-27/
LOCATION:Freiraum Ronsdorf\, In der Krim 12\, Wuppertal\, 42369
ATTACH;FMTTYPE=image/jpeg:https://freiraum-ronsdorf.de/wp-content/uploads/2025/01/MG_6123-scaled.jpg
END:VEVENT
BEGIN:VEVENT
DTSTART;TZID=Europe/Berlin:20250728T190000
DTEND;TZID=Europe/Berlin:20250728T203000
DTSTAMP:20260422T025609
CREATED:20250508T080507Z
LAST-MODIFIED:20250508T080507Z
UID:10000653-1753729200-1753734600@freiraum-ronsdorf.de
SUMMARY:Niederländisch Kurs
DESCRIPTION:Beste mensen! (was soviel heißt wie: Liebe Leute!) \nIm Freiraum gibt es ab sofort die Möglichkeit\, Niederländisch zu lernen.\nWir treffen uns wöchentlich in geselliger Runde zum Plaudern und lernen dabei Grundlagen der Niederländischen Sprache und Themen kennen\, über die man als Niederlande-Fan immer schonmal reden wollte. \nEine Anmeldung ist nicht erforderlich. Kommt einfach vorbei. \nWij gaan Hollands praten.\nTot ziens \nHeike Blombach
URL:https://freiraum-ronsdorf.de/event/niederlaendisch-kurs-28/
LOCATION:Freiraum Ronsdorf\, In der Krim 12\, Wuppertal\, 42369
ATTACH;FMTTYPE=image/png:https://freiraum-ronsdorf.de/wp-content/uploads/2024/12/Blue-Photo-Collage-Hello-August-Instagram-Post-1.png
END:VEVENT
BEGIN:VEVENT
DTSTART;TZID=Europe/Berlin:20250726T190000
DTEND;TZID=Europe/Berlin:20250726T190000
DTSTAMP:20260422T025609
CREATED:20250513T200754Z
LAST-MODIFIED:20250725T214019Z
UID:10000672-1753556400-1753556400@freiraum-ronsdorf.de
SUMMARY:Ausgebucht! - Spieleabend
DESCRIPTION:Wir treffen uns in einem gemütlichen Raum\, um Brett- oder auch mal ein Kartenspiel zu spielen. Es können gerne eigene Spiele mitgebracht werden\, sofern die Regeln bekannt sind und auch erklärt werden können.\n\nUm Anmeldung wird zwecks Organisation gebeten: info@freiraum-ronsdorf.de
URL:https://freiraum-ronsdorf.de/event/spieleabend-9/
LOCATION:Freiraum Ronsdorf\, In der Krim 12\, Wuppertal\, 42369
ATTACH;FMTTYPE=image/jpeg:https://freiraum-ronsdorf.de/wp-content/uploads/2024/12/IMG_1132-scaled-1.jpeg
END:VEVENT
BEGIN:VEVENT
DTSTART;TZID=Europe/Berlin:20250725T100000
DTEND;TZID=Europe/Berlin:20250725T113000
DTSTAMP:20260422T025609
CREATED:20250508T080914Z
LAST-MODIFIED:20250508T080914Z
UID:10000668-1753437600-1753443000@freiraum-ronsdorf.de
SUMMARY:Krabbelgruppe
DESCRIPTION:Wir freuen uns eine Krabbelgruppe anbieten zu dürfen! \nHier treffen sich Mütter mit Kindern von 0 bis 3 Jahren\, um in entspannter Atmosphäre eine schöne Zeit zu verbringen.\nWährend die Kleinen gemeinsam spielen und die Welt entdecken\, bleibt den Müttern Raum für Austausch\, Gespräche und gegenseitige Unterstützung. \nBei einer Tasse Kaffee oder Tee und kleinen Leckereien könnt ihr den Vormittag genießen und euch in unserem gemütlichen Wohlfühlort eine Auszeit gönnen.\nWir freuen uns darauf\, eine herzliche Gemeinschaft zu schaffen\, in der Groß und Klein sich wohlfühlen. Kommt vorbei und erlebt schöne Stunden mit uns!
URL:https://freiraum-ronsdorf.de/event/krabbelgruppe-22/
LOCATION:Freiraum Ronsdorf\, In der Krim 12\, Wuppertal\, 42369
ATTACH;FMTTYPE=image/png:https://freiraum-ronsdorf.de/wp-content/uploads/2025/01/Navy-Organic-Childrens-Playgroup-Advertisement-Flyer.png
END:VEVENT
BEGIN:VEVENT
DTSTART;TZID=Europe/Berlin:20250724T150000
DTEND;TZID=Europe/Berlin:20250724T180000
DTSTAMP:20260422T025609
CREATED:20250508T080802Z
LAST-MODIFIED:20250607T192408Z
UID:10000663-1753369200-1753380000@freiraum-ronsdorf.de
SUMMARY:Café-Freiraum
DESCRIPTION:Freiraum Ronsdorf lädt ein! \nJeden Donnerstag öffnen wir unsere Türen für alle – ganz ohne feste Veranstaltung. Kommt vorbei und genießt eine entspannte Zeit: Ob bei einer Tasse Kaffee\, einem leckeren Stück Kuchen\, beim Stöbern in einem Buch oder einem kleinen Kicker-Match. Hier ist Platz für Begegnungen\, Gespräche und Gemeinschaft. Lasst uns den Tag gemeinsam genießen – wir freuen uns auf euch!
URL:https://freiraum-ronsdorf.de/event/cafe-freiraum-34/
LOCATION:Freiraum Ronsdorf\, In der Krim 12\, Wuppertal\, 42369
ATTACH;FMTTYPE=image/png:https://freiraum-ronsdorf.de/wp-content/uploads/2025/04/Cafe-scaled.png
END:VEVENT
BEGIN:VEVENT
DTSTART;TZID=Europe/Berlin:20250722T100000
DTEND;TZID=Europe/Berlin:20250722T113000
DTSTAMP:20260422T025609
CREATED:20250508T080612Z
LAST-MODIFIED:20250526T103620Z
UID:10000657-1753178400-1753183800@freiraum-ronsdorf.de
SUMMARY:Veeh-Harfen - Ensemble Probe
DESCRIPTION:Das Veeh-Harfen-Ensemble mit Urte Rohda probt im Freiraum. \nWer Interesse an dem Instrument hat und sich eine Probe ansehen möchte\, darf sich gern per E-Mail oder über das Kontaktformular unserer Website melden. \n 
URL:https://freiraum-ronsdorf.de/event/veeh-harfen-ensemble-probe-26/
LOCATION:Freiraum Ronsdorf\, In der Krim 12\, Wuppertal\, 42369
ATTACH;FMTTYPE=image/jpeg:https://freiraum-ronsdorf.de/wp-content/uploads/2025/01/MG_6123-scaled.jpg
END:VEVENT
BEGIN:VEVENT
DTSTART;TZID=Europe/Berlin:20250721T190000
DTEND;TZID=Europe/Berlin:20250721T203000
DTSTAMP:20260422T025609
CREATED:20250508T080453Z
LAST-MODIFIED:20250508T080453Z
UID:10000652-1753124400-1753129800@freiraum-ronsdorf.de
SUMMARY:Niederländisch Kurs
DESCRIPTION:Beste mensen! (was soviel heißt wie: Liebe Leute!) \nIm Freiraum gibt es ab sofort die Möglichkeit\, Niederländisch zu lernen.\nWir treffen uns wöchentlich in geselliger Runde zum Plaudern und lernen dabei Grundlagen der Niederländischen Sprache und Themen kennen\, über die man als Niederlande-Fan immer schonmal reden wollte. \nEine Anmeldung ist nicht erforderlich. Kommt einfach vorbei. \nWij gaan Hollands praten.\nTot ziens \nHeike Blombach
URL:https://freiraum-ronsdorf.de/event/niederlaendisch-kurs-27/
LOCATION:Freiraum Ronsdorf\, In der Krim 12\, Wuppertal\, 42369
ATTACH;FMTTYPE=image/png:https://freiraum-ronsdorf.de/wp-content/uploads/2024/12/Blue-Photo-Collage-Hello-August-Instagram-Post-1.png
END:VEVENT
BEGIN:VEVENT
DTSTART;TZID=Europe/Berlin:20250719T150000
DTEND;TZID=Europe/Berlin:20250719T170000
DTSTAMP:20260422T025609
CREATED:20250508T081000Z
LAST-MODIFIED:20250508T081000Z
UID:10000670-1752937200-1752944400@freiraum-ronsdorf.de
SUMMARY:Strick-Café
DESCRIPTION:Eigene Projekte unter Gleichgesinnten in gemütlicher Café-Atmosphäre weiter stricken. \nWeitere Infos.
URL:https://freiraum-ronsdorf.de/event/strick-cafe-29/
LOCATION:Freiraum Ronsdorf\, In der Krim 12\, Wuppertal\, 42369
ATTACH;FMTTYPE=image/jpeg:https://freiraum-ronsdorf.de/wp-content/uploads/2023/12/Stricken_1.jpg
END:VEVENT
BEGIN:VEVENT
DTSTART;TZID=Europe/Berlin:20250718T100000
DTEND;TZID=Europe/Berlin:20250718T113000
DTSTAMP:20260422T025609
CREATED:20250508T080859Z
LAST-MODIFIED:20250508T080859Z
UID:10000667-1752832800-1752838200@freiraum-ronsdorf.de
SUMMARY:Krabbelgruppe
DESCRIPTION:Wir freuen uns eine Krabbelgruppe anbieten zu dürfen! \nHier treffen sich Mütter mit Kindern von 0 bis 3 Jahren\, um in entspannter Atmosphäre eine schöne Zeit zu verbringen.\nWährend die Kleinen gemeinsam spielen und die Welt entdecken\, bleibt den Müttern Raum für Austausch\, Gespräche und gegenseitige Unterstützung. \nBei einer Tasse Kaffee oder Tee und kleinen Leckereien könnt ihr den Vormittag genießen und euch in unserem gemütlichen Wohlfühlort eine Auszeit gönnen.\nWir freuen uns darauf\, eine herzliche Gemeinschaft zu schaffen\, in der Groß und Klein sich wohlfühlen. Kommt vorbei und erlebt schöne Stunden mit uns!
URL:https://freiraum-ronsdorf.de/event/krabbelgruppe-21/
LOCATION:Freiraum Ronsdorf\, In der Krim 12\, Wuppertal\, 42369
ATTACH;FMTTYPE=image/png:https://freiraum-ronsdorf.de/wp-content/uploads/2025/01/Navy-Organic-Childrens-Playgroup-Advertisement-Flyer.png
END:VEVENT
BEGIN:VEVENT
DTSTART;TZID=Europe/Berlin:20250717T150000
DTEND;TZID=Europe/Berlin:20250717T180000
DTSTAMP:20260422T025609
CREATED:20250508T080749Z
LAST-MODIFIED:20250607T192427Z
UID:10000662-1752764400-1752775200@freiraum-ronsdorf.de
SUMMARY:Café-Freiraum
DESCRIPTION:Freiraum Ronsdorf lädt ein! \nJeden Donnerstag öffnen wir unsere Türen für alle – ganz ohne feste Veranstaltung. Kommt vorbei und genießt eine entspannte Zeit: Ob bei einer Tasse Kaffee\, einem leckeren Stück Kuchen\, beim Stöbern in einem Buch oder einem kleinen Kicker-Match. Hier ist Platz für Begegnungen\, Gespräche und Gemeinschaft. Lasst uns den Tag gemeinsam genießen – wir freuen uns auf euch!
URL:https://freiraum-ronsdorf.de/event/cafe-freiraum-33/
LOCATION:Freiraum Ronsdorf\, In der Krim 12\, Wuppertal\, 42369
ATTACH;FMTTYPE=image/png:https://freiraum-ronsdorf.de/wp-content/uploads/2025/04/Cafe-scaled.png
END:VEVENT
BEGIN:VEVENT
DTSTART;TZID=Europe/Berlin:20250717T093000
DTEND;TZID=Europe/Berlin:20250717T113000
DTSTAMP:20260422T025609
CREATED:20250629T211918Z
LAST-MODIFIED:20250629T211918Z
UID:10000702-1752744600-1752751800@freiraum-ronsdorf.de
SUMMARY:Kreativ Gruppe – Raum für Ruhe und Ausdruck
DESCRIPTION:Gestalten heißt\, dem „Inneren“ Ausdruck verleihen – das stärkt\, verbindet und bringt neue Impulse. \nDiese Gruppe richtet sich an Menschen\, die gerne in einer kleinen Gruppe kreativ sein möchten. \nDu hast Lust\, kreativ zu sein\, ganz in deinem Tempo und ohne Leistungsdruck?\nIn dieser fortlaufenden Gruppe darfst du gestalten\, ausprobieren\, zur Ruhe kommen und dich über dein Tun ausdrücken. Im Fokus steht die Freude am Tun\, nicht das Ergebnis! \nDu kannst gerne aus einem Pool von Materialien das Passende für dich auswählen und/oder selber Material und Ideen mitbringen. Es gibt keine Vorgaben\, du entscheidest\, woran und womit du gestalten möchtest. \nEs erfolgt keine fachliche Begleitung. Alle Teilnehmer sind die Gestalter der gemeinsamen kreativen Zeit. \nTraut euch! Kommt vorbei.. schaut euch um.. ich freue mich schon sehr auf Euch!! Eure Nike
URL:https://freiraum-ronsdorf.de/event/kreativ-gruppe-raum-fuer-ruhe-und-ausdruck/
LOCATION:Freiraum Ronsdorf\, In der Krim 12\, Wuppertal\, 42369
ATTACH;FMTTYPE=image/jpeg:https://freiraum-ronsdorf.de/wp-content/uploads/2025/06/Kreativ.jpg
END:VEVENT
BEGIN:VEVENT
DTSTART;TZID=Europe/Berlin:20250715T100000
DTEND;TZID=Europe/Berlin:20250715T113000
DTSTAMP:20260422T025609
CREATED:20250508T080557Z
LAST-MODIFIED:20250526T103607Z
UID:10000656-1752573600-1752579000@freiraum-ronsdorf.de
SUMMARY:Veeh-Harfen - Ensemble Probe
DESCRIPTION:Das Veeh-Harfen-Ensemble mit Urte Rohda probt im Freiraum. \nWer Interesse an dem Instrument hat und sich eine Probe ansehen möchte\, darf sich gern per E-Mail oder über das Kontaktformular unserer Website melden. \n 
URL:https://freiraum-ronsdorf.de/event/veeh-harfen-ensemble-probe-25/
LOCATION:Freiraum Ronsdorf\, In der Krim 12\, Wuppertal\, 42369
ATTACH;FMTTYPE=image/jpeg:https://freiraum-ronsdorf.de/wp-content/uploads/2025/01/MG_6123-scaled.jpg
END:VEVENT
BEGIN:VEVENT
DTSTART;TZID=Europe/Berlin:20250714T190000
DTEND;TZID=Europe/Berlin:20250714T203000
DTSTAMP:20260422T025609
CREATED:20250508T080441Z
LAST-MODIFIED:20250508T080441Z
UID:10000651-1752519600-1752525000@freiraum-ronsdorf.de
SUMMARY:Niederländisch Kurs
DESCRIPTION:Beste mensen! (was soviel heißt wie: Liebe Leute!) \nIm Freiraum gibt es ab sofort die Möglichkeit\, Niederländisch zu lernen.\nWir treffen uns wöchentlich in geselliger Runde zum Plaudern und lernen dabei Grundlagen der Niederländischen Sprache und Themen kennen\, über die man als Niederlande-Fan immer schonmal reden wollte. \nEine Anmeldung ist nicht erforderlich. Kommt einfach vorbei. \nWij gaan Hollands praten.\nTot ziens \nHeike Blombach
URL:https://freiraum-ronsdorf.de/event/niederlaendisch-kurs-26/
LOCATION:Freiraum Ronsdorf\, In der Krim 12\, Wuppertal\, 42369
ATTACH;FMTTYPE=image/png:https://freiraum-ronsdorf.de/wp-content/uploads/2024/12/Blue-Photo-Collage-Hello-August-Instagram-Post-1.png
END:VEVENT
BEGIN:VEVENT
DTSTART;TZID=Europe/Berlin:20250713T150000
DTEND;TZID=Europe/Berlin:20250713T150000
DTSTAMP:20260422T025609
CREATED:20250514T185805Z
LAST-MODIFIED:20250514T185805Z
UID:10000674-1752418800-1752418800@freiraum-ronsdorf.de
SUMMARY:Spieleabend
DESCRIPTION:Wir treffen uns in einem gemütlichen Raum\, um Brett- oder auch mal ein Kartenspiel zu spielen. Es können gerne eigene Spiele mitgebracht werden\, sofern die Regeln bekannt sind und auch erklärt werden können.\n\nUm Anmeldung wird zwecks Organisation gebeten: info@freiraum-ronsdorf.de
URL:https://freiraum-ronsdorf.de/event/spieleabend-11/
LOCATION:Freiraum Ronsdorf\, In der Krim 12\, Wuppertal\, 42369
ATTACH;FMTTYPE=image/jpeg:https://freiraum-ronsdorf.de/wp-content/uploads/2024/12/IMG_1132-scaled-1.jpeg
END:VEVENT
BEGIN:VEVENT
DTSTART;TZID=Europe/Berlin:20250711T100000
DTEND;TZID=Europe/Berlin:20250711T113000
DTSTAMP:20260422T025609
CREATED:20250508T080846Z
LAST-MODIFIED:20250508T080846Z
UID:10000666-1752228000-1752233400@freiraum-ronsdorf.de
SUMMARY:Krabbelgruppe
DESCRIPTION:Wir freuen uns eine Krabbelgruppe anbieten zu dürfen! \nHier treffen sich Mütter mit Kindern von 0 bis 3 Jahren\, um in entspannter Atmosphäre eine schöne Zeit zu verbringen.\nWährend die Kleinen gemeinsam spielen und die Welt entdecken\, bleibt den Müttern Raum für Austausch\, Gespräche und gegenseitige Unterstützung. \nBei einer Tasse Kaffee oder Tee und kleinen Leckereien könnt ihr den Vormittag genießen und euch in unserem gemütlichen Wohlfühlort eine Auszeit gönnen.\nWir freuen uns darauf\, eine herzliche Gemeinschaft zu schaffen\, in der Groß und Klein sich wohlfühlen. Kommt vorbei und erlebt schöne Stunden mit uns!
URL:https://freiraum-ronsdorf.de/event/krabbelgruppe-20/
LOCATION:Freiraum Ronsdorf\, In der Krim 12\, Wuppertal\, 42369
ATTACH;FMTTYPE=image/png:https://freiraum-ronsdorf.de/wp-content/uploads/2025/01/Navy-Organic-Childrens-Playgroup-Advertisement-Flyer.png
END:VEVENT
BEGIN:VEVENT
DTSTART;TZID=Europe/Berlin:20250710T150000
DTEND;TZID=Europe/Berlin:20250710T180000
DTSTAMP:20260422T025609
CREATED:20250508T080731Z
LAST-MODIFIED:20250607T192446Z
UID:10000661-1752159600-1752170400@freiraum-ronsdorf.de
SUMMARY:Café-Freiraum
DESCRIPTION:Freiraum Ronsdorf lädt ein! \nJeden Donnerstag öffnen wir unsere Türen für alle – ganz ohne feste Veranstaltung. Kommt vorbei und genießt eine entspannte Zeit: Ob bei einer Tasse Kaffee\, einem leckeren Stück Kuchen\, beim Stöbern in einem Buch oder einem kleinen Kicker-Match. Hier ist Platz für Begegnungen\, Gespräche und Gemeinschaft. Lasst uns den Tag gemeinsam genießen – wir freuen uns auf euch!
URL:https://freiraum-ronsdorf.de/event/cafe-freiraum-32/
LOCATION:Freiraum Ronsdorf\, In der Krim 12\, Wuppertal\, 42369
ATTACH;FMTTYPE=image/png:https://freiraum-ronsdorf.de/wp-content/uploads/2025/04/Cafe-scaled.png
END:VEVENT
BEGIN:VEVENT
DTSTART;TZID=Europe/Berlin:20250708T100000
DTEND;TZID=Europe/Berlin:20250708T113000
DTSTAMP:20260422T025609
CREATED:20250508T080544Z
LAST-MODIFIED:20250526T103552Z
UID:10000655-1751968800-1751974200@freiraum-ronsdorf.de
SUMMARY:Veeh-Harfen - Ensemble Probe
DESCRIPTION:Das Veeh-Harfen-Ensemble mit Urte Rohda probt im Freiraum. \nWer Interesse an dem Instrument hat und sich eine Probe ansehen möchte\, darf sich gern per E-Mail oder über das Kontaktformular unserer Website melden. \n 
URL:https://freiraum-ronsdorf.de/event/veeh-harfen-ensemble-probe-24/
LOCATION:Freiraum Ronsdorf\, In der Krim 12\, Wuppertal\, 42369
ATTACH;FMTTYPE=image/jpeg:https://freiraum-ronsdorf.de/wp-content/uploads/2025/01/MG_6123-scaled.jpg
END:VEVENT
BEGIN:VEVENT
DTSTART;TZID=Europe/Berlin:20250707T190000
DTEND;TZID=Europe/Berlin:20250707T203000
DTSTAMP:20260422T025609
CREATED:20250508T080429Z
LAST-MODIFIED:20250508T080429Z
UID:10000650-1751914800-1751920200@freiraum-ronsdorf.de
SUMMARY:Niederländisch Kurs
DESCRIPTION:Beste mensen! (was soviel heißt wie: Liebe Leute!) \nIm Freiraum gibt es ab sofort die Möglichkeit\, Niederländisch zu lernen.\nWir treffen uns wöchentlich in geselliger Runde zum Plaudern und lernen dabei Grundlagen der Niederländischen Sprache und Themen kennen\, über die man als Niederlande-Fan immer schonmal reden wollte. \nEine Anmeldung ist nicht erforderlich. Kommt einfach vorbei. \nWij gaan Hollands praten.\nTot ziens \nHeike Blombach
URL:https://freiraum-ronsdorf.de/event/niederlaendisch-kurs-15/
LOCATION:Freiraum Ronsdorf\, In der Krim 12\, Wuppertal\, 42369
ATTACH;FMTTYPE=image/png:https://freiraum-ronsdorf.de/wp-content/uploads/2024/12/Blue-Photo-Collage-Hello-August-Instagram-Post-1.png
END:VEVENT
BEGIN:VEVENT
DTSTART;TZID=Europe/Berlin:20250705T150000
DTEND;TZID=Europe/Berlin:20250705T170000
DTSTAMP:20260422T025609
CREATED:20250508T080945Z
LAST-MODIFIED:20250508T080945Z
UID:10000669-1751727600-1751734800@freiraum-ronsdorf.de
SUMMARY:Strick-Café
DESCRIPTION:Eigene Projekte unter Gleichgesinnten in gemütlicher Café-Atmosphäre weiter stricken. \nWeitere Infos.
URL:https://freiraum-ronsdorf.de/event/strick-cafe-28/
LOCATION:Freiraum Ronsdorf\, In der Krim 12\, Wuppertal\, 42369
ATTACH;FMTTYPE=image/jpeg:https://freiraum-ronsdorf.de/wp-content/uploads/2023/12/Stricken_1.jpg
END:VEVENT
BEGIN:VEVENT
DTSTART;TZID=Europe/Berlin:20250704T100000
DTEND;TZID=Europe/Berlin:20250704T113000
DTSTAMP:20260422T025609
CREATED:20250508T080832Z
LAST-MODIFIED:20250508T080832Z
UID:10000665-1751623200-1751628600@freiraum-ronsdorf.de
SUMMARY:Krabbelgruppe
DESCRIPTION:Wir freuen uns eine Krabbelgruppe anbieten zu dürfen! \nHier treffen sich Mütter mit Kindern von 0 bis 3 Jahren\, um in entspannter Atmosphäre eine schöne Zeit zu verbringen.\nWährend die Kleinen gemeinsam spielen und die Welt entdecken\, bleibt den Müttern Raum für Austausch\, Gespräche und gegenseitige Unterstützung. \nBei einer Tasse Kaffee oder Tee und kleinen Leckereien könnt ihr den Vormittag genießen und euch in unserem gemütlichen Wohlfühlort eine Auszeit gönnen.\nWir freuen uns darauf\, eine herzliche Gemeinschaft zu schaffen\, in der Groß und Klein sich wohlfühlen. Kommt vorbei und erlebt schöne Stunden mit uns!
URL:https://freiraum-ronsdorf.de/event/krabbelgruppe-13/
LOCATION:Freiraum Ronsdorf\, In der Krim 12\, Wuppertal\, 42369
ATTACH;FMTTYPE=image/png:https://freiraum-ronsdorf.de/wp-content/uploads/2025/01/Navy-Organic-Childrens-Playgroup-Advertisement-Flyer.png
END:VEVENT
BEGIN:VEVENT
DTSTART;TZID=Europe/Berlin:20250703T150000
DTEND;TZID=Europe/Berlin:20250703T180000
DTSTAMP:20260422T025609
CREATED:20250508T080718Z
LAST-MODIFIED:20250607T192518Z
UID:10000660-1751554800-1751565600@freiraum-ronsdorf.de
SUMMARY:Café-Freiraum
DESCRIPTION:Freiraum Ronsdorf lädt ein! \nJeden Donnerstag öffnen wir unsere Türen für alle – ganz ohne feste Veranstaltung. Kommt vorbei und genießt eine entspannte Zeit: Ob bei einer Tasse Kaffee\, einem leckeren Stück Kuchen\, beim Stöbern in einem Buch oder einem kleinen Kicker-Match. Hier ist Platz für Begegnungen\, Gespräche und Gemeinschaft. Lasst uns den Tag gemeinsam genießen – wir freuen uns auf euch!
URL:https://freiraum-ronsdorf.de/event/cafe-freiraum-23/
LOCATION:Freiraum Ronsdorf\, In der Krim 12\, Wuppertal\, 42369
ATTACH;FMTTYPE=image/png:https://freiraum-ronsdorf.de/wp-content/uploads/2025/04/Cafe-scaled.png
END:VEVENT
BEGIN:VEVENT
DTSTART;TZID=Europe/Berlin:20250701T170000
DTEND;TZID=Europe/Berlin:20250701T190000
DTSTAMP:20260422T025609
CREATED:20250508T080655Z
LAST-MODIFIED:20250508T080655Z
UID:10000659-1751389200-1751396400@freiraum-ronsdorf.de
SUMMARY:Harfen-Café
DESCRIPTION:Jeden ersten Dienstag im Monat lädt Urte Rohda herzlich dazu ein\, die Veeh-Harfe kennenzulernen und auszuprobieren. In gemütlicher Atmosphäre genießen wir gemeinsam Kaffee\, Knabbereien und musikalische Klänge. Ob mit oder ohne Vorkenntnisse – einfach vorbeikommen und den Zauber der Musik entdecken!
URL:https://freiraum-ronsdorf.de/event/harfen-cafe-6/
LOCATION:Freiraum Ronsdorf\, In der Krim 12\, Wuppertal\, 42369
ATTACH;FMTTYPE=image/png:https://freiraum-ronsdorf.de/wp-content/uploads/2025/01/Blue-Photo-Collage-Hello-August-Instagram-Post.png
END:VEVENT
BEGIN:VEVENT
DTSTART;TZID=Europe/Berlin:20250701T100000
DTEND;TZID=Europe/Berlin:20250701T113000
DTSTAMP:20260422T025609
CREATED:20250508T080529Z
LAST-MODIFIED:20250526T103526Z
UID:10000654-1751364000-1751369400@freiraum-ronsdorf.de
SUMMARY:Veeh-Harfen - Ensemble Probe
DESCRIPTION:Das Veeh-Harfen-Ensemble mit Urte Rohda probt im Freiraum. \nWer Interesse an dem Instrument hat und sich eine Probe ansehen möchte\, darf sich gern per E-Mail oder über das Kontaktformular unserer Website melden. \n 
URL:https://freiraum-ronsdorf.de/event/veeh-harfen-ensemble-probe-23/
LOCATION:Freiraum Ronsdorf\, In der Krim 12\, Wuppertal\, 42369
ATTACH;FMTTYPE=image/jpeg:https://freiraum-ronsdorf.de/wp-content/uploads/2025/01/MG_6123-scaled.jpg
END:VEVENT
BEGIN:VEVENT
DTSTART;TZID=Europe/Berlin:20250629T120000
DTEND;TZID=Europe/Berlin:20250629T140000
DTSTAMP:20260422T025609
CREATED:20250531T183029Z
LAST-MODIFIED:20250531T183029Z
UID:10000678-1751198400-1751205600@freiraum-ronsdorf.de
SUMMARY:Bücherclub
DESCRIPTION:„Es gibt mehr Schätze in Büchern als Piratenbeute auf der Schatzinsel…und das Beste ist\, du kannst diesen Reichtum jeden Tag deines Lebens genießen.“\, sagte schon Walt Disney. \nWir\, Sofia\, Aliena und Selina\, möchten diesen Schätzen gemeinsam mit euch auf den Grund gehen.\nJeder hat Bücher\, die einen bewegt haben\, die Erinnerungen wecken oder die noch auf der Leseliste stehen. Am schönsten ist es doch\, wenn man diese miteinander teilen kann. \nDie neue Challenge für das nächste Treffen:\nLies ein Buch\, das in deinem Geburtsjahr veröffentlicht wurde.
URL:https://freiraum-ronsdorf.de/event/buecherclub-10/
LOCATION:Freiraum Ronsdorf\, In der Krim 12\, Wuppertal\, 42369
ATTACH;FMTTYPE=image/jpeg:https://freiraum-ronsdorf.de/wp-content/uploads/2024/04/Buecherclub.jpg
END:VEVENT
BEGIN:VEVENT
DTSTART;TZID=Europe/Berlin:20250628T100000
DTEND;TZID=Europe/Berlin:20250628T130000
DTSTAMP:20260422T025609
CREATED:20250526T081807Z
LAST-MODIFIED:20250526T082448Z
UID:10000677-1751104800-1751115600@freiraum-ronsdorf.de
SUMMARY:Kleidertauschparty
DESCRIPTION:Unter dem Motto „Tauschen statt kaufen!“ treffen wir uns im Vereinsheim und tauschen was das Zeug hält.\nJeder kann maximal 10 gewaschene\, gut erhaltene Kleidungsstücke mitbringen. \nDiesmal wird auch Spielzeug getauscht. Bringt gerne gut erhaltenes\, funktionierendes Spielzeug mit und tauscht um die Wette.
URL:https://freiraum-ronsdorf.de/event/kleidertauschparty-3/
LOCATION:Freiraum Ronsdorf\, In der Krim 12\, Wuppertal\, 42369
ATTACH;FMTTYPE=image/jpeg:https://freiraum-ronsdorf.de/wp-content/uploads/2023/12/boutique-6796399_1280.jpg
END:VEVENT
BEGIN:VEVENT
DTSTART;TZID=Europe/Berlin:20250626T150000
DTEND;TZID=Europe/Berlin:20250626T180000
DTSTAMP:20260422T025609
CREATED:20250409T082904Z
LAST-MODIFIED:20250607T192538Z
UID:10000640-1750950000-1750960800@freiraum-ronsdorf.de
SUMMARY:Café-Freiraum
DESCRIPTION:Freiraum Ronsdorf lädt ein! \nJeden Donnerstag öffnen wir unsere Türen für alle – ganz ohne feste Veranstaltung. Kommt vorbei und genießt eine entspannte Zeit: Ob bei einer Tasse Kaffee\, einem leckeren Stück Kuchen\, beim Stöbern in einem Buch oder einem kleinen Kicker-Match. Hier ist Platz für Begegnungen\, Gespräche und Gemeinschaft. Lasst uns den Tag gemeinsam genießen – wir freuen uns auf euch!
URL:https://freiraum-ronsdorf.de/event/cafe-freiraum-31/
LOCATION:Freiraum Ronsdorf\, In der Krim 12\, Wuppertal\, 42369
ATTACH;FMTTYPE=image/png:https://freiraum-ronsdorf.de/wp-content/uploads/2025/04/Cafe-scaled.png
END:VEVENT
END:VCALENDAR