BEGIN:VCALENDAR
VERSION:2.0
PRODID:-//Freiraum Ronsdorf - ECPv6.5.1.3//NONSGML v1.0//EN
CALSCALE:GREGORIAN
METHOD:PUBLISH
X-ORIGINAL-URL:https://freiraum-ronsdorf.de
X-WR-CALDESC:Veranstaltungen für Freiraum Ronsdorf
REFRESH-INTERVAL;VALUE=DURATION:PT1H
X-Robots-Tag:noindex
X-PUBLISHED-TTL:PT1H
BEGIN:VTIMEZONE
TZID:Europe/Berlin
BEGIN:DAYLIGHT
TZOFFSETFROM:+0100
TZOFFSETTO:+0200
TZNAME:CEST
DTSTART:20250330T010000
END:DAYLIGHT
BEGIN:STANDARD
TZOFFSETFROM:+0200
TZOFFSETTO:+0100
TZNAME:CET
DTSTART:20251026T010000
END:STANDARD
END:VTIMEZONE
BEGIN:VEVENT
DTSTART;TZID=Europe/Berlin:20250902T170000
DTEND;TZID=Europe/Berlin:20250902T190000
DTSTAMP:20260421T234154
CREATED:20250703T094138Z
LAST-MODIFIED:20250703T094138Z
UID:10000713-1756832400-1756839600@freiraum-ronsdorf.de
SUMMARY:Harfen-Café
DESCRIPTION:Jeden ersten Dienstag im Monat lädt Urte Rohda herzlich dazu ein\, die Veeh-Harfe kennenzulernen und auszuprobieren. In gemütlicher Atmosphäre genießen wir gemeinsam Kaffee\, Knabbereien und musikalische Klänge. Ob mit oder ohne Vorkenntnisse – einfach vorbeikommen und den Zauber der Musik entdecken!
URL:https://freiraum-ronsdorf.de/event/harfen-cafe-8/
LOCATION:Freiraum Ronsdorf\, In der Krim 12\, Wuppertal\, 42369
ATTACH;FMTTYPE=image/png:https://freiraum-ronsdorf.de/wp-content/uploads/2025/01/Blue-Photo-Collage-Hello-August-Instagram-Post.png
END:VEVENT
BEGIN:VEVENT
DTSTART;TZID=Europe/Berlin:20250902T100000
DTEND;TZID=Europe/Berlin:20250902T113000
DTSTAMP:20260421T234154
CREATED:20250703T094029Z
LAST-MODIFIED:20250703T094029Z
UID:10000708-1756807200-1756812600@freiraum-ronsdorf.de
SUMMARY:Veeh-Harfen - Ensemble Probe
DESCRIPTION:Das Veeh-Harfen-Ensemble mit Urte Rohda probt im Freiraum. \nWer Interesse an dem Instrument hat und sich eine Probe ansehen möchte\, darf sich gern per E-Mail oder über das Kontaktformular unserer Website melden. \n 
URL:https://freiraum-ronsdorf.de/event/veeh-harfen-ensemble-probe-32/
LOCATION:Freiraum Ronsdorf\, In der Krim 12\, Wuppertal\, 42369
ATTACH;FMTTYPE=image/jpeg:https://freiraum-ronsdorf.de/wp-content/uploads/2025/01/MG_6123-scaled.jpg
END:VEVENT
BEGIN:VEVENT
DTSTART;TZID=Europe/Berlin:20250901T190000
DTEND;TZID=Europe/Berlin:20250901T203000
DTSTAMP:20260421T234154
CREATED:20250703T093835Z
LAST-MODIFIED:20250703T093835Z
UID:10000703-1756753200-1756758600@freiraum-ronsdorf.de
SUMMARY:Niederländisch Kurs
DESCRIPTION:Beste mensen! (was soviel heißt wie: Liebe Leute!) \nIm Freiraum gibt es ab sofort die Möglichkeit\, Niederländisch zu lernen.\nWir treffen uns wöchentlich in geselliger Runde zum Plaudern und lernen dabei Grundlagen der Niederländischen Sprache und Themen kennen\, über die man als Niederlande-Fan immer schonmal reden wollte. \nEine Anmeldung ist nicht erforderlich. Kommt einfach vorbei. \nWij gaan Hollands praten.\nTot ziens \nHeike Blombach
URL:https://freiraum-ronsdorf.de/event/niederlaendisch-kurs-30/
LOCATION:Freiraum Ronsdorf\, In der Krim 12\, Wuppertal\, 42369
ATTACH;FMTTYPE=image/png:https://freiraum-ronsdorf.de/wp-content/uploads/2024/12/Blue-Photo-Collage-Hello-August-Instagram-Post-1.png
END:VEVENT
BEGIN:VEVENT
DTSTART;TZID=Europe/Berlin:20250830T150000
DTEND;TZID=Europe/Berlin:20250830T170000
DTSTAMP:20260421T234154
CREATED:20250531T191726Z
LAST-MODIFIED:20250531T191726Z
UID:10000699-1756566000-1756573200@freiraum-ronsdorf.de
SUMMARY:Strick-Café
DESCRIPTION:Eigene Projekte unter Gleichgesinnten in gemütlicher Café-Atmosphäre weiter stricken. \nWeitere Infos.
URL:https://freiraum-ronsdorf.de/event/strick-cafe-32/
LOCATION:Freiraum Ronsdorf\, In der Krim 12\, Wuppertal\, 42369
ATTACH;FMTTYPE=image/jpeg:https://freiraum-ronsdorf.de/wp-content/uploads/2023/12/Stricken_1.jpg
END:VEVENT
BEGIN:VEVENT
DTSTART;TZID=Europe/Berlin:20250829T100000
DTEND;TZID=Europe/Berlin:20250829T113000
DTSTAMP:20260421T234154
CREATED:20250531T191326Z
LAST-MODIFIED:20250531T191410Z
UID:10000695-1756461600-1756467000@freiraum-ronsdorf.de
SUMMARY:Krabbelgruppe
DESCRIPTION:Wir freuen uns eine Krabbelgruppe anbieten zu dürfen! \nHier treffen sich Mütter mit Kindern von 0 bis 3 Jahren\, um in entspannter Atmosphäre eine schöne Zeit zu verbringen.\nWährend die Kleinen gemeinsam spielen und die Welt entdecken\, bleibt den Müttern Raum für Austausch\, Gespräche und gegenseitige Unterstützung. \nBei einer Tasse Kaffee oder Tee und kleinen Leckereien könnt ihr den Vormittag genießen und euch in unserem gemütlichen Wohlfühlort eine Auszeit gönnen.\nWir freuen uns darauf\, eine herzliche Gemeinschaft zu schaffen\, in der Groß und Klein sich wohlfühlen. Kommt vorbei und erlebt schöne Stunden mit uns!
URL:https://freiraum-ronsdorf.de/event/krabbelgruppe-19/
LOCATION:Freiraum Ronsdorf\, In der Krim 12\, Wuppertal\, 42369
ATTACH;FMTTYPE=image/png:https://freiraum-ronsdorf.de/wp-content/uploads/2025/01/Navy-Organic-Childrens-Playgroup-Advertisement-Flyer.png
END:VEVENT
BEGIN:VEVENT
DTSTART;TZID=Europe/Berlin:20250828T150000
DTEND;TZID=Europe/Berlin:20250828T180000
DTSTAMP:20260421T234154
CREATED:20250531T191131Z
LAST-MODIFIED:20250607T192215Z
UID:10000691-1756393200-1756404000@freiraum-ronsdorf.de
SUMMARY:Café-Freiraum
DESCRIPTION:Freiraum Ronsdorf lädt ein! \nJeden Donnerstag öffnen wir unsere Türen für alle – ganz ohne feste Veranstaltung. Kommt vorbei und genießt eine entspannte Zeit: Ob bei einer Tasse Kaffee\, einem leckeren Stück Kuchen\, beim Stöbern in einem Buch oder einem kleinen Kicker-Match. Hier ist Platz für Begegnungen\, Gespräche und Gemeinschaft. Lasst uns den Tag gemeinsam genießen – wir freuen uns auf euch!
URL:https://freiraum-ronsdorf.de/event/cafe-freiraum-37/
LOCATION:Freiraum Ronsdorf\, In der Krim 12\, Wuppertal\, 42369
ATTACH;FMTTYPE=image/png:https://freiraum-ronsdorf.de/wp-content/uploads/2025/04/Cafe-scaled.png
END:VEVENT
BEGIN:VEVENT
DTSTART;TZID=Europe/Berlin:20250826T100000
DTEND;TZID=Europe/Berlin:20250826T113000
DTSTAMP:20260421T234154
CREATED:20250531T190807Z
LAST-MODIFIED:20250531T190807Z
UID:10000686-1756202400-1756207800@freiraum-ronsdorf.de
SUMMARY:Veeh-Harfen - Ensemble Probe
DESCRIPTION:Das Veeh-Harfen-Ensemble mit Urte Rohda probt im Freiraum. \nWer Interesse an dem Instrument hat und sich eine Probe ansehen möchte\, darf sich gern per E-Mail oder über das Kontaktformular unserer Website melden. \n 
URL:https://freiraum-ronsdorf.de/event/veeh-harfen-ensemble-probe-31/
LOCATION:Freiraum Ronsdorf\, In der Krim 12\, Wuppertal\, 42369
ATTACH;FMTTYPE=image/jpeg:https://freiraum-ronsdorf.de/wp-content/uploads/2025/01/MG_6123-scaled.jpg
END:VEVENT
BEGIN:VEVENT
DTSTART;TZID=Europe/Berlin:20250825T190000
DTEND;TZID=Europe/Berlin:20250825T203000
DTSTAMP:20260421T234154
CREATED:20250531T185638Z
LAST-MODIFIED:20250531T185638Z
UID:10000682-1756148400-1756153800@freiraum-ronsdorf.de
SUMMARY:Niederländisch Kurs
DESCRIPTION:Beste mensen! (was soviel heißt wie: Liebe Leute!) \nIm Freiraum gibt es ab sofort die Möglichkeit\, Niederländisch zu lernen.\nWir treffen uns wöchentlich in geselliger Runde zum Plaudern und lernen dabei Grundlagen der Niederländischen Sprache und Themen kennen\, über die man als Niederlande-Fan immer schonmal reden wollte. \nEine Anmeldung ist nicht erforderlich. Kommt einfach vorbei. \nWij gaan Hollands praten.\nTot ziens \nHeike Blombach
URL:https://freiraum-ronsdorf.de/event/niederlaendisch-kurs-29/
LOCATION:Freiraum Ronsdorf\, In der Krim 12\, Wuppertal\, 42369
ATTACH;FMTTYPE=image/png:https://freiraum-ronsdorf.de/wp-content/uploads/2024/12/Blue-Photo-Collage-Hello-August-Instagram-Post-1.png
END:VEVENT
BEGIN:VEVENT
DTSTART;TZID=Europe/Berlin:20250823T190000
DTEND;TZID=Europe/Berlin:20250823T190000
DTSTAMP:20260421T234154
CREATED:20250601T185933Z
LAST-MODIFIED:20250806T123314Z
UID:10000701-1755975600-1755975600@freiraum-ronsdorf.de
SUMMARY:AUSGEBUCHT - Spieleabend
DESCRIPTION:Wir treffen uns in einem gemütlichen Raum\, um Brett- oder auch mal ein Kartenspiel zu spielen. Es können gerne eigene Spiele mitgebracht werden\, sofern die Regeln bekannt sind und auch erklärt werden können.\n\nUm Anmeldung wird zwecks Organisation gebeten: info@freiraum-ronsdorf.de
URL:https://freiraum-ronsdorf.de/event/spieleabend-13/
LOCATION:Freiraum Ronsdorf\, In der Krim 12\, Wuppertal\, 42369
ATTACH;FMTTYPE=image/jpeg:https://freiraum-ronsdorf.de/wp-content/uploads/2024/12/IMG_1132-scaled-1.jpeg
END:VEVENT
BEGIN:VEVENT
DTSTART;TZID=Europe/Berlin:20250822T100000
DTEND;TZID=Europe/Berlin:20250822T113000
DTSTAMP:20260421T234154
CREATED:20250531T191438Z
LAST-MODIFIED:20250531T191438Z
UID:10000696-1755856800-1755862200@freiraum-ronsdorf.de
SUMMARY:Krabbelgruppe
DESCRIPTION:Wir freuen uns eine Krabbelgruppe anbieten zu dürfen! \nHier treffen sich Mütter mit Kindern von 0 bis 3 Jahren\, um in entspannter Atmosphäre eine schöne Zeit zu verbringen.\nWährend die Kleinen gemeinsam spielen und die Welt entdecken\, bleibt den Müttern Raum für Austausch\, Gespräche und gegenseitige Unterstützung. \nBei einer Tasse Kaffee oder Tee und kleinen Leckereien könnt ihr den Vormittag genießen und euch in unserem gemütlichen Wohlfühlort eine Auszeit gönnen.\nWir freuen uns darauf\, eine herzliche Gemeinschaft zu schaffen\, in der Groß und Klein sich wohlfühlen. Kommt vorbei und erlebt schöne Stunden mit uns!
URL:https://freiraum-ronsdorf.de/event/krabbelgruppe-23/
LOCATION:Freiraum Ronsdorf\, In der Krim 12\, Wuppertal\, 42369
ATTACH;FMTTYPE=image/png:https://freiraum-ronsdorf.de/wp-content/uploads/2025/01/Navy-Organic-Childrens-Playgroup-Advertisement-Flyer.png
END:VEVENT
BEGIN:VEVENT
DTSTART;TZID=Europe/Berlin:20250821T150000
DTEND;TZID=Europe/Berlin:20250821T180000
DTSTAMP:20260421T234154
CREATED:20250531T191106Z
LAST-MODIFIED:20250607T192234Z
UID:10000690-1755788400-1755799200@freiraum-ronsdorf.de
SUMMARY:Café-Freiraum
DESCRIPTION:Freiraum Ronsdorf lädt ein! \nJeden Donnerstag öffnen wir unsere Türen für alle – ganz ohne feste Veranstaltung. Kommt vorbei und genießt eine entspannte Zeit: Ob bei einer Tasse Kaffee\, einem leckeren Stück Kuchen\, beim Stöbern in einem Buch oder einem kleinen Kicker-Match. Hier ist Platz für Begegnungen\, Gespräche und Gemeinschaft. Lasst uns den Tag gemeinsam genießen – wir freuen uns auf euch!
URL:https://freiraum-ronsdorf.de/event/cafe-freiraum-36/
LOCATION:Freiraum Ronsdorf\, In der Krim 12\, Wuppertal\, 42369
ATTACH;FMTTYPE=image/png:https://freiraum-ronsdorf.de/wp-content/uploads/2025/04/Cafe-scaled.png
END:VEVENT
BEGIN:VEVENT
DTSTART;TZID=Europe/Berlin:20250819T100000
DTEND;TZID=Europe/Berlin:20250819T113000
DTSTAMP:20260421T234154
CREATED:20250531T185908Z
LAST-MODIFIED:20250531T185920Z
UID:10000684-1755597600-1755603000@freiraum-ronsdorf.de
SUMMARY:Veeh-Harfen - Ensemble Probe
DESCRIPTION:Das Veeh-Harfen-Ensemble mit Urte Rohda probt im Freiraum. \nWer Interesse an dem Instrument hat und sich eine Probe ansehen möchte\, darf sich gern per E-Mail oder über das Kontaktformular unserer Website melden. \n 
URL:https://freiraum-ronsdorf.de/event/veeh-harfen-ensemble-probe-29/
LOCATION:Freiraum Ronsdorf\, In der Krim 12\, Wuppertal\, 42369
ATTACH;FMTTYPE=image/jpeg:https://freiraum-ronsdorf.de/wp-content/uploads/2025/01/MG_6123-scaled.jpg
END:VEVENT
BEGIN:VEVENT
DTSTART;TZID=Europe/Berlin:20250818T190000
DTEND;TZID=Europe/Berlin:20250818T203000
DTSTAMP:20260421T234154
CREATED:20250531T185224Z
LAST-MODIFIED:20250531T185224Z
UID:10000681-1755543600-1755549000@freiraum-ronsdorf.de
SUMMARY:Niederländisch Kurs
DESCRIPTION:Beste mensen! (was soviel heißt wie: Liebe Leute!) \nIm Freiraum gibt es ab sofort die Möglichkeit\, Niederländisch zu lernen.\nWir treffen uns wöchentlich in geselliger Runde zum Plaudern und lernen dabei Grundlagen der Niederländischen Sprache und Themen kennen\, über die man als Niederlande-Fan immer schonmal reden wollte. \nEine Anmeldung ist nicht erforderlich. Kommt einfach vorbei. \nWij gaan Hollands praten.\nTot ziens \nHeike Blombach
URL:https://freiraum-ronsdorf.de/event/niederlaendisch-kurs-25/
LOCATION:Freiraum Ronsdorf\, In der Krim 12\, Wuppertal\, 42369
ATTACH;FMTTYPE=image/png:https://freiraum-ronsdorf.de/wp-content/uploads/2024/12/Blue-Photo-Collage-Hello-August-Instagram-Post-1.png
END:VEVENT
BEGIN:VEVENT
DTSTART;TZID=Europe/Berlin:20250816T150000
DTEND;TZID=Europe/Berlin:20250816T170000
DTSTAMP:20260421T234154
CREATED:20250531T191705Z
LAST-MODIFIED:20250531T191705Z
UID:10000698-1755356400-1755363600@freiraum-ronsdorf.de
SUMMARY:Strick-Café
DESCRIPTION:Eigene Projekte unter Gleichgesinnten in gemütlicher Café-Atmosphäre weiter stricken. \nWeitere Infos.
URL:https://freiraum-ronsdorf.de/event/strick-cafe-31/
LOCATION:Freiraum Ronsdorf\, In der Krim 12\, Wuppertal\, 42369
ATTACH;FMTTYPE=image/jpeg:https://freiraum-ronsdorf.de/wp-content/uploads/2023/12/Stricken_1.jpg
END:VEVENT
BEGIN:VEVENT
DTSTART;TZID=Europe/Berlin:20250815T100000
DTEND;TZID=Europe/Berlin:20250815T113000
DTSTAMP:20260421T234154
CREATED:20250531T191308Z
LAST-MODIFIED:20250531T191308Z
UID:10000694-1755252000-1755257400@freiraum-ronsdorf.de
SUMMARY:Krabbelgruppe
DESCRIPTION:Wir freuen uns eine Krabbelgruppe anbieten zu dürfen! \nHier treffen sich Mütter mit Kindern von 0 bis 3 Jahren\, um in entspannter Atmosphäre eine schöne Zeit zu verbringen.\nWährend die Kleinen gemeinsam spielen und die Welt entdecken\, bleibt den Müttern Raum für Austausch\, Gespräche und gegenseitige Unterstützung. \nBei einer Tasse Kaffee oder Tee und kleinen Leckereien könnt ihr den Vormittag genießen und euch in unserem gemütlichen Wohlfühlort eine Auszeit gönnen.\nWir freuen uns darauf\, eine herzliche Gemeinschaft zu schaffen\, in der Groß und Klein sich wohlfühlen. Kommt vorbei und erlebt schöne Stunden mit uns!
URL:https://freiraum-ronsdorf.de/event/krabbelgruppe-18/
LOCATION:Freiraum Ronsdorf\, In der Krim 12\, Wuppertal\, 42369
ATTACH;FMTTYPE=image/png:https://freiraum-ronsdorf.de/wp-content/uploads/2025/01/Navy-Organic-Childrens-Playgroup-Advertisement-Flyer.png
END:VEVENT
BEGIN:VEVENT
DTSTART;TZID=Europe/Berlin:20250814T150000
DTEND;TZID=Europe/Berlin:20250814T180000
DTSTAMP:20260421T234154
CREATED:20250531T191053Z
LAST-MODIFIED:20250607T192257Z
UID:10000689-1755183600-1755194400@freiraum-ronsdorf.de
SUMMARY:Café-Freiraum
DESCRIPTION:Freiraum Ronsdorf lädt ein! \nJeden Donnerstag öffnen wir unsere Türen für alle – ganz ohne feste Veranstaltung. Kommt vorbei und genießt eine entspannte Zeit: Ob bei einer Tasse Kaffee\, einem leckeren Stück Kuchen\, beim Stöbern in einem Buch oder einem kleinen Kicker-Match. Hier ist Platz für Begegnungen\, Gespräche und Gemeinschaft. Lasst uns den Tag gemeinsam genießen – wir freuen uns auf euch!
URL:https://freiraum-ronsdorf.de/event/cafe-freiraum-30/
LOCATION:Freiraum Ronsdorf\, In der Krim 12\, Wuppertal\, 42369
ATTACH;FMTTYPE=image/png:https://freiraum-ronsdorf.de/wp-content/uploads/2025/04/Cafe-scaled.png
END:VEVENT
BEGIN:VEVENT
DTSTART;TZID=Europe/Berlin:20250814T093000
DTEND;TZID=Europe/Berlin:20250814T113000
DTSTAMP:20260421T234154
CREATED:20250806T123421Z
LAST-MODIFIED:20250806T123421Z
UID:10000724-1755163800-1755171000@freiraum-ronsdorf.de
SUMMARY:Kreativ Gruppe – Raum für Ruhe und Ausdruck
DESCRIPTION:Gestalten heißt\, dem „Inneren“ Ausdruck verleihen – das stärkt\, verbindet und bringt neue Impulse. \nDiese Gruppe richtet sich an Menschen\, die gerne in einer kleinen Gruppe kreativ sein möchten. \nDu hast Lust\, kreativ zu sein\, ganz in deinem Tempo und ohne Leistungsdruck?\nIn dieser fortlaufenden Gruppe darfst du gestalten\, ausprobieren\, zur Ruhe kommen und dich über dein Tun ausdrücken. Im Fokus steht die Freude am Tun\, nicht das Ergebnis! \nDu kannst gerne aus einem Pool von Materialien das Passende für dich auswählen und/oder selber Material und Ideen mitbringen. Es gibt keine Vorgaben\, du entscheidest\, woran und womit du gestalten möchtest. \nEs erfolgt keine fachliche Begleitung. Alle Teilnehmer sind die Gestalter der gemeinsamen kreativen Zeit. \nTraut euch! Kommt vorbei.. schaut euch um.. ich freue mich schon sehr auf Euch!! Eure Nike
URL:https://freiraum-ronsdorf.de/event/kreativ-gruppe-raum-fuer-ruhe-und-ausdruck-3/
LOCATION:Freiraum Ronsdorf\, In der Krim 12\, Wuppertal\, 42369
ATTACH;FMTTYPE=image/jpeg:https://freiraum-ronsdorf.de/wp-content/uploads/2025/06/Kreativ.jpg
END:VEVENT
BEGIN:VEVENT
DTSTART;TZID=Europe/Berlin:20250812T100000
DTEND;TZID=Europe/Berlin:20250812T113000
DTSTAMP:20260421T234154
CREATED:20250531T185937Z
LAST-MODIFIED:20250531T190733Z
UID:10000685-1754992800-1754998200@freiraum-ronsdorf.de
SUMMARY:Veeh-Harfen - Ensemble Probe
DESCRIPTION:Das Veeh-Harfen-Ensemble mit Urte Rohda probt im Freiraum. \nWer Interesse an dem Instrument hat und sich eine Probe ansehen möchte\, darf sich gern per E-Mail oder über das Kontaktformular unserer Website melden. \n 
URL:https://freiraum-ronsdorf.de/event/veeh-harfen-ensemble-probe-30/
LOCATION:Freiraum Ronsdorf\, In der Krim 12\, Wuppertal\, 42369
ATTACH;FMTTYPE=image/jpeg:https://freiraum-ronsdorf.de/wp-content/uploads/2025/01/MG_6123-scaled.jpg
END:VEVENT
BEGIN:VEVENT
DTSTART;TZID=Europe/Berlin:20250811T190000
DTEND;TZID=Europe/Berlin:20250811T203000
DTSTAMP:20260421T234154
CREATED:20250531T185209Z
LAST-MODIFIED:20250531T185209Z
UID:10000680-1754938800-1754944200@freiraum-ronsdorf.de
SUMMARY:Niederländisch Kurs
DESCRIPTION:Beste mensen! (was soviel heißt wie: Liebe Leute!) \nIm Freiraum gibt es ab sofort die Möglichkeit\, Niederländisch zu lernen.\nWir treffen uns wöchentlich in geselliger Runde zum Plaudern und lernen dabei Grundlagen der Niederländischen Sprache und Themen kennen\, über die man als Niederlande-Fan immer schonmal reden wollte. \nEine Anmeldung ist nicht erforderlich. Kommt einfach vorbei. \nWij gaan Hollands praten.\nTot ziens \nHeike Blombach
URL:https://freiraum-ronsdorf.de/event/niederlaendisch-kurs-24/
LOCATION:Freiraum Ronsdorf\, In der Krim 12\, Wuppertal\, 42369
ATTACH;FMTTYPE=image/png:https://freiraum-ronsdorf.de/wp-content/uploads/2024/12/Blue-Photo-Collage-Hello-August-Instagram-Post-1.png
END:VEVENT
BEGIN:VEVENT
DTSTART;TZID=Europe/Berlin:20250808T100000
DTEND;TZID=Europe/Berlin:20250808T113000
DTSTAMP:20260421T234154
CREATED:20250531T191253Z
LAST-MODIFIED:20250531T191253Z
UID:10000693-1754647200-1754652600@freiraum-ronsdorf.de
SUMMARY:Krabbelgruppe
DESCRIPTION:Wir freuen uns eine Krabbelgruppe anbieten zu dürfen! \nHier treffen sich Mütter mit Kindern von 0 bis 3 Jahren\, um in entspannter Atmosphäre eine schöne Zeit zu verbringen.\nWährend die Kleinen gemeinsam spielen und die Welt entdecken\, bleibt den Müttern Raum für Austausch\, Gespräche und gegenseitige Unterstützung. \nBei einer Tasse Kaffee oder Tee und kleinen Leckereien könnt ihr den Vormittag genießen und euch in unserem gemütlichen Wohlfühlort eine Auszeit gönnen.\nWir freuen uns darauf\, eine herzliche Gemeinschaft zu schaffen\, in der Groß und Klein sich wohlfühlen. Kommt vorbei und erlebt schöne Stunden mit uns!
URL:https://freiraum-ronsdorf.de/event/krabbelgruppe-11/
LOCATION:Freiraum Ronsdorf\, In der Krim 12\, Wuppertal\, 42369
ATTACH;FMTTYPE=image/png:https://freiraum-ronsdorf.de/wp-content/uploads/2025/01/Navy-Organic-Childrens-Playgroup-Advertisement-Flyer.png
END:VEVENT
BEGIN:VEVENT
DTSTART;TZID=Europe/Berlin:20250807T150000
DTEND;TZID=Europe/Berlin:20250807T180000
DTSTAMP:20260421T234154
CREATED:20250531T191036Z
LAST-MODIFIED:20250607T192320Z
UID:10000688-1754578800-1754589600@freiraum-ronsdorf.de
SUMMARY:Café-Freiraum
DESCRIPTION:Freiraum Ronsdorf lädt ein! \nJeden Donnerstag öffnen wir unsere Türen für alle – ganz ohne feste Veranstaltung. Kommt vorbei und genießt eine entspannte Zeit: Ob bei einer Tasse Kaffee\, einem leckeren Stück Kuchen\, beim Stöbern in einem Buch oder einem kleinen Kicker-Match. Hier ist Platz für Begegnungen\, Gespräche und Gemeinschaft. Lasst uns den Tag gemeinsam genießen – wir freuen uns auf euch!
URL:https://freiraum-ronsdorf.de/event/cafe-freiraum-29/
LOCATION:Freiraum Ronsdorf\, In der Krim 12\, Wuppertal\, 42369
ATTACH;FMTTYPE=image/png:https://freiraum-ronsdorf.de/wp-content/uploads/2025/04/Cafe-scaled.png
END:VEVENT
BEGIN:VEVENT
DTSTART;TZID=Europe/Berlin:20250805T170000
DTEND;TZID=Europe/Berlin:20250805T190000
DTSTAMP:20260421T234154
CREATED:20250531T190859Z
LAST-MODIFIED:20250531T190859Z
UID:10000687-1754413200-1754420400@freiraum-ronsdorf.de
SUMMARY:Harfen-Café
DESCRIPTION:Jeden ersten Dienstag im Monat lädt Urte Rohda herzlich dazu ein\, die Veeh-Harfe kennenzulernen und auszuprobieren. In gemütlicher Atmosphäre genießen wir gemeinsam Kaffee\, Knabbereien und musikalische Klänge. Ob mit oder ohne Vorkenntnisse – einfach vorbeikommen und den Zauber der Musik entdecken!
URL:https://freiraum-ronsdorf.de/event/harfen-cafe-7/
LOCATION:Freiraum Ronsdorf\, In der Krim 12\, Wuppertal\, 42369
ATTACH;FMTTYPE=image/png:https://freiraum-ronsdorf.de/wp-content/uploads/2025/01/Blue-Photo-Collage-Hello-August-Instagram-Post.png
END:VEVENT
BEGIN:VEVENT
DTSTART;TZID=Europe/Berlin:20250805T100000
DTEND;TZID=Europe/Berlin:20250805T113000
DTSTAMP:20260421T234154
CREATED:20250531T185854Z
LAST-MODIFIED:20250531T185854Z
UID:10000683-1754388000-1754393400@freiraum-ronsdorf.de
SUMMARY:Veeh-Harfen - Ensemble Probe
DESCRIPTION:Das Veeh-Harfen-Ensemble mit Urte Rohda probt im Freiraum. \nWer Interesse an dem Instrument hat und sich eine Probe ansehen möchte\, darf sich gern per E-Mail oder über das Kontaktformular unserer Website melden. \n 
URL:https://freiraum-ronsdorf.de/event/veeh-harfen-ensemble-probe-28/
LOCATION:Freiraum Ronsdorf\, In der Krim 12\, Wuppertal\, 42369
ATTACH;FMTTYPE=image/jpeg:https://freiraum-ronsdorf.de/wp-content/uploads/2025/01/MG_6123-scaled.jpg
END:VEVENT
BEGIN:VEVENT
DTSTART;TZID=Europe/Berlin:20250803T150000
DTEND;TZID=Europe/Berlin:20250803T150000
DTSTAMP:20260421T234154
CREATED:20250531T194903Z
LAST-MODIFIED:20250531T194903Z
UID:10000700-1754233200-1754233200@freiraum-ronsdorf.de
SUMMARY:Spieleabend
DESCRIPTION:Wir treffen uns in einem gemütlichen Raum\, um Brett- oder auch mal ein Kartenspiel zu spielen. Es können gerne eigene Spiele mitgebracht werden\, sofern die Regeln bekannt sind und auch erklärt werden können.\n\nUm Anmeldung wird zwecks Organisation gebeten: info@freiraum-ronsdorf.de
URL:https://freiraum-ronsdorf.de/event/spieleabend-12/
LOCATION:Freiraum Ronsdorf\, In der Krim 12\, Wuppertal\, 42369
ATTACH;FMTTYPE=image/jpeg:https://freiraum-ronsdorf.de/wp-content/uploads/2024/12/IMG_1132-scaled-1.jpeg
END:VEVENT
BEGIN:VEVENT
DTSTART;TZID=Europe/Berlin:20250802T150000
DTEND;TZID=Europe/Berlin:20250802T170000
DTSTAMP:20260421T234154
CREATED:20250531T191639Z
LAST-MODIFIED:20250531T191639Z
UID:10000697-1754146800-1754154000@freiraum-ronsdorf.de
SUMMARY:Strick-Café
DESCRIPTION:Eigene Projekte unter Gleichgesinnten in gemütlicher Café-Atmosphäre weiter stricken. \nWeitere Infos.
URL:https://freiraum-ronsdorf.de/event/strick-cafe-30/
LOCATION:Freiraum Ronsdorf\, In der Krim 12\, Wuppertal\, 42369
ATTACH;FMTTYPE=image/jpeg:https://freiraum-ronsdorf.de/wp-content/uploads/2023/12/Stricken_1.jpg
END:VEVENT
BEGIN:VEVENT
DTSTART;TZID=Europe/Berlin:20250801T100000
DTEND;TZID=Europe/Berlin:20250801T113000
DTSTAMP:20260421T234154
CREATED:20250531T191238Z
LAST-MODIFIED:20250531T191238Z
UID:10000692-1754042400-1754047800@freiraum-ronsdorf.de
SUMMARY:Krabbelgruppe
DESCRIPTION:Wir freuen uns eine Krabbelgruppe anbieten zu dürfen! \nHier treffen sich Mütter mit Kindern von 0 bis 3 Jahren\, um in entspannter Atmosphäre eine schöne Zeit zu verbringen.\nWährend die Kleinen gemeinsam spielen und die Welt entdecken\, bleibt den Müttern Raum für Austausch\, Gespräche und gegenseitige Unterstützung. \nBei einer Tasse Kaffee oder Tee und kleinen Leckereien könnt ihr den Vormittag genießen und euch in unserem gemütlichen Wohlfühlort eine Auszeit gönnen.\nWir freuen uns darauf\, eine herzliche Gemeinschaft zu schaffen\, in der Groß und Klein sich wohlfühlen. Kommt vorbei und erlebt schöne Stunden mit uns!
URL:https://freiraum-ronsdorf.de/event/krabbelgruppe-7/
LOCATION:Freiraum Ronsdorf\, In der Krim 12\, Wuppertal\, 42369
ATTACH;FMTTYPE=image/png:https://freiraum-ronsdorf.de/wp-content/uploads/2025/01/Navy-Organic-Childrens-Playgroup-Advertisement-Flyer.png
END:VEVENT
BEGIN:VEVENT
DTSTART;TZID=Europe/Berlin:20250731T150000
DTEND;TZID=Europe/Berlin:20250731T180000
DTSTAMP:20260421T234154
CREATED:20250508T080816Z
LAST-MODIFIED:20250607T192352Z
UID:10000664-1753974000-1753984800@freiraum-ronsdorf.de
SUMMARY:Café-Freiraum
DESCRIPTION:Freiraum Ronsdorf lädt ein! \nJeden Donnerstag öffnen wir unsere Türen für alle – ganz ohne feste Veranstaltung. Kommt vorbei und genießt eine entspannte Zeit: Ob bei einer Tasse Kaffee\, einem leckeren Stück Kuchen\, beim Stöbern in einem Buch oder einem kleinen Kicker-Match. Hier ist Platz für Begegnungen\, Gespräche und Gemeinschaft. Lasst uns den Tag gemeinsam genießen – wir freuen uns auf euch!
URL:https://freiraum-ronsdorf.de/event/cafe-freiraum-35/
LOCATION:Freiraum Ronsdorf\, In der Krim 12\, Wuppertal\, 42369
ATTACH;FMTTYPE=image/png:https://freiraum-ronsdorf.de/wp-content/uploads/2025/04/Cafe-scaled.png
END:VEVENT
BEGIN:VEVENT
DTSTART;TZID=Europe/Berlin:20250731T093000
DTEND;TZID=Europe/Berlin:20250731T113000
DTSTAMP:20260421T234154
CREATED:20250718T094309Z
LAST-MODIFIED:20250718T094309Z
UID:10000722-1753954200-1753961400@freiraum-ronsdorf.de
SUMMARY:Kreativ Gruppe – Raum für Ruhe und Ausdruck
DESCRIPTION:Gestalten heißt\, dem „Inneren“ Ausdruck verleihen – das stärkt\, verbindet und bringt neue Impulse. \nDiese Gruppe richtet sich an Menschen\, die gerne in einer kleinen Gruppe kreativ sein möchten. \nDu hast Lust\, kreativ zu sein\, ganz in deinem Tempo und ohne Leistungsdruck?\nIn dieser fortlaufenden Gruppe darfst du gestalten\, ausprobieren\, zur Ruhe kommen und dich über dein Tun ausdrücken. Im Fokus steht die Freude am Tun\, nicht das Ergebnis! \nDu kannst gerne aus einem Pool von Materialien das Passende für dich auswählen und/oder selber Material und Ideen mitbringen. Es gibt keine Vorgaben\, du entscheidest\, woran und womit du gestalten möchtest. \nEs erfolgt keine fachliche Begleitung. Alle Teilnehmer sind die Gestalter der gemeinsamen kreativen Zeit. \nTraut euch! Kommt vorbei.. schaut euch um.. ich freue mich schon sehr auf Euch!! Eure Nike
URL:https://freiraum-ronsdorf.de/event/kreativ-gruppe-raum-fuer-ruhe-und-ausdruck-2/
LOCATION:Freiraum Ronsdorf\, In der Krim 12\, Wuppertal\, 42369
ATTACH;FMTTYPE=image/jpeg:https://freiraum-ronsdorf.de/wp-content/uploads/2025/06/Kreativ.jpg
END:VEVENT
BEGIN:VEVENT
DTSTART;TZID=Europe/Berlin:20250729T100000
DTEND;TZID=Europe/Berlin:20250729T113000
DTSTAMP:20260421T234154
CREATED:20250508T080627Z
LAST-MODIFIED:20250526T103634Z
UID:10000658-1753783200-1753788600@freiraum-ronsdorf.de
SUMMARY:Veeh-Harfen - Ensemble Probe
DESCRIPTION:Das Veeh-Harfen-Ensemble mit Urte Rohda probt im Freiraum. \nWer Interesse an dem Instrument hat und sich eine Probe ansehen möchte\, darf sich gern per E-Mail oder über das Kontaktformular unserer Website melden. \n 
URL:https://freiraum-ronsdorf.de/event/veeh-harfen-ensemble-probe-27/
LOCATION:Freiraum Ronsdorf\, In der Krim 12\, Wuppertal\, 42369
ATTACH;FMTTYPE=image/jpeg:https://freiraum-ronsdorf.de/wp-content/uploads/2025/01/MG_6123-scaled.jpg
END:VEVENT
BEGIN:VEVENT
DTSTART;TZID=Europe/Berlin:20250728T190000
DTEND;TZID=Europe/Berlin:20250728T203000
DTSTAMP:20260421T234154
CREATED:20250508T080507Z
LAST-MODIFIED:20250508T080507Z
UID:10000653-1753729200-1753734600@freiraum-ronsdorf.de
SUMMARY:Niederländisch Kurs
DESCRIPTION:Beste mensen! (was soviel heißt wie: Liebe Leute!) \nIm Freiraum gibt es ab sofort die Möglichkeit\, Niederländisch zu lernen.\nWir treffen uns wöchentlich in geselliger Runde zum Plaudern und lernen dabei Grundlagen der Niederländischen Sprache und Themen kennen\, über die man als Niederlande-Fan immer schonmal reden wollte. \nEine Anmeldung ist nicht erforderlich. Kommt einfach vorbei. \nWij gaan Hollands praten.\nTot ziens \nHeike Blombach
URL:https://freiraum-ronsdorf.de/event/niederlaendisch-kurs-28/
LOCATION:Freiraum Ronsdorf\, In der Krim 12\, Wuppertal\, 42369
ATTACH;FMTTYPE=image/png:https://freiraum-ronsdorf.de/wp-content/uploads/2024/12/Blue-Photo-Collage-Hello-August-Instagram-Post-1.png
END:VEVENT
END:VCALENDAR