BEGIN:VCALENDAR
VERSION:2.0
PRODID:-//Freiraum Ronsdorf - ECPv6.5.1.3//NONSGML v1.0//EN
CALSCALE:GREGORIAN
METHOD:PUBLISH
X-WR-CALNAME:Freiraum Ronsdorf
X-ORIGINAL-URL:https://freiraum-ronsdorf.de
X-WR-CALDESC:Veranstaltungen für Freiraum Ronsdorf
REFRESH-INTERVAL;VALUE=DURATION:PT1H
X-Robots-Tag:noindex
X-PUBLISHED-TTL:PT1H
BEGIN:VTIMEZONE
TZID:Europe/Berlin
BEGIN:DAYLIGHT
TZOFFSETFROM:+0100
TZOFFSETTO:+0200
TZNAME:CEST
DTSTART:20250330T010000
END:DAYLIGHT
BEGIN:STANDARD
TZOFFSETFROM:+0200
TZOFFSETTO:+0100
TZNAME:CET
DTSTART:20251026T010000
END:STANDARD
END:VTIMEZONE
BEGIN:VEVENT
DTSTART;TZID=Europe/Berlin:20251028T100000
DTEND;TZID=Europe/Berlin:20251028T113000
DTSTAMP:20260421T190421
CREATED:20250806T123729Z
LAST-MODIFIED:20250806T123729Z
UID:10000732-1761645600-1761651000@freiraum-ronsdorf.de
SUMMARY:Veeh-Harfen - Ensemble Probe
DESCRIPTION:Das Veeh-Harfen-Ensemble mit Urte Rohda probt im Freiraum. \nWer Interesse an dem Instrument hat und sich eine Probe ansehen möchte\, darf sich gern per E-Mail oder über das Kontaktformular unserer Website melden. \n 
URL:https://freiraum-ronsdorf.de/event/veeh-harfen-ensemble-probe-40/
LOCATION:Freiraum Ronsdorf\, In der Krim 12\, Wuppertal\, 42369
ATTACH;FMTTYPE=image/jpeg:https://freiraum-ronsdorf.de/wp-content/uploads/2025/01/MG_6123-scaled.jpg
END:VEVENT
BEGIN:VEVENT
DTSTART;TZID=Europe/Berlin:20251027T190000
DTEND;TZID=Europe/Berlin:20251027T203000
DTSTAMP:20260421T190421
CREATED:20250806T123648Z
LAST-MODIFIED:20250806T123648Z
UID:10000728-1761591600-1761597000@freiraum-ronsdorf.de
SUMMARY:Niederländisch Kurs
DESCRIPTION:Beste mensen! (was soviel heißt wie: Liebe Leute!) \nIm Freiraum gibt es ab sofort die Möglichkeit\, Niederländisch zu lernen.\nWir treffen uns wöchentlich in geselliger Runde zum Plaudern und lernen dabei Grundlagen der Niederländischen Sprache und Themen kennen\, über die man als Niederlande-Fan immer schonmal reden wollte. \nEine Anmeldung ist nicht erforderlich. Kommt einfach vorbei. \nWij gaan Hollands praten.\nTot ziens \nHeike Blombach
URL:https://freiraum-ronsdorf.de/event/niederlaendisch-kurs-37/
LOCATION:Freiraum Ronsdorf\, In der Krim 12\, Wuppertal\, 42369
ATTACH;FMTTYPE=image/png:https://freiraum-ronsdorf.de/wp-content/uploads/2024/12/Blue-Photo-Collage-Hello-August-Instagram-Post-1.png
END:VEVENT
BEGIN:VEVENT
DTSTART;TZID=Europe/Berlin:20251023T150000
DTEND;TZID=Europe/Berlin:20251023T180000
DTSTAMP:20260421T190421
CREATED:20250806T123856Z
LAST-MODIFIED:20250806T123856Z
UID:10000738-1761231600-1761242400@freiraum-ronsdorf.de
SUMMARY:Café-Freiraum
DESCRIPTION:Freiraum Ronsdorf lädt ein! \nJeden Donnerstag öffnen wir unsere Türen für alle – ganz ohne feste Veranstaltung. Kommt vorbei und genießt eine entspannte Zeit: Ob bei einer Tasse Kaffee\, einem leckeren Stück Kuchen\, beim Stöbern in einem Buch oder einem kleinen Kicker-Match. Hier ist Platz für Begegnungen\, Gespräche und Gemeinschaft. Lasst uns den Tag gemeinsam genießen – wir freuen uns auf euch!
URL:https://freiraum-ronsdorf.de/event/cafe-freiraum-45/
LOCATION:Freiraum Ronsdorf\, In der Krim 12\, Wuppertal\, 42369
ATTACH;FMTTYPE=image/png:https://freiraum-ronsdorf.de/wp-content/uploads/2025/04/Cafe-scaled.png
END:VEVENT
BEGIN:VEVENT
DTSTART;TZID=Europe/Berlin:20251023T093000
DTEND;TZID=Europe/Berlin:20251023T113000
DTSTAMP:20260421T190421
CREATED:20251010T132709Z
LAST-MODIFIED:20251010T132709Z
UID:10000771-1761211800-1761219000@freiraum-ronsdorf.de
SUMMARY:Kreativ Gruppe – Raum für Ruhe und Ausdruck
DESCRIPTION:Gestalten heißt\, dem „Inneren“ Ausdruck verleihen – das stärkt\, verbindet und bringt neue Impulse. \nDiese Gruppe richtet sich an Menschen\, die gerne in einer kleinen Gruppe kreativ sein möchten. \nDu hast Lust\, kreativ zu sein\, ganz in deinem Tempo und ohne Leistungsdruck?\nIn dieser fortlaufenden Gruppe darfst du gestalten\, ausprobieren\, zur Ruhe kommen und dich über dein Tun ausdrücken. Im Fokus steht die Freude am Tun\, nicht das Ergebnis! \nDu kannst gerne aus einem Pool von Materialien das Passende für dich auswählen und/oder selber Material und Ideen mitbringen. Es gibt keine Vorgaben\, du entscheidest\, woran und womit du gestalten möchtest. \nEs erfolgt keine fachliche Begleitung. Alle Teilnehmer sind die Gestalter der gemeinsamen kreativen Zeit. \nTraut euch! Kommt vorbei.. schaut euch um.. ich freue mich schon sehr auf Euch!! Eure Nike und Sabine. \nBitte beachtet: Teilnahme nur nach vorheriger Anmeldung per Mail möglich\, da es eine ruhige Veranstaltung bleiben soll.
URL:https://freiraum-ronsdorf.de/event/kreativ-gruppe-raum-fuer-ruhe-und-ausdruck-6/
LOCATION:Freiraum Ronsdorf\, In der Krim 12\, Wuppertal\, 42369
ATTACH;FMTTYPE=image/jpeg:https://freiraum-ronsdorf.de/wp-content/uploads/2025/06/Kreativ.jpg
END:VEVENT
BEGIN:VEVENT
DTSTART;TZID=Europe/Berlin:20251022T180000
DTEND;TZID=Europe/Berlin:20251022T180000
DTSTAMP:20260421T190421
CREATED:20250911T061520Z
LAST-MODIFIED:20250911T061520Z
UID:10000751-1761156000-1761156000@freiraum-ronsdorf.de
SUMMARY:Autorenzirkel
DESCRIPTION:Liebe Menschen\, die auch schreiben\, \nIhr habt Freude am  gemeinsamen Austauschen über selbst geschriebene Texte – Prosa und Lyrik – !? Dann sollten wir uns kennenlernen und zusammensetzen. \nWenn Ihr eher Einsteigerinnen und Einsteiger seid\, dann wird es gut passen. Ich stelle mir vor\, daß wir uns unsere Texte gegenseitig vorstellen\, die dahinter stehenen Gedanken und Gefühle diskutieren und uns dabei literarisch und persönlich begegnen. Unter Umständen mündet unser Autorenzirkel ein in eine gemeinsame Lesung\, wobei das literarische Austauschen\, die persönliche Bereicherung und nicht zuletzt der Humor beim Schreiben dafür die Grundlagen bilden sollen. \nAnmeldungen bitte über die Homepage des „Freiraum Ronsdorf“. \nRoland Krämer
URL:https://freiraum-ronsdorf.de/event/autorenzirkel-2/
LOCATION:Freiraum Ronsdorf\, In der Krim 12\, Wuppertal\, 42369
ATTACH;FMTTYPE=image/jpeg:https://freiraum-ronsdorf.de/wp-content/uploads/2025/08/Autorenzirkel.jpg
END:VEVENT
BEGIN:VEVENT
DTSTART;TZID=Europe/Berlin:20251021T100000
DTEND;TZID=Europe/Berlin:20251021T113000
DTSTAMP:20260421T190421
CREATED:20250806T123719Z
LAST-MODIFIED:20250806T123719Z
UID:10000731-1761040800-1761046200@freiraum-ronsdorf.de
SUMMARY:Veeh-Harfen - Ensemble Probe
DESCRIPTION:Das Veeh-Harfen-Ensemble mit Urte Rohda probt im Freiraum. \nWer Interesse an dem Instrument hat und sich eine Probe ansehen möchte\, darf sich gern per E-Mail oder über das Kontaktformular unserer Website melden. \n 
URL:https://freiraum-ronsdorf.de/event/veeh-harfen-ensemble-probe-39/
LOCATION:Freiraum Ronsdorf\, In der Krim 12\, Wuppertal\, 42369
ATTACH;FMTTYPE=image/jpeg:https://freiraum-ronsdorf.de/wp-content/uploads/2025/01/MG_6123-scaled.jpg
END:VEVENT
BEGIN:VEVENT
DTSTART;TZID=Europe/Berlin:20251018T190000
DTEND;TZID=Europe/Berlin:20251018T190000
DTSTAMP:20260421T190421
CREATED:20250811T064324Z
LAST-MODIFIED:20250811T064324Z
UID:10000742-1760814000-1760814000@freiraum-ronsdorf.de
SUMMARY:Spieleabend
DESCRIPTION:Wir treffen uns in einem gemütlichen Raum\, um Brett- oder auch mal ein Kartenspiel zu spielen. Es können gerne eigene Spiele mitgebracht werden\, sofern die Regeln bekannt sind und auch erklärt werden können.\n\nUm Anmeldung wird zwecks Organisation gebeten: info@freiraum-ronsdorf.de
URL:https://freiraum-ronsdorf.de/event/spieleabend-16/
LOCATION:Freiraum Ronsdorf\, In der Krim 12\, Wuppertal\, 42369
ATTACH;FMTTYPE=image/jpeg:https://freiraum-ronsdorf.de/wp-content/uploads/2024/12/IMG_1132-scaled-1.jpeg
END:VEVENT
BEGIN:VEVENT
DTSTART;TZID=Europe/Berlin:20251016T150000
DTEND;TZID=Europe/Berlin:20251016T180000
DTSTAMP:20260421T190421
CREATED:20250806T123847Z
LAST-MODIFIED:20250806T123847Z
UID:10000737-1760626800-1760637600@freiraum-ronsdorf.de
SUMMARY:Café-Freiraum
DESCRIPTION:Freiraum Ronsdorf lädt ein! \nJeden Donnerstag öffnen wir unsere Türen für alle – ganz ohne feste Veranstaltung. Kommt vorbei und genießt eine entspannte Zeit: Ob bei einer Tasse Kaffee\, einem leckeren Stück Kuchen\, beim Stöbern in einem Buch oder einem kleinen Kicker-Match. Hier ist Platz für Begegnungen\, Gespräche und Gemeinschaft. Lasst uns den Tag gemeinsam genießen – wir freuen uns auf euch!
URL:https://freiraum-ronsdorf.de/event/cafe-freiraum-44/
LOCATION:Freiraum Ronsdorf\, In der Krim 12\, Wuppertal\, 42369
ATTACH;FMTTYPE=image/png:https://freiraum-ronsdorf.de/wp-content/uploads/2025/04/Cafe-scaled.png
END:VEVENT
BEGIN:VEVENT
DTSTART;TZID=Europe/Berlin:20251016T093000
DTEND;TZID=Europe/Berlin:20251016T113000
DTSTAMP:20260421T190421
CREATED:20251010T132540Z
LAST-MODIFIED:20251010T132639Z
UID:10000768-1760607000-1760614200@freiraum-ronsdorf.de
SUMMARY:Kreativ Gruppe – Raum für Ruhe und Ausdruck
DESCRIPTION:Gestalten heißt\, dem „Inneren“ Ausdruck verleihen – das stärkt\, verbindet und bringt neue Impulse. \nDiese Gruppe richtet sich an Menschen\, die gerne in einer kleinen Gruppe kreativ sein möchten. \nDu hast Lust\, kreativ zu sein\, ganz in deinem Tempo und ohne Leistungsdruck?\nIn dieser fortlaufenden Gruppe darfst du gestalten\, ausprobieren\, zur Ruhe kommen und dich über dein Tun ausdrücken. Im Fokus steht die Freude am Tun\, nicht das Ergebnis! \nDu kannst gerne aus einem Pool von Materialien das Passende für dich auswählen und/oder selber Material und Ideen mitbringen. Es gibt keine Vorgaben\, du entscheidest\, woran und womit du gestalten möchtest. \nEs erfolgt keine fachliche Begleitung. Alle Teilnehmer sind die Gestalter der gemeinsamen kreativen Zeit. \nTraut euch! Kommt vorbei.. schaut euch um.. ich freue mich schon sehr auf Euch!! Eure Nike und Sabine. \nBitte beachtet: Teilnahme nur nach vorheriger Anmeldung per Mail möglich\, da es eine ruhige Veranstaltung bleiben soll.
URL:https://freiraum-ronsdorf.de/event/kreativ-gruppe-raum-fuer-ruhe-und-ausdruck-5/
LOCATION:Freiraum Ronsdorf\, In der Krim 12\, Wuppertal\, 42369
ATTACH;FMTTYPE=image/jpeg:https://freiraum-ronsdorf.de/wp-content/uploads/2025/06/Kreativ.jpg
END:VEVENT
BEGIN:VEVENT
DTSTART;TZID=Europe/Berlin:20251014T100000
DTEND;TZID=Europe/Berlin:20251014T113000
DTSTAMP:20260421T190421
CREATED:20250806T123711Z
LAST-MODIFIED:20250806T123711Z
UID:10000730-1760436000-1760441400@freiraum-ronsdorf.de
SUMMARY:Veeh-Harfen - Ensemble Probe
DESCRIPTION:Das Veeh-Harfen-Ensemble mit Urte Rohda probt im Freiraum. \nWer Interesse an dem Instrument hat und sich eine Probe ansehen möchte\, darf sich gern per E-Mail oder über das Kontaktformular unserer Website melden. \n 
URL:https://freiraum-ronsdorf.de/event/veeh-harfen-ensemble-probe-38/
LOCATION:Freiraum Ronsdorf\, In der Krim 12\, Wuppertal\, 42369
ATTACH;FMTTYPE=image/jpeg:https://freiraum-ronsdorf.de/wp-content/uploads/2025/01/MG_6123-scaled.jpg
END:VEVENT
BEGIN:VEVENT
DTSTART;TZID=Europe/Berlin:20251012T150000
DTEND;TZID=Europe/Berlin:20251012T150000
DTSTAMP:20260421T190421
CREATED:20250821T183617Z
LAST-MODIFIED:20250821T183617Z
UID:10000743-1760281200-1760281200@freiraum-ronsdorf.de
SUMMARY:Spieleabend
DESCRIPTION:Wir treffen uns in einem gemütlichen Raum\, um Brett- oder auch mal ein Kartenspiel zu spielen. Es können gerne eigene Spiele mitgebracht werden\, sofern die Regeln bekannt sind und auch erklärt werden können.\n\nUm Anmeldung wird zwecks Organisation gebeten: info@freiraum-ronsdorf.de
URL:https://freiraum-ronsdorf.de/event/spieleabend-17/
LOCATION:Freiraum Ronsdorf\, In der Krim 12\, Wuppertal\, 42369
ATTACH;FMTTYPE=image/jpeg:https://freiraum-ronsdorf.de/wp-content/uploads/2024/12/IMG_1132-scaled-1.jpeg
END:VEVENT
BEGIN:VEVENT
DTSTART;TZID=Europe/Berlin:20251012T120000
DTEND;TZID=Europe/Berlin:20251012T140000
DTSTAMP:20260421T190421
CREATED:20250721T095213Z
LAST-MODIFIED:20250721T095327Z
UID:10000723-1760270400-1760277600@freiraum-ronsdorf.de
SUMMARY:Bücherclub
DESCRIPTION:„Es gibt mehr Schätze in Büchern als Piratenbeute auf der Schatzinsel…und das Beste ist\, du kannst diesen Reichtum jeden Tag deines Lebens genießen.“\, sagte schon Walt Disney. \nWir\, Sofia\, Aliena und Selina\, möchten diesen Schätzen gemeinsam mit euch auf den Grund gehen.\nJeder hat Bücher\, die einen bewegt haben\, die Erinnerungen wecken oder die noch auf der Leseliste stehen. Am schönsten ist es doch\, wenn man diese miteinander teilen kann. \nDie neue Challenge für das nächste Treffen:\nLies ein Buch von einem Autor / einer Autorin aus einem Land\, in das Du gerne mal reisen würdest.
URL:https://freiraum-ronsdorf.de/event/buecherclub-11/
LOCATION:Freiraum Ronsdorf\, In der Krim 12\, Wuppertal\, 42369
ATTACH;FMTTYPE=image/jpeg:https://freiraum-ronsdorf.de/wp-content/uploads/2024/04/Buecherclub.jpg
END:VEVENT
BEGIN:VEVENT
DTSTART;TZID=Europe/Berlin:20251011T150000
DTEND;TZID=Europe/Berlin:20251011T170000
DTSTAMP:20260421T190421
CREATED:20250806T123802Z
LAST-MODIFIED:20250806T123802Z
UID:10000733-1760194800-1760202000@freiraum-ronsdorf.de
SUMMARY:Strick-Café
DESCRIPTION:Eigene Projekte unter Gleichgesinnten in gemütlicher Café-Atmosphäre weiter stricken. \nWeitere Infos.
URL:https://freiraum-ronsdorf.de/event/strick-cafe-35/
LOCATION:Freiraum Ronsdorf\, In der Krim 12\, Wuppertal\, 42369
ATTACH;FMTTYPE=image/jpeg:https://freiraum-ronsdorf.de/wp-content/uploads/2023/12/Stricken_1.jpg
END:VEVENT
BEGIN:VEVENT
DTSTART;TZID=Europe/Berlin:20251009T150000
DTEND;TZID=Europe/Berlin:20251009T180000
DTSTAMP:20260421T190421
CREATED:20250806T123838Z
LAST-MODIFIED:20250806T123838Z
UID:10000736-1760022000-1760032800@freiraum-ronsdorf.de
SUMMARY:Café-Freiraum
DESCRIPTION:Freiraum Ronsdorf lädt ein! \nJeden Donnerstag öffnen wir unsere Türen für alle – ganz ohne feste Veranstaltung. Kommt vorbei und genießt eine entspannte Zeit: Ob bei einer Tasse Kaffee\, einem leckeren Stück Kuchen\, beim Stöbern in einem Buch oder einem kleinen Kicker-Match. Hier ist Platz für Begegnungen\, Gespräche und Gemeinschaft. Lasst uns den Tag gemeinsam genießen – wir freuen uns auf euch!
URL:https://freiraum-ronsdorf.de/event/cafe-freiraum-43/
LOCATION:Freiraum Ronsdorf\, In der Krim 12\, Wuppertal\, 42369
ATTACH;FMTTYPE=image/png:https://freiraum-ronsdorf.de/wp-content/uploads/2025/04/Cafe-scaled.png
END:VEVENT
BEGIN:VEVENT
DTSTART;TZID=Europe/Berlin:20251007T170000
DTEND;TZID=Europe/Berlin:20251007T190000
DTSTAMP:20260421T190421
CREATED:20250806T123927Z
LAST-MODIFIED:20250806T123927Z
UID:10000740-1759856400-1759863600@freiraum-ronsdorf.de
SUMMARY:Harfen-Café
DESCRIPTION:Jeden ersten Dienstag im Monat lädt Urte Rohda herzlich dazu ein\, die Veeh-Harfe kennenzulernen und auszuprobieren. In gemütlicher Atmosphäre genießen wir gemeinsam Kaffee\, Knabbereien und musikalische Klänge. Ob mit oder ohne Vorkenntnisse – einfach vorbeikommen und den Zauber der Musik entdecken!
URL:https://freiraum-ronsdorf.de/event/harfen-cafe-9/
LOCATION:Freiraum Ronsdorf\, In der Krim 12\, Wuppertal\, 42369
ATTACH;FMTTYPE=image/png:https://freiraum-ronsdorf.de/wp-content/uploads/2025/01/Blue-Photo-Collage-Hello-August-Instagram-Post.png
END:VEVENT
BEGIN:VEVENT
DTSTART;TZID=Europe/Berlin:20251007T100000
DTEND;TZID=Europe/Berlin:20251007T113000
DTSTAMP:20260421T190421
CREATED:20250806T123702Z
LAST-MODIFIED:20250806T123702Z
UID:10000729-1759831200-1759836600@freiraum-ronsdorf.de
SUMMARY:Veeh-Harfen - Ensemble Probe
DESCRIPTION:Das Veeh-Harfen-Ensemble mit Urte Rohda probt im Freiraum. \nWer Interesse an dem Instrument hat und sich eine Probe ansehen möchte\, darf sich gern per E-Mail oder über das Kontaktformular unserer Website melden. \n 
URL:https://freiraum-ronsdorf.de/event/veeh-harfen-ensemble-probe-37/
LOCATION:Freiraum Ronsdorf\, In der Krim 12\, Wuppertal\, 42369
ATTACH;FMTTYPE=image/jpeg:https://freiraum-ronsdorf.de/wp-content/uploads/2025/01/MG_6123-scaled.jpg
END:VEVENT
BEGIN:VEVENT
DTSTART;TZID=Europe/Berlin:20251006T190000
DTEND;TZID=Europe/Berlin:20251006T203000
DTSTAMP:20260421T190421
CREATED:20250806T123611Z
LAST-MODIFIED:20250806T123611Z
UID:10000725-1759777200-1759782600@freiraum-ronsdorf.de
SUMMARY:Niederländisch Kurs
DESCRIPTION:Beste mensen! (was soviel heißt wie: Liebe Leute!) \nIm Freiraum gibt es ab sofort die Möglichkeit\, Niederländisch zu lernen.\nWir treffen uns wöchentlich in geselliger Runde zum Plaudern und lernen dabei Grundlagen der Niederländischen Sprache und Themen kennen\, über die man als Niederlande-Fan immer schonmal reden wollte. \nEine Anmeldung ist nicht erforderlich. Kommt einfach vorbei. \nWij gaan Hollands praten.\nTot ziens \nHeike Blombach
URL:https://freiraum-ronsdorf.de/event/niederlaendisch-kurs-22/
LOCATION:Freiraum Ronsdorf\, In der Krim 12\, Wuppertal\, 42369
ATTACH;FMTTYPE=image/png:https://freiraum-ronsdorf.de/wp-content/uploads/2024/12/Blue-Photo-Collage-Hello-August-Instagram-Post-1.png
END:VEVENT
BEGIN:VEVENT
DTSTART;TZID=Europe/Berlin:20251002T150000
DTEND;TZID=Europe/Berlin:20251002T180000
DTSTAMP:20260421T190421
CREATED:20250806T123829Z
LAST-MODIFIED:20250806T123829Z
UID:10000735-1759417200-1759428000@freiraum-ronsdorf.de
SUMMARY:Café-Freiraum
DESCRIPTION:Freiraum Ronsdorf lädt ein! \nJeden Donnerstag öffnen wir unsere Türen für alle – ganz ohne feste Veranstaltung. Kommt vorbei und genießt eine entspannte Zeit: Ob bei einer Tasse Kaffee\, einem leckeren Stück Kuchen\, beim Stöbern in einem Buch oder einem kleinen Kicker-Match. Hier ist Platz für Begegnungen\, Gespräche und Gemeinschaft. Lasst uns den Tag gemeinsam genießen – wir freuen uns auf euch!
URL:https://freiraum-ronsdorf.de/event/cafe-freiraum-42/
LOCATION:Freiraum Ronsdorf\, In der Krim 12\, Wuppertal\, 42369
ATTACH;FMTTYPE=image/png:https://freiraum-ronsdorf.de/wp-content/uploads/2025/04/Cafe-scaled.png
END:VEVENT
BEGIN:VEVENT
DTSTART;TZID=Europe/Berlin:20250930T100000
DTEND;TZID=Europe/Berlin:20250930T113000
DTSTAMP:20260421T190421
CREATED:20250703T094113Z
LAST-MODIFIED:20250703T094113Z
UID:10000712-1759226400-1759231800@freiraum-ronsdorf.de
SUMMARY:Veeh-Harfen - Ensemble Probe
DESCRIPTION:Das Veeh-Harfen-Ensemble mit Urte Rohda probt im Freiraum. \nWer Interesse an dem Instrument hat und sich eine Probe ansehen möchte\, darf sich gern per E-Mail oder über das Kontaktformular unserer Website melden. \n 
URL:https://freiraum-ronsdorf.de/event/veeh-harfen-ensemble-probe-36/
LOCATION:Freiraum Ronsdorf\, In der Krim 12\, Wuppertal\, 42369
ATTACH;FMTTYPE=image/jpeg:https://freiraum-ronsdorf.de/wp-content/uploads/2025/01/MG_6123-scaled.jpg
END:VEVENT
BEGIN:VEVENT
DTSTART;TZID=Europe/Berlin:20250929T190000
DTEND;TZID=Europe/Berlin:20250929T203000
DTSTAMP:20260421T190421
CREATED:20250703T094009Z
LAST-MODIFIED:20250703T094009Z
UID:10000707-1759172400-1759177800@freiraum-ronsdorf.de
SUMMARY:Niederländisch Kurs
DESCRIPTION:Beste mensen! (was soviel heißt wie: Liebe Leute!) \nIm Freiraum gibt es ab sofort die Möglichkeit\, Niederländisch zu lernen.\nWir treffen uns wöchentlich in geselliger Runde zum Plaudern und lernen dabei Grundlagen der Niederländischen Sprache und Themen kennen\, über die man als Niederlande-Fan immer schonmal reden wollte. \nEine Anmeldung ist nicht erforderlich. Kommt einfach vorbei. \nWij gaan Hollands praten.\nTot ziens \nHeike Blombach
URL:https://freiraum-ronsdorf.de/event/niederlaendisch-kurs-34/
LOCATION:Freiraum Ronsdorf\, In der Krim 12\, Wuppertal\, 42369
ATTACH;FMTTYPE=image/png:https://freiraum-ronsdorf.de/wp-content/uploads/2024/12/Blue-Photo-Collage-Hello-August-Instagram-Post-1.png
END:VEVENT
BEGIN:VEVENT
DTSTART;TZID=Europe/Berlin:20250927T150000
DTEND;TZID=Europe/Berlin:20250927T170000
DTSTAMP:20260421T190421
CREATED:20250703T094333Z
LAST-MODIFIED:20250703T094333Z
UID:10000719-1758985200-1758992400@freiraum-ronsdorf.de
SUMMARY:Strick-Café
DESCRIPTION:Eigene Projekte unter Gleichgesinnten in gemütlicher Café-Atmosphäre weiter stricken. \nWeitere Infos.
URL:https://freiraum-ronsdorf.de/event/strick-cafe-34/
LOCATION:Freiraum Ronsdorf\, In der Krim 12\, Wuppertal\, 42369
ATTACH;FMTTYPE=image/jpeg:https://freiraum-ronsdorf.de/wp-content/uploads/2023/12/Stricken_1.jpg
END:VEVENT
BEGIN:VEVENT
DTSTART;TZID=Europe/Berlin:20250925T150000
DTEND;TZID=Europe/Berlin:20250925T180000
DTSTAMP:20260421T190421
CREATED:20250703T094226Z
LAST-MODIFIED:20250703T094226Z
UID:10000717-1758812400-1758823200@freiraum-ronsdorf.de
SUMMARY:Café-Freiraum
DESCRIPTION:Freiraum Ronsdorf lädt ein! \nJeden Donnerstag öffnen wir unsere Türen für alle – ganz ohne feste Veranstaltung. Kommt vorbei und genießt eine entspannte Zeit: Ob bei einer Tasse Kaffee\, einem leckeren Stück Kuchen\, beim Stöbern in einem Buch oder einem kleinen Kicker-Match. Hier ist Platz für Begegnungen\, Gespräche und Gemeinschaft. Lasst uns den Tag gemeinsam genießen – wir freuen uns auf euch!
URL:https://freiraum-ronsdorf.de/event/cafe-freiraum-41/
LOCATION:Freiraum Ronsdorf\, In der Krim 12\, Wuppertal\, 42369
ATTACH;FMTTYPE=image/png:https://freiraum-ronsdorf.de/wp-content/uploads/2025/04/Cafe-scaled.png
END:VEVENT
BEGIN:VEVENT
DTSTART;TZID=Europe/Berlin:20250923T100000
DTEND;TZID=Europe/Berlin:20250923T113000
DTSTAMP:20260421T190421
CREATED:20250703T094102Z
LAST-MODIFIED:20250703T094102Z
UID:10000711-1758621600-1758627000@freiraum-ronsdorf.de
SUMMARY:Veeh-Harfen - Ensemble Probe
DESCRIPTION:Das Veeh-Harfen-Ensemble mit Urte Rohda probt im Freiraum. \nWer Interesse an dem Instrument hat und sich eine Probe ansehen möchte\, darf sich gern per E-Mail oder über das Kontaktformular unserer Website melden. \n 
URL:https://freiraum-ronsdorf.de/event/veeh-harfen-ensemble-probe-35/
LOCATION:Freiraum Ronsdorf\, In der Krim 12\, Wuppertal\, 42369
ATTACH;FMTTYPE=image/jpeg:https://freiraum-ronsdorf.de/wp-content/uploads/2025/01/MG_6123-scaled.jpg
END:VEVENT
BEGIN:VEVENT
DTSTART;TZID=Europe/Berlin:20250922T190000
DTEND;TZID=Europe/Berlin:20250922T203000
DTSTAMP:20260421T190421
CREATED:20250703T094001Z
LAST-MODIFIED:20250703T094001Z
UID:10000706-1758567600-1758573000@freiraum-ronsdorf.de
SUMMARY:Niederländisch Kurs
DESCRIPTION:Beste mensen! (was soviel heißt wie: Liebe Leute!) \nIm Freiraum gibt es ab sofort die Möglichkeit\, Niederländisch zu lernen.\nWir treffen uns wöchentlich in geselliger Runde zum Plaudern und lernen dabei Grundlagen der Niederländischen Sprache und Themen kennen\, über die man als Niederlande-Fan immer schonmal reden wollte. \nEine Anmeldung ist nicht erforderlich. Kommt einfach vorbei. \nWij gaan Hollands praten.\nTot ziens \nHeike Blombach
URL:https://freiraum-ronsdorf.de/event/niederlaendisch-kurs-33/
LOCATION:Freiraum Ronsdorf\, In der Krim 12\, Wuppertal\, 42369
ATTACH;FMTTYPE=image/png:https://freiraum-ronsdorf.de/wp-content/uploads/2024/12/Blue-Photo-Collage-Hello-August-Instagram-Post-1.png
END:VEVENT
BEGIN:VEVENT
DTSTART;TZID=Europe/Berlin:20250920T190000
DTEND;TZID=Europe/Berlin:20250920T190000
DTSTAMP:20260421T190421
CREATED:20250708T120921Z
LAST-MODIFIED:20250708T120921Z
UID:10000720-1758394800-1758394800@freiraum-ronsdorf.de
SUMMARY:Spieleabend
DESCRIPTION:Wir treffen uns in einem gemütlichen Raum\, um Brett- oder auch mal ein Kartenspiel zu spielen. Es können gerne eigene Spiele mitgebracht werden\, sofern die Regeln bekannt sind und auch erklärt werden können.\n\nUm Anmeldung wird zwecks Organisation gebeten: info@freiraum-ronsdorf.de
URL:https://freiraum-ronsdorf.de/event/spieleabend-14/
LOCATION:Freiraum Ronsdorf\, In der Krim 12\, Wuppertal\, 42369
ATTACH;FMTTYPE=image/jpeg:https://freiraum-ronsdorf.de/wp-content/uploads/2024/12/IMG_1132-scaled-1.jpeg
END:VEVENT
BEGIN:VEVENT
DTSTART;TZID=Europe/Berlin:20250918T150000
DTEND;TZID=Europe/Berlin:20250918T180000
DTSTAMP:20260421T190421
CREATED:20250703T094216Z
LAST-MODIFIED:20250703T094216Z
UID:10000716-1758207600-1758218400@freiraum-ronsdorf.de
SUMMARY:Café-Freiraum
DESCRIPTION:Freiraum Ronsdorf lädt ein! \nJeden Donnerstag öffnen wir unsere Türen für alle – ganz ohne feste Veranstaltung. Kommt vorbei und genießt eine entspannte Zeit: Ob bei einer Tasse Kaffee\, einem leckeren Stück Kuchen\, beim Stöbern in einem Buch oder einem kleinen Kicker-Match. Hier ist Platz für Begegnungen\, Gespräche und Gemeinschaft. Lasst uns den Tag gemeinsam genießen – wir freuen uns auf euch!
URL:https://freiraum-ronsdorf.de/event/cafe-freiraum-40/
LOCATION:Freiraum Ronsdorf\, In der Krim 12\, Wuppertal\, 42369
ATTACH;FMTTYPE=image/png:https://freiraum-ronsdorf.de/wp-content/uploads/2025/04/Cafe-scaled.png
END:VEVENT
BEGIN:VEVENT
DTSTART;TZID=Europe/Berlin:20250916T100000
DTEND;TZID=Europe/Berlin:20250916T113000
DTSTAMP:20260421T190421
CREATED:20250703T094050Z
LAST-MODIFIED:20250703T094050Z
UID:10000710-1758016800-1758022200@freiraum-ronsdorf.de
SUMMARY:Veeh-Harfen - Ensemble Probe
DESCRIPTION:Das Veeh-Harfen-Ensemble mit Urte Rohda probt im Freiraum. \nWer Interesse an dem Instrument hat und sich eine Probe ansehen möchte\, darf sich gern per E-Mail oder über das Kontaktformular unserer Website melden. \n 
URL:https://freiraum-ronsdorf.de/event/veeh-harfen-ensemble-probe-34/
LOCATION:Freiraum Ronsdorf\, In der Krim 12\, Wuppertal\, 42369
ATTACH;FMTTYPE=image/jpeg:https://freiraum-ronsdorf.de/wp-content/uploads/2025/01/MG_6123-scaled.jpg
END:VEVENT
BEGIN:VEVENT
DTSTART;TZID=Europe/Berlin:20250915T190000
DTEND;TZID=Europe/Berlin:20250915T203000
DTSTAMP:20260421T190421
CREATED:20250703T093952Z
LAST-MODIFIED:20250703T093952Z
UID:10000705-1757962800-1757968200@freiraum-ronsdorf.de
SUMMARY:Niederländisch Kurs
DESCRIPTION:Beste mensen! (was soviel heißt wie: Liebe Leute!) \nIm Freiraum gibt es ab sofort die Möglichkeit\, Niederländisch zu lernen.\nWir treffen uns wöchentlich in geselliger Runde zum Plaudern und lernen dabei Grundlagen der Niederländischen Sprache und Themen kennen\, über die man als Niederlande-Fan immer schonmal reden wollte. \nEine Anmeldung ist nicht erforderlich. Kommt einfach vorbei. \nWij gaan Hollands praten.\nTot ziens \nHeike Blombach
URL:https://freiraum-ronsdorf.de/event/niederlaendisch-kurs-32/
LOCATION:Freiraum Ronsdorf\, In der Krim 12\, Wuppertal\, 42369
ATTACH;FMTTYPE=image/png:https://freiraum-ronsdorf.de/wp-content/uploads/2024/12/Blue-Photo-Collage-Hello-August-Instagram-Post-1.png
END:VEVENT
BEGIN:VEVENT
DTSTART;TZID=Europe/Berlin:20250914T150000
DTEND;TZID=Europe/Berlin:20250914T150000
DTSTAMP:20260421T190421
CREATED:20250708T121004Z
LAST-MODIFIED:20250708T121004Z
UID:10000721-1757862000-1757862000@freiraum-ronsdorf.de
SUMMARY:Spieleabend
DESCRIPTION:Wir treffen uns in einem gemütlichen Raum\, um Brett- oder auch mal ein Kartenspiel zu spielen. Es können gerne eigene Spiele mitgebracht werden\, sofern die Regeln bekannt sind und auch erklärt werden können.\n\nUm Anmeldung wird zwecks Organisation gebeten: info@freiraum-ronsdorf.de
URL:https://freiraum-ronsdorf.de/event/spieleabend-15/
LOCATION:Freiraum Ronsdorf\, In der Krim 12\, Wuppertal\, 42369
ATTACH;FMTTYPE=image/jpeg:https://freiraum-ronsdorf.de/wp-content/uploads/2024/12/IMG_1132-scaled-1.jpeg
END:VEVENT
BEGIN:VEVENT
DTSTART;TZID=Europe/Berlin:20250913T150000
DTEND;TZID=Europe/Berlin:20250913T170000
DTSTAMP:20260421T190421
CREATED:20250703T094323Z
LAST-MODIFIED:20250703T094323Z
UID:10000718-1757775600-1757782800@freiraum-ronsdorf.de
SUMMARY:Strick-Café
DESCRIPTION:Eigene Projekte unter Gleichgesinnten in gemütlicher Café-Atmosphäre weiter stricken. \nWeitere Infos.
URL:https://freiraum-ronsdorf.de/event/strick-cafe-33/
LOCATION:Freiraum Ronsdorf\, In der Krim 12\, Wuppertal\, 42369
ATTACH;FMTTYPE=image/jpeg:https://freiraum-ronsdorf.de/wp-content/uploads/2023/12/Stricken_1.jpg
END:VEVENT
END:VCALENDAR