BEGIN:VCALENDAR
VERSION:2.0
PRODID:-//Freiraum Ronsdorf - ECPv6.5.1.3//NONSGML v1.0//EN
CALSCALE:GREGORIAN
METHOD:PUBLISH
X-WR-CALNAME:Freiraum Ronsdorf
X-ORIGINAL-URL:https://freiraum-ronsdorf.de
X-WR-CALDESC:Veranstaltungen für Freiraum Ronsdorf
REFRESH-INTERVAL;VALUE=DURATION:PT1H
X-Robots-Tag:noindex
X-PUBLISHED-TTL:PT1H
BEGIN:VTIMEZONE
TZID:Europe/Berlin
BEGIN:DAYLIGHT
TZOFFSETFROM:+0100
TZOFFSETTO:+0200
TZNAME:CEST
DTSTART:20250330T010000
END:DAYLIGHT
BEGIN:STANDARD
TZOFFSETFROM:+0200
TZOFFSETTO:+0100
TZNAME:CET
DTSTART:20251026T010000
END:STANDARD
END:VTIMEZONE
BEGIN:VEVENT
DTSTART;TZID=Europe/Berlin:20250602T190000
DTEND;TZID=Europe/Berlin:20250602T203000
DTSTAMP:20260422T011435
CREATED:20250409T082413Z
LAST-MODIFIED:20250409T082413Z
UID:10000627-1748890800-1748896200@freiraum-ronsdorf.de
SUMMARY:Niederländisch Kurs
DESCRIPTION:Beste mensen! (was soviel heißt wie: Liebe Leute!) \nIm Freiraum gibt es ab sofort die Möglichkeit\, Niederländisch zu lernen.\nWir treffen uns wöchentlich in geselliger Runde zum Plaudern und lernen dabei Grundlagen der Niederländischen Sprache und Themen kennen\, über die man als Niederlande-Fan immer schonmal reden wollte. \nEine Anmeldung ist nicht erforderlich. Kommt einfach vorbei. \nWij gaan Hollands praten.\nTot ziens \nHeike Blombach
URL:https://freiraum-ronsdorf.de/event/niederlaendisch-kurs-21/
LOCATION:Freiraum Ronsdorf\, In der Krim 12\, Wuppertal\, 42369
ATTACH;FMTTYPE=image/png:https://freiraum-ronsdorf.de/wp-content/uploads/2024/12/Blue-Photo-Collage-Hello-August-Instagram-Post-1.png
END:VEVENT
BEGIN:VEVENT
DTSTART;TZID=Europe/Berlin:20250603T100000
DTEND;TZID=Europe/Berlin:20250603T113000
DTSTAMP:20260422T011435
CREATED:20250409T082522Z
LAST-MODIFIED:20250526T103401Z
UID:10000632-1748944800-1748950200@freiraum-ronsdorf.de
SUMMARY:Veeh-Harfen - Ensemble Probe
DESCRIPTION:Das Veeh-Harfen-Ensemble mit Urte Rohda probt im Freiraum. \nWer Interesse an dem Instrument hat und sich eine Probe ansehen möchte\, darf sich gern per E-Mail oder über das Kontaktformular unserer Website melden. \n 
URL:https://freiraum-ronsdorf.de/event/veeh-harfen-ensemble-probe-15/
LOCATION:Freiraum Ronsdorf\, In der Krim 12\, Wuppertal\, 42369
ATTACH;FMTTYPE=image/jpeg:https://freiraum-ronsdorf.de/wp-content/uploads/2025/01/MG_6123-scaled.jpg
END:VEVENT
BEGIN:VEVENT
DTSTART;TZID=Europe/Berlin:20250603T170000
DTEND;TZID=Europe/Berlin:20250603T190000
DTSTAMP:20260422T011435
CREATED:20250409T082622Z
LAST-MODIFIED:20250409T082622Z
UID:10000636-1748970000-1748977200@freiraum-ronsdorf.de
SUMMARY:Harfen-Café
DESCRIPTION:Jeden ersten Dienstag im Monat lädt Urte Rohda herzlich dazu ein\, die Veeh-Harfe kennenzulernen und auszuprobieren. In gemütlicher Atmosphäre genießen wir gemeinsam Kaffee\, Knabbereien und musikalische Klänge. Ob mit oder ohne Vorkenntnisse – einfach vorbeikommen und den Zauber der Musik entdecken!
URL:https://freiraum-ronsdorf.de/event/harfen-cafe-5/
LOCATION:Freiraum Ronsdorf\, In der Krim 12\, Wuppertal\, 42369
ATTACH;FMTTYPE=image/png:https://freiraum-ronsdorf.de/wp-content/uploads/2025/01/Blue-Photo-Collage-Hello-August-Instagram-Post.png
END:VEVENT
BEGIN:VEVENT
DTSTART;TZID=Europe/Berlin:20250605T150000
DTEND;TZID=Europe/Berlin:20250605T180000
DTSTAMP:20260422T011435
CREATED:20250409T082820Z
LAST-MODIFIED:20250607T192705Z
UID:10000637-1749135600-1749146400@freiraum-ronsdorf.de
SUMMARY:Café-Freiraum
DESCRIPTION:Freiraum Ronsdorf lädt ein! \nJeden Donnerstag öffnen wir unsere Türen für alle – ganz ohne feste Veranstaltung. Kommt vorbei und genießt eine entspannte Zeit: Ob bei einer Tasse Kaffee\, einem leckeren Stück Kuchen\, beim Stöbern in einem Buch oder einem kleinen Kicker-Match. Hier ist Platz für Begegnungen\, Gespräche und Gemeinschaft. Lasst uns den Tag gemeinsam genießen – wir freuen uns auf euch!
URL:https://freiraum-ronsdorf.de/event/cafe-freiraum-28/
LOCATION:Freiraum Ronsdorf\, In der Krim 12\, Wuppertal\, 42369
ATTACH;FMTTYPE=image/png:https://freiraum-ronsdorf.de/wp-content/uploads/2025/04/Cafe-scaled.png
END:VEVENT
BEGIN:VEVENT
DTSTART;TZID=Europe/Berlin:20250607T150000
DTEND;TZID=Europe/Berlin:20250607T170000
DTSTAMP:20260422T011435
CREATED:20250409T083050Z
LAST-MODIFIED:20250409T083050Z
UID:10000645-1749308400-1749315600@freiraum-ronsdorf.de
SUMMARY:Strick-Café
DESCRIPTION:Eigene Projekte unter Gleichgesinnten in gemütlicher Café-Atmosphäre weiter stricken. \nWeitere Infos.
URL:https://freiraum-ronsdorf.de/event/strick-cafe-26/
LOCATION:Freiraum Ronsdorf\, In der Krim 12\, Wuppertal\, 42369
ATTACH;FMTTYPE=image/jpeg:https://freiraum-ronsdorf.de/wp-content/uploads/2023/12/Stricken_1.jpg
END:VEVENT
BEGIN:VEVENT
DTSTART;TZID=Europe/Berlin:20250608T150000
DTEND;TZID=Europe/Berlin:20250608T150000
DTSTAMP:20260422T011435
CREATED:20250514T185741Z
LAST-MODIFIED:20250605T060212Z
UID:10000673-1749394800-1749394800@freiraum-ronsdorf.de
SUMMARY:AUSGEBUCHT - Spieleabend
DESCRIPTION:Wir treffen uns in einem gemütlichen Raum\, um Brett- oder auch mal ein Kartenspiel zu spielen. Es können gerne eigene Spiele mitgebracht werden\, sofern die Regeln bekannt sind und auch erklärt werden können.\n\nUm Anmeldung wird zwecks Organisation gebeten: info@freiraum-ronsdorf.de
URL:https://freiraum-ronsdorf.de/event/spieleabend-10/
LOCATION:Freiraum Ronsdorf\, In der Krim 12\, Wuppertal\, 42369
ATTACH;FMTTYPE=image/jpeg:https://freiraum-ronsdorf.de/wp-content/uploads/2024/12/IMG_1132-scaled-1.jpeg
END:VEVENT
BEGIN:VEVENT
DTSTART;TZID=Europe/Berlin:20250610T100000
DTEND;TZID=Europe/Berlin:20250610T113000
DTSTAMP:20260422T011435
CREATED:20250409T082536Z
LAST-MODIFIED:20250526T103427Z
UID:10000633-1749549600-1749555000@freiraum-ronsdorf.de
SUMMARY:Veeh-Harfen - Ensemble Probe
DESCRIPTION:Das Veeh-Harfen-Ensemble mit Urte Rohda probt im Freiraum. \nWer Interesse an dem Instrument hat und sich eine Probe ansehen möchte\, darf sich gern per E-Mail oder über das Kontaktformular unserer Website melden. \n 
URL:https://freiraum-ronsdorf.de/event/veeh-harfen-ensemble-probe-16/
LOCATION:Freiraum Ronsdorf\, In der Krim 12\, Wuppertal\, 42369
ATTACH;FMTTYPE=image/jpeg:https://freiraum-ronsdorf.de/wp-content/uploads/2025/01/MG_6123-scaled.jpg
END:VEVENT
BEGIN:VEVENT
DTSTART;TZID=Europe/Berlin:20250612T150000
DTEND;TZID=Europe/Berlin:20250612T180000
DTSTAMP:20260422T011435
CREATED:20250515T111332Z
LAST-MODIFIED:20250607T192632Z
UID:10000676-1749740400-1749751200@freiraum-ronsdorf.de
SUMMARY:Café-Freiraum
DESCRIPTION:Freiraum Ronsdorf lädt ein! \nJeden Donnerstag öffnen wir unsere Türen für alle – ganz ohne feste Veranstaltung. Kommt vorbei und genießt eine entspannte Zeit: Ob bei einer Tasse Kaffee\, einem leckeren Stück Kuchen\, beim Stöbern in einem Buch oder einem kleinen Kicker-Match. Hier ist Platz für Begegnungen\, Gespräche und Gemeinschaft. Lasst uns den Tag gemeinsam genießen – wir freuen uns auf euch!
URL:https://freiraum-ronsdorf.de/event/cafe-freiraum-27/
LOCATION:Freiraum Ronsdorf\, In der Krim 12\, Wuppertal\, 42369
ATTACH;FMTTYPE=image/png:https://freiraum-ronsdorf.de/wp-content/uploads/2025/04/Cafe-scaled.png
END:VEVENT
BEGIN:VEVENT
DTSTART;TZID=Europe/Berlin:20250614T190000
DTEND;TZID=Europe/Berlin:20250614T190000
DTSTAMP:20260422T011435
CREATED:20250513T200723Z
LAST-MODIFIED:20250612T142032Z
UID:10000671-1749927600-1749927600@freiraum-ronsdorf.de
SUMMARY:AUSGEBUCHT - Spieleabend
DESCRIPTION:Wir treffen uns in einem gemütlichen Raum\, um Brett- oder auch mal ein Kartenspiel zu spielen. Es können gerne eigene Spiele mitgebracht werden\, sofern die Regeln bekannt sind und auch erklärt werden können.\n\nUm Anmeldung wird zwecks Organisation gebeten: info@freiraum-ronsdorf.de
URL:https://freiraum-ronsdorf.de/event/spieleabend-8/
LOCATION:Freiraum Ronsdorf\, In der Krim 12\, Wuppertal\, 42369
ATTACH;FMTTYPE=image/jpeg:https://freiraum-ronsdorf.de/wp-content/uploads/2024/12/IMG_1132-scaled-1.jpeg
END:VEVENT
BEGIN:VEVENT
DTSTART;TZID=Europe/Berlin:20250616T190000
DTEND;TZID=Europe/Berlin:20250616T203000
DTSTAMP:20260422T011435
CREATED:20250409T082440Z
LAST-MODIFIED:20250409T082440Z
UID:10000629-1750100400-1750105800@freiraum-ronsdorf.de
SUMMARY:Niederländisch Kurs
DESCRIPTION:Beste mensen! (was soviel heißt wie: Liebe Leute!) \nIm Freiraum gibt es ab sofort die Möglichkeit\, Niederländisch zu lernen.\nWir treffen uns wöchentlich in geselliger Runde zum Plaudern und lernen dabei Grundlagen der Niederländischen Sprache und Themen kennen\, über die man als Niederlande-Fan immer schonmal reden wollte. \nEine Anmeldung ist nicht erforderlich. Kommt einfach vorbei. \nWij gaan Hollands praten.\nTot ziens \nHeike Blombach
URL:https://freiraum-ronsdorf.de/event/niederlaendisch-kurs-23/
LOCATION:Freiraum Ronsdorf\, In der Krim 12\, Wuppertal\, 42369
ATTACH;FMTTYPE=image/png:https://freiraum-ronsdorf.de/wp-content/uploads/2024/12/Blue-Photo-Collage-Hello-August-Instagram-Post-1.png
END:VEVENT
BEGIN:VEVENT
DTSTART;TZID=Europe/Berlin:20250617T100000
DTEND;TZID=Europe/Berlin:20250617T113000
DTSTAMP:20260422T011435
CREATED:20250409T082548Z
LAST-MODIFIED:20250526T103450Z
UID:10000634-1750154400-1750159800@freiraum-ronsdorf.de
SUMMARY:Veeh-Harfen - Ensemble Probe
DESCRIPTION:Das Veeh-Harfen-Ensemble mit Urte Rohda probt im Freiraum. \nWer Interesse an dem Instrument hat und sich eine Probe ansehen möchte\, darf sich gern per E-Mail oder über das Kontaktformular unserer Website melden. \n 
URL:https://freiraum-ronsdorf.de/event/veeh-harfen-ensemble-probe-17/
LOCATION:Freiraum Ronsdorf\, In der Krim 12\, Wuppertal\, 42369
ATTACH;FMTTYPE=image/jpeg:https://freiraum-ronsdorf.de/wp-content/uploads/2025/01/MG_6123-scaled.jpg
END:VEVENT
BEGIN:VEVENT
DTSTART;TZID=Europe/Berlin:20250621T150000
DTEND;TZID=Europe/Berlin:20250621T170000
DTSTAMP:20260422T011435
CREATED:20250409T083108Z
LAST-MODIFIED:20250409T083108Z
UID:10000646-1750518000-1750525200@freiraum-ronsdorf.de
SUMMARY:Strick-Café
DESCRIPTION:Eigene Projekte unter Gleichgesinnten in gemütlicher Café-Atmosphäre weiter stricken. \nWeitere Infos.
URL:https://freiraum-ronsdorf.de/event/strick-cafe-27/
LOCATION:Freiraum Ronsdorf\, In der Krim 12\, Wuppertal\, 42369
ATTACH;FMTTYPE=image/jpeg:https://freiraum-ronsdorf.de/wp-content/uploads/2023/12/Stricken_1.jpg
END:VEVENT
BEGIN:VEVENT
DTSTART;TZID=Europe/Berlin:20250624T100000
DTEND;TZID=Europe/Berlin:20250624T113000
DTSTAMP:20260422T011435
CREATED:20250409T082559Z
LAST-MODIFIED:20250526T103506Z
UID:10000635-1750759200-1750764600@freiraum-ronsdorf.de
SUMMARY:Veeh-Harfen - Ensemble Probe
DESCRIPTION:Das Veeh-Harfen-Ensemble mit Urte Rohda probt im Freiraum. \nWer Interesse an dem Instrument hat und sich eine Probe ansehen möchte\, darf sich gern per E-Mail oder über das Kontaktformular unserer Website melden. \n 
URL:https://freiraum-ronsdorf.de/event/veeh-harfen-ensemble-probe-22/
LOCATION:Freiraum Ronsdorf\, In der Krim 12\, Wuppertal\, 42369
ATTACH;FMTTYPE=image/jpeg:https://freiraum-ronsdorf.de/wp-content/uploads/2025/01/MG_6123-scaled.jpg
END:VEVENT
BEGIN:VEVENT
DTSTART;TZID=Europe/Berlin:20250626T150000
DTEND;TZID=Europe/Berlin:20250626T180000
DTSTAMP:20260422T011435
CREATED:20250409T082904Z
LAST-MODIFIED:20250607T192538Z
UID:10000640-1750950000-1750960800@freiraum-ronsdorf.de
SUMMARY:Café-Freiraum
DESCRIPTION:Freiraum Ronsdorf lädt ein! \nJeden Donnerstag öffnen wir unsere Türen für alle – ganz ohne feste Veranstaltung. Kommt vorbei und genießt eine entspannte Zeit: Ob bei einer Tasse Kaffee\, einem leckeren Stück Kuchen\, beim Stöbern in einem Buch oder einem kleinen Kicker-Match. Hier ist Platz für Begegnungen\, Gespräche und Gemeinschaft. Lasst uns den Tag gemeinsam genießen – wir freuen uns auf euch!
URL:https://freiraum-ronsdorf.de/event/cafe-freiraum-31/
LOCATION:Freiraum Ronsdorf\, In der Krim 12\, Wuppertal\, 42369
ATTACH;FMTTYPE=image/png:https://freiraum-ronsdorf.de/wp-content/uploads/2025/04/Cafe-scaled.png
END:VEVENT
BEGIN:VEVENT
DTSTART;TZID=Europe/Berlin:20250628T100000
DTEND;TZID=Europe/Berlin:20250628T130000
DTSTAMP:20260422T011435
CREATED:20250526T081807Z
LAST-MODIFIED:20250526T082448Z
UID:10000677-1751104800-1751115600@freiraum-ronsdorf.de
SUMMARY:Kleidertauschparty
DESCRIPTION:Unter dem Motto „Tauschen statt kaufen!“ treffen wir uns im Vereinsheim und tauschen was das Zeug hält.\nJeder kann maximal 10 gewaschene\, gut erhaltene Kleidungsstücke mitbringen. \nDiesmal wird auch Spielzeug getauscht. Bringt gerne gut erhaltenes\, funktionierendes Spielzeug mit und tauscht um die Wette.
URL:https://freiraum-ronsdorf.de/event/kleidertauschparty-3/
LOCATION:Freiraum Ronsdorf\, In der Krim 12\, Wuppertal\, 42369
ATTACH;FMTTYPE=image/jpeg:https://freiraum-ronsdorf.de/wp-content/uploads/2023/12/boutique-6796399_1280.jpg
END:VEVENT
BEGIN:VEVENT
DTSTART;TZID=Europe/Berlin:20250629T120000
DTEND;TZID=Europe/Berlin:20250629T140000
DTSTAMP:20260422T011435
CREATED:20250531T183029Z
LAST-MODIFIED:20250531T183029Z
UID:10000678-1751198400-1751205600@freiraum-ronsdorf.de
SUMMARY:Bücherclub
DESCRIPTION:„Es gibt mehr Schätze in Büchern als Piratenbeute auf der Schatzinsel…und das Beste ist\, du kannst diesen Reichtum jeden Tag deines Lebens genießen.“\, sagte schon Walt Disney. \nWir\, Sofia\, Aliena und Selina\, möchten diesen Schätzen gemeinsam mit euch auf den Grund gehen.\nJeder hat Bücher\, die einen bewegt haben\, die Erinnerungen wecken oder die noch auf der Leseliste stehen. Am schönsten ist es doch\, wenn man diese miteinander teilen kann. \nDie neue Challenge für das nächste Treffen:\nLies ein Buch\, das in deinem Geburtsjahr veröffentlicht wurde.
URL:https://freiraum-ronsdorf.de/event/buecherclub-10/
LOCATION:Freiraum Ronsdorf\, In der Krim 12\, Wuppertal\, 42369
ATTACH;FMTTYPE=image/jpeg:https://freiraum-ronsdorf.de/wp-content/uploads/2024/04/Buecherclub.jpg
END:VEVENT
END:VCALENDAR