BEGIN:VCALENDAR
VERSION:2.0
PRODID:-//Freiraum Ronsdorf - ECPv6.5.1.3//NONSGML v1.0//EN
CALSCALE:GREGORIAN
METHOD:PUBLISH
X-WR-CALNAME:Freiraum Ronsdorf
X-ORIGINAL-URL:https://freiraum-ronsdorf.de
X-WR-CALDESC:Veranstaltungen für Freiraum Ronsdorf
REFRESH-INTERVAL;VALUE=DURATION:PT1H
X-Robots-Tag:noindex
X-PUBLISHED-TTL:PT1H
BEGIN:VTIMEZONE
TZID:Europe/Berlin
BEGIN:DAYLIGHT
TZOFFSETFROM:+0100
TZOFFSETTO:+0200
TZNAME:CEST
DTSTART:20240331T010000
END:DAYLIGHT
BEGIN:STANDARD
TZOFFSETFROM:+0200
TZOFFSETTO:+0100
TZNAME:CET
DTSTART:20241027T010000
END:STANDARD
END:VTIMEZONE
BEGIN:VEVENT
DTSTART;TZID=Europe/Berlin:20240901T120000
DTEND;TZID=Europe/Berlin:20240901T140000
DTSTAMP:20260424T052337
CREATED:20240707T191854Z
LAST-MODIFIED:20240707T191854Z
UID:10000434-1725192000-1725199200@freiraum-ronsdorf.de
SUMMARY:Bücherclub
DESCRIPTION:„Es gibt mehr Schätze in Büchern als Piratenbeute auf der Schatzinsel…und das Beste ist\, du kannst diesen Reichtum jeden Tag deines Lebens genießen.“\, sagte schon Walt Disney. \nWir\, Sofia\, Aliena und Selina\, möchten diesen Schätzen gemeinsam mit euch auf den Grund gehen.\nJeder hat Bücher\, die einen bewegt haben\, die Erinnerungen wecken oder die noch auf der Leseliste stehen. Am schönsten ist es doch\, wenn man diese miteinander teilen kann. \nMehr Infos.
URL:https://freiraum-ronsdorf.de/event/buecherclub-2/
LOCATION:Freiraum Ronsdorf\, In der Krim 12\, Wuppertal\, 42369
ATTACH;FMTTYPE=image/jpeg:https://freiraum-ronsdorf.de/wp-content/uploads/2024/04/Buecherclub.jpg
END:VEVENT
BEGIN:VEVENT
DTSTART;TZID=Europe/Berlin:20240902T153000
DTEND;TZID=Europe/Berlin:20240902T190000
DTSTAMP:20260424T052337
CREATED:20240619T143248Z
LAST-MODIFIED:20240619T143248Z
UID:10000430-1725291000-1725303600@freiraum-ronsdorf.de
SUMMARY:Gesundheitskiste: Schlaf
DESCRIPTION:Im Freiraum stehen Euch alle 14 Tage die Gesundheitsberaterinnen der Gesundheitskiste\, einem Kooperationsprojekt zwischen der GESA Akademie und dem Gut Einern e.V.\, zur Verfügung.\nIn gemütlicher Atmosphäre zu Gesundheitsthemen beraten lassen! \nDas Thema dieses Mal: Schlaf. \nWeitere Informationen unter www.gesundheitskiste-wuppertal.de
URL:https://freiraum-ronsdorf.de/event/gesundheitskiste-schlaf/
LOCATION:Freiraum Ronsdorf\, In der Krim 12\, Wuppertal\, 42369
ATTACH;FMTTYPE=image/png:https://freiraum-ronsdorf.de/wp-content/uploads/2024/06/Bildschirmfoto-2024-06-19-um-16.29.33.png
END:VEVENT
BEGIN:VEVENT
DTSTART;TZID=Europe/Berlin:20240914T150000
DTEND;TZID=Europe/Berlin:20240914T170000
DTSTAMP:20260424T052337
CREATED:20240827T072758Z
LAST-MODIFIED:20240827T072758Z
UID:10000450-1726326000-1726333200@freiraum-ronsdorf.de
SUMMARY:Strick-Café
DESCRIPTION:Eigene Projekte unter Gleichgesinnten in gemütlicher Café-Atmosphäre weiter stricken. \nWeitere Infos.
URL:https://freiraum-ronsdorf.de/event/strick-cafe-7/
LOCATION:Freiraum Ronsdorf\, In der Krim 12\, Wuppertal\, 42369
ATTACH;FMTTYPE=image/jpeg:https://freiraum-ronsdorf.de/wp-content/uploads/2023/12/Stricken_1.jpg
END:VEVENT
BEGIN:VEVENT
DTSTART;TZID=Europe/Berlin:20240916T153000
DTEND;TZID=Europe/Berlin:20240916T190000
DTSTAMP:20260424T052337
CREATED:20240619T143316Z
LAST-MODIFIED:20240619T143316Z
UID:10000431-1726500600-1726513200@freiraum-ronsdorf.de
SUMMARY:Gesundheitskiste: Schlaf
DESCRIPTION:Im Freiraum stehen Euch alle 14 Tage die Gesundheitsberaterinnen der Gesundheitskiste\, einem Kooperationsprojekt zwischen der GESA Akademie und dem Gut Einern e.V.\, zur Verfügung.\nIn gemütlicher Atmosphäre zu Gesundheitsthemen beraten lassen! \nDas Thema dieses Mal: Schlaf. \nWeitere Informationen unter www.gesundheitskiste-wuppertal.de
URL:https://freiraum-ronsdorf.de/event/gesundheitskiste-schlaf-2/
LOCATION:Freiraum Ronsdorf\, In der Krim 12\, Wuppertal\, 42369
ATTACH;FMTTYPE=image/png:https://freiraum-ronsdorf.de/wp-content/uploads/2024/06/Bildschirmfoto-2024-06-19-um-16.29.33.png
END:VEVENT
BEGIN:VEVENT
DTSTART;TZID=Europe/Berlin:20240916T190000
DTEND;TZID=Europe/Berlin:20240916T190000
DTSTAMP:20260424T052337
CREATED:20240827T111724Z
LAST-MODIFIED:20240827T111724Z
UID:10000465-1726513200-1726513200@freiraum-ronsdorf.de
SUMMARY:Musizieren
DESCRIPTION:Wir möchten gemeinsam musizieren. Menschen mit verschiedenen Instrumenten und Erfahrungslevel treffen sich\, stimmen Lieder ab und spielen bei den nächsten Treffen die Stücke gemeinsam. \nKommt gern dazu!
URL:https://freiraum-ronsdorf.de/event/musizieren-6/
LOCATION:Freiraum Ronsdorf\, In der Krim 12\, Wuppertal\, 42369
ATTACH;FMTTYPE=image/jpeg:https://freiraum-ronsdorf.de/wp-content/uploads/2024/04/music-teacher_45.jpg
END:VEVENT
BEGIN:VEVENT
DTSTART;TZID=Europe/Berlin:20240924T160000
DTEND;TZID=Europe/Berlin:20240924T180000
DTSTAMP:20260424T052337
CREATED:20240826T150110Z
LAST-MODIFIED:20240828T143013Z
UID:10000446-1727193600-1727200800@freiraum-ronsdorf.de
SUMMARY:Herbst-Basteln
DESCRIPTION:Der Herbst ist da\, und wir laden alle Generationen herzlich zu einem gemeinsamen Bastelnachmittag ein! Wir treffen uns im Freiraum\, um kreativ zu werden und die bunte Jahreszeit zu feiern. Egal ob jung oder alt\, ob mit Kindern oder Großeltern – jeder ist willkommen\, mit uns wunderschöne Herbstdekorationen zu basteln. Aus Naturmaterialien werden kleine Herbstkränze für Tisch oder Fenster gefertigt\, Kinder basteln einen Herbstast. Materialien und Ideen sind vorhanden\, bringt einfach gute Laune und Freude am Gestalten mit! Falls ihr doch auch selbst etwas mitbringen mögt\, könnt ihr gerne gepresste Blätter\, Zapfen oder Fruchtstände mitbringen. Wir freuen uns auf einen gemütlichen und kreativen Nachmittag mit euch. \nGeeignet für Kinder ab ca. 6 Jahren\, genauso wie für Erwachsene.
URL:https://freiraum-ronsdorf.de/event/herbst-basteln/
LOCATION:Freiraum Ronsdorf\, In der Krim 12\, Wuppertal\, 42369
ATTACH;FMTTYPE=image/jpeg:https://freiraum-ronsdorf.de/wp-content/uploads/2024/08/imp-4616233_1280.jpg
END:VEVENT
BEGIN:VEVENT
DTSTART;TZID=Europe/Berlin:20240928T150000
DTEND;TZID=Europe/Berlin:20240928T170000
DTSTAMP:20260424T052337
CREATED:20240827T072824Z
LAST-MODIFIED:20240827T072824Z
UID:10000451-1727535600-1727542800@freiraum-ronsdorf.de
SUMMARY:Strick-Café
DESCRIPTION:Eigene Projekte unter Gleichgesinnten in gemütlicher Café-Atmosphäre weiter stricken. \nWeitere Infos.
URL:https://freiraum-ronsdorf.de/event/strick-cafe-8/
LOCATION:Freiraum Ronsdorf\, In der Krim 12\, Wuppertal\, 42369
ATTACH;FMTTYPE=image/jpeg:https://freiraum-ronsdorf.de/wp-content/uploads/2023/12/Stricken_1.jpg
END:VEVENT
BEGIN:VEVENT
DTSTART;TZID=Europe/Berlin:20240930T153000
DTEND;TZID=Europe/Berlin:20240930T190000
DTSTAMP:20260424T052337
CREATED:20240926T181016Z
LAST-MODIFIED:20240926T181016Z
UID:10000486-1727710200-1727722800@freiraum-ronsdorf.de
SUMMARY:Gesundheitskiste: Erkältung (Hausmittel)
DESCRIPTION:Im Freiraum stehen Euch alle 14 Tage die Gesundheitsberaterinnen der Gesundheitskiste\, einem Kooperationsprojekt zwischen der GESA Akademie und dem Gut Einern e.V.\, zur Verfügung.\nIn gemütlicher Atmosphäre zu Gesundheitsthemen beraten lassen! \nDas Thema dieses Mal: Erkältung (Hausmittel). \nWeitere Informationen unter www.gesundheitskiste-wuppertal.de
URL:https://freiraum-ronsdorf.de/event/gesundheitskiste-erkaeltung-hausmittel-2/
LOCATION:Freiraum Ronsdorf\, In der Krim 12\, Wuppertal\, 42369
ATTACH;FMTTYPE=image/jpeg:https://freiraum-ronsdorf.de/wp-content/uploads/2024/08/ill-298909_1280.jpg
END:VEVENT
END:VCALENDAR