BEGIN:VCALENDAR
VERSION:2.0
PRODID:-//Freiraum Ronsdorf - ECPv6.5.1.3//NONSGML v1.0//EN
CALSCALE:GREGORIAN
METHOD:PUBLISH
X-WR-CALNAME:Freiraum Ronsdorf
X-ORIGINAL-URL:https://freiraum-ronsdorf.de
X-WR-CALDESC:Veranstaltungen für Freiraum Ronsdorf
REFRESH-INTERVAL;VALUE=DURATION:PT1H
X-Robots-Tag:noindex
X-PUBLISHED-TTL:PT1H
BEGIN:VTIMEZONE
TZID:Europe/Berlin
BEGIN:DAYLIGHT
TZOFFSETFROM:+0100
TZOFFSETTO:+0200
TZNAME:CEST
DTSTART:20240331T010000
END:DAYLIGHT
BEGIN:STANDARD
TZOFFSETFROM:+0200
TZOFFSETTO:+0100
TZNAME:CET
DTSTART:20241027T010000
END:STANDARD
END:VTIMEZONE
BEGIN:VEVENT
DTSTART;TZID=Europe/Berlin:20240803T150000
DTEND;TZID=Europe/Berlin:20240803T170000
DTSTAMP:20260424T070653
CREATED:20240709T074101Z
LAST-MODIFIED:20240709T074101Z
UID:10000435-1722697200-1722704400@freiraum-ronsdorf.de
SUMMARY:Strick-Café
DESCRIPTION:Eigene Projekte unter Gleichgesinnten in gemütlicher Café-Atmosphäre weiter stricken. \nWeitere Infos.
URL:https://freiraum-ronsdorf.de/event/strick-cafe-4/
LOCATION:Freiraum Ronsdorf\, In der Krim 12\, Wuppertal\, 42369
ATTACH;FMTTYPE=image/jpeg:https://freiraum-ronsdorf.de/wp-content/uploads/2023/12/Stricken_1.jpg
END:VEVENT
BEGIN:VEVENT
DTSTART;TZID=Europe/Berlin:20240805T153000
DTEND;TZID=Europe/Berlin:20240805T190000
DTSTAMP:20260424T070653
CREATED:20240619T143030Z
LAST-MODIFIED:20240619T143102Z
UID:10000428-1722871800-1722884400@freiraum-ronsdorf.de
SUMMARY:Gesundheitskiste: Sonnenschutz
DESCRIPTION:Im Freiraum stehen Euch alle 14 Tage die Gesundheitsberaterinnen der Gesundheitskiste\, einem Kooperationsprojekt zwischen der GESA Akademie und dem Gut Einern e.V.\, zur Verfügung.\nIn gemütlicher Atmosphäre zu Gesundheitsthemen beraten lassen! \nDas Thema dieses Mal: Sonnenschutz. \nWeitere Informationen unter www.gesundheitskiste-wuppertal.de
URL:https://freiraum-ronsdorf.de/event/gesundheitskiste-alltagsstress-2/
LOCATION:Freiraum Ronsdorf\, In der Krim 12\, Wuppertal\, 42369
ATTACH;FMTTYPE=image/png:https://freiraum-ronsdorf.de/wp-content/uploads/2024/06/Bildschirmfoto-2024-06-19-um-16.29.20.png
END:VEVENT
BEGIN:VEVENT
DTSTART;TZID=Europe/Berlin:20240805T190000
DTEND;TZID=Europe/Berlin:20240805T190000
DTSTAMP:20260424T070653
CREATED:20240709T074138Z
LAST-MODIFIED:20240709T074138Z
UID:10000436-1722884400-1722884400@freiraum-ronsdorf.de
SUMMARY:Musizieren
DESCRIPTION:Wir möchten gemeinsam musizieren. Menschen mit verschiedenen Instrumenten und Erfahrungslevel treffen sich\, stimmen Lieder ab und spielen bei den nächsten Treffen die Stücke gemeinsam. \nKommt gern dazu!
URL:https://freiraum-ronsdorf.de/event/musizieren-3/
LOCATION:Freiraum Ronsdorf\, In der Krim 12\, Wuppertal\, 42369
ATTACH;FMTTYPE=image/jpeg:https://freiraum-ronsdorf.de/wp-content/uploads/2024/04/music-teacher_45.jpg
END:VEVENT
BEGIN:VEVENT
DTSTART;TZID=Europe/Berlin:20240817T150000
DTEND;TZID=Europe/Berlin:20240817T170000
DTSTAMP:20260424T070653
CREATED:20240709T074316Z
LAST-MODIFIED:20240709T074316Z
UID:10000440-1723906800-1723914000@freiraum-ronsdorf.de
SUMMARY:Strick-Café
DESCRIPTION:Eigene Projekte unter Gleichgesinnten in gemütlicher Café-Atmosphäre weiter stricken. \nWeitere Infos.
URL:https://freiraum-ronsdorf.de/event/strick-cafe-5/
LOCATION:Freiraum Ronsdorf\, In der Krim 12\, Wuppertal\, 42369
ATTACH;FMTTYPE=image/jpeg:https://freiraum-ronsdorf.de/wp-content/uploads/2023/12/Stricken_1.jpg
END:VEVENT
BEGIN:VEVENT
DTSTART;TZID=Europe/Berlin:20240819T153000
DTEND;TZID=Europe/Berlin:20240819T190000
DTSTAMP:20260424T070653
CREATED:20240619T143134Z
LAST-MODIFIED:20240619T143134Z
UID:10000429-1724081400-1724094000@freiraum-ronsdorf.de
SUMMARY:Gesundheitskiste: Sonnenschutz
DESCRIPTION:Im Freiraum stehen Euch alle 14 Tage die Gesundheitsberaterinnen der Gesundheitskiste\, einem Kooperationsprojekt zwischen der GESA Akademie und dem Gut Einern e.V.\, zur Verfügung.\nIn gemütlicher Atmosphäre zu Gesundheitsthemen beraten lassen! \nDas Thema dieses Mal: Sonnenschutz. \nWeitere Informationen unter www.gesundheitskiste-wuppertal.de
URL:https://freiraum-ronsdorf.de/event/gesundheitskiste-sonnenschutz/
LOCATION:Freiraum Ronsdorf\, In der Krim 12\, Wuppertal\, 42369
ATTACH;FMTTYPE=image/png:https://freiraum-ronsdorf.de/wp-content/uploads/2024/06/Bildschirmfoto-2024-06-19-um-16.29.20.png
END:VEVENT
BEGIN:VEVENT
DTSTART;TZID=Europe/Berlin:20240819T190000
DTEND;TZID=Europe/Berlin:20240819T190000
DTSTAMP:20260424T070653
CREATED:20240709T074219Z
LAST-MODIFIED:20240709T074219Z
UID:10000437-1724094000-1724094000@freiraum-ronsdorf.de
SUMMARY:Musizieren
DESCRIPTION:Wir möchten gemeinsam musizieren. Menschen mit verschiedenen Instrumenten und Erfahrungslevel treffen sich\, stimmen Lieder ab und spielen bei den nächsten Treffen die Stücke gemeinsam. \nKommt gern dazu!
URL:https://freiraum-ronsdorf.de/event/musizieren-4/
LOCATION:Freiraum Ronsdorf\, In der Krim 12\, Wuppertal\, 42369
ATTACH;FMTTYPE=image/jpeg:https://freiraum-ronsdorf.de/wp-content/uploads/2024/04/music-teacher_45.jpg
END:VEVENT
BEGIN:VEVENT
DTSTART;TZID=Europe/Berlin:20240831T150000
DTEND;TZID=Europe/Berlin:20240831T170000
DTSTAMP:20260424T070653
CREATED:20240709T074330Z
LAST-MODIFIED:20240709T074330Z
UID:10000441-1725116400-1725123600@freiraum-ronsdorf.de
SUMMARY:Strick-Café
DESCRIPTION:Eigene Projekte unter Gleichgesinnten in gemütlicher Café-Atmosphäre weiter stricken. \nWeitere Infos.
URL:https://freiraum-ronsdorf.de/event/strick-cafe-6/
LOCATION:Freiraum Ronsdorf\, In der Krim 12\, Wuppertal\, 42369
ATTACH;FMTTYPE=image/jpeg:https://freiraum-ronsdorf.de/wp-content/uploads/2023/12/Stricken_1.jpg
END:VEVENT
END:VCALENDAR