BEGIN:VCALENDAR
VERSION:2.0
PRODID:-//Freiraum Ronsdorf - ECPv6.5.1.3//NONSGML v1.0//EN
CALSCALE:GREGORIAN
METHOD:PUBLISH
X-ORIGINAL-URL:https://freiraum-ronsdorf.de
X-WR-CALDESC:Veranstaltungen für Freiraum Ronsdorf
REFRESH-INTERVAL;VALUE=DURATION:PT1H
X-Robots-Tag:noindex
X-PUBLISHED-TTL:PT1H
BEGIN:VTIMEZONE
TZID:Europe/Berlin
BEGIN:DAYLIGHT
TZOFFSETFROM:+0100
TZOFFSETTO:+0200
TZNAME:CEST
DTSTART:20240331T010000
END:DAYLIGHT
BEGIN:STANDARD
TZOFFSETFROM:+0200
TZOFFSETTO:+0100
TZNAME:CET
DTSTART:20241027T010000
END:STANDARD
END:VTIMEZONE
BEGIN:VEVENT
DTSTART;TZID=Europe/Berlin:20240706T120000
DTEND;TZID=Europe/Berlin:20240706T190000
DTSTAMP:20260424T084542
CREATED:20240614T210624Z
LAST-MODIFIED:20240827T112530Z
UID:10000008-1720267200-1720292400@freiraum-ronsdorf.de
SUMMARY:Tabletop - Warhammer
DESCRIPTION:Wir möchten gemeinsam Warhammer zocken. \nKommt gern dazu und schaut es Euch an. Wenn ihr selbst erfahren seid\, meldet Euch gern an\, damit wir die Spiele planen können. \nMehr Infos.
URL:https://freiraum-ronsdorf.de/event/tabletop-age-of-sigmar/
LOCATION:Freiraum Ronsdorf\, In der Krim 12\, Wuppertal\, 42369
ATTACH;FMTTYPE=image/jpeg:https://freiraum-ronsdorf.de/wp-content/uploads/2024/01/tabletop-6031564_1280.jpg
END:VEVENT
BEGIN:VEVENT
DTSTART;TZID=Europe/Berlin:20240707T120000
DTEND;TZID=Europe/Berlin:20240707T143000
DTSTAMP:20260424T084542
CREATED:20240614T215515Z
LAST-MODIFIED:20240614T221521Z
UID:10000009-1720353600-1720362600@freiraum-ronsdorf.de
SUMMARY:Bücherclub
DESCRIPTION:„Es gibt mehr Schätze in Büchern als Piratenbeute auf der Schatzinsel…und das Beste ist\, du kannst diesen Reichtum jeden Tag deines Lebens genießen.“\, sagte schon Walt Disney. \nWir\, Sofia\, Aliena und Selina\, möchten diesen Schätzen gemeinsam mit euch auf den Grund gehen.\nJeder hat Bücher\, die einen bewegt haben\, die Erinnerungen wecken oder die noch auf der Leseliste stehen. Am schönsten ist es doch\, wenn man diese miteinander teilen kann. \nMehr Infos.
URL:https://freiraum-ronsdorf.de/event/buecherclub/
LOCATION:Freiraum Ronsdorf\, In der Krim 12\, Wuppertal\, 42369
ATTACH;FMTTYPE=image/jpeg:https://freiraum-ronsdorf.de/wp-content/uploads/2024/04/Buecherclub.jpg
END:VEVENT
BEGIN:VEVENT
DTSTART;TZID=Europe/Berlin:20240707T150000
DTEND;TZID=Europe/Berlin:20240707T170000
DTSTAMP:20260424T084542
CREATED:20240614T235022Z
LAST-MODIFIED:20240616T082509Z
UID:10000421-1720364400-1720371600@freiraum-ronsdorf.de
SUMMARY:Strick-Café
DESCRIPTION:Eigene Projekte unter Gleichgesinnten in gemütlicher Café-Atmosphäre weiter stricken. \nWeitere Infos.
URL:https://freiraum-ronsdorf.de/event/strick-cafe-2/
LOCATION:Freiraum Ronsdorf\, In der Krim 12\, Wuppertal\, 42369
ATTACH;FMTTYPE=image/jpeg:https://freiraum-ronsdorf.de/wp-content/uploads/2023/12/Stricken_1.jpg
END:VEVENT
BEGIN:VEVENT
DTSTART;TZID=Europe/Berlin:20240708T190000
DTEND;TZID=Europe/Berlin:20240708T190000
DTSTAMP:20260424T084542
CREATED:20240614T235207Z
LAST-MODIFIED:20240614T235236Z
UID:10000423-1720465200-1720465200@freiraum-ronsdorf.de
SUMMARY:Musizieren
DESCRIPTION:Wir möchten gemeinsam musizieren. Menschen mit verschiedenen Instrumenten und Erfahrungslevel treffen sich\, stimmen Lieder ab und spielen bei den nächsten Treffen die Stücke gemeinsam. \nKommt gern dazu!
URL:https://freiraum-ronsdorf.de/event/musizieren-2/
LOCATION:Freiraum Ronsdorf\, In der Krim 12\, Wuppertal\, 42369
ATTACH;FMTTYPE=image/jpeg:https://freiraum-ronsdorf.de/wp-content/uploads/2024/04/music-teacher_45.jpg
END:VEVENT
BEGIN:VEVENT
DTSTART;TZID=Europe/Berlin:20240709T160000
DTEND;TZID=Europe/Berlin:20240709T180000
DTSTAMP:20260424T084542
CREATED:20240614T235351Z
LAST-MODIFIED:20240614T235351Z
UID:10000425-1720540800-1720548000@freiraum-ronsdorf.de
SUMMARY:Nähtreff
DESCRIPTION:In netter\, entspannter Runde wollen wir zusammenkommen\, um an eigenen Projekten weiterzuarbeiten oder sie zu beginnen. \nWeitere Infos.
URL:https://freiraum-ronsdorf.de/event/naehtreff-2/
LOCATION:Freiraum Ronsdorf\, In der Krim 12\, Wuppertal\, 42369
ATTACH;FMTTYPE=image/jpeg:https://freiraum-ronsdorf.de/wp-content/uploads/2024/03/sewing-machine-262454_1280.jpg
END:VEVENT
BEGIN:VEVENT
DTSTART;TZID=Europe/Berlin:20240713T173000
DTEND;TZID=Europe/Berlin:20240713T190000
DTSTAMP:20260424T084542
CREATED:20240614T215737Z
LAST-MODIFIED:20240614T221451Z
UID:10000010-1720891800-1720897200@freiraum-ronsdorf.de
SUMMARY:Veggie-Stammtisch
DESCRIPTION:Wir wollen einen schönen Abend bei mitgebrachten veganen Gerichten verbringen und Ideen\, Tipps und Tricks austauschen.\nWir finden heraus\, wie wir tolle Gerichte und Snacks ganz ohne Lebensmittel tierischen Ursprungs zaubern können. \nWenn Ihr schon etwas Erfahrung habt\, tragt auch gerne schon mit eurer Kreation zum Mitbringbuffet bei. \nMehr Infos.
URL:https://freiraum-ronsdorf.de/event/veggie-stammtisch/
LOCATION:Freiraum Ronsdorf\, In der Krim 12\, Wuppertal\, 42369
ATTACH;FMTTYPE=image/jpeg:https://freiraum-ronsdorf.de/wp-content/uploads/2024/05/Lecker-Gemuese.jpg
END:VEVENT
BEGIN:VEVENT
DTSTART;TZID=Europe/Berlin:20240715T173000
DTEND;TZID=Europe/Berlin:20240715T190000
DTSTAMP:20260424T084542
CREATED:20240624T061620Z
LAST-MODIFIED:20240624T061620Z
UID:10000433-1721064600-1721070000@freiraum-ronsdorf.de
SUMMARY:Chor
DESCRIPTION:Alle 2 Wochen treffen wir uns zum angeleiteten Chor. \nGemeinsam singen ohne einzelne Stimmen\, ohne Noten\, ohne Absicht. Einfach aus Freude am Singen. \nJeder ist dazu eingeladen. Besonders freuen wir uns über verschiedenste Altersklassen. \nWeitere Infos.
URL:https://freiraum-ronsdorf.de/event/chor-3/
LOCATION:Freiraum Ronsdorf\, In der Krim 12\, Wuppertal\, 42369
ATTACH;FMTTYPE=image/jpeg:https://freiraum-ronsdorf.de/wp-content/uploads/2024/02/teacher-gradebook-7278379_1280.jpg
END:VEVENT
BEGIN:VEVENT
DTSTART;TZID=Europe/Berlin:20240720T150000
DTEND;TZID=Europe/Berlin:20240720T170000
DTSTAMP:20260424T084542
CREATED:20240614T235113Z
LAST-MODIFIED:20240615T095458Z
UID:10000422-1721487600-1721494800@freiraum-ronsdorf.de
SUMMARY:Strick-Café
DESCRIPTION:Eigene Projekte unter Gleichgesinnten in gemütlicher Café-Atmosphäre weiter stricken. \nWeitere Infos.
URL:https://freiraum-ronsdorf.de/event/strick-cafe-3/
LOCATION:Freiraum Ronsdorf\, In der Krim 12\, Wuppertal\, 42369
ATTACH;FMTTYPE=image/jpeg:https://freiraum-ronsdorf.de/wp-content/uploads/2023/12/Stricken_1.jpg
END:VEVENT
BEGIN:VEVENT
DTSTART;TZID=Europe/Berlin:20240722T153000
DTEND;TZID=Europe/Berlin:20240722T190000
DTSTAMP:20260424T084542
CREATED:20240616T083229Z
LAST-MODIFIED:20240616T083433Z
UID:10000427-1721662200-1721674800@freiraum-ronsdorf.de
SUMMARY:Gesundheitskiste: Alltagsstress
DESCRIPTION:Im Freiraum stehen Euch alle 14 Tage die Gesundheitsberaterinnen der Gesundheitskiste\, einem Kooperationsprojekt zwischen der GESA Akademie und dem Gut Einern e.V.\, zur Verfügung.\nIn gemütlicher Atmosphäre zu Gesundheitsthemen beraten lassen! \nDas Thema dieses Mal: Alltagsstress. \nWeitere Informationen unter www.gesundheitskiste-wuppertal.de
URL:https://freiraum-ronsdorf.de/event/gesundheitskiste-alltagsstress/
LOCATION:Freiraum Ronsdorf\, In der Krim 12\, Wuppertal\, 42369
ATTACH;FMTTYPE=image/png:https://freiraum-ronsdorf.de/wp-content/uploads/2024/06/Bildschirmfoto-2024-06-16-um-10.30.46.png
END:VEVENT
END:VCALENDAR