BEGIN:VCALENDAR
VERSION:2.0
PRODID:-//Freiraum Ronsdorf - ECPv6.5.1.3//NONSGML v1.0//EN
CALSCALE:GREGORIAN
METHOD:PUBLISH
X-ORIGINAL-URL:https://freiraum-ronsdorf.de
X-WR-CALDESC:Veranstaltungen für Freiraum Ronsdorf
REFRESH-INTERVAL;VALUE=DURATION:PT1H
X-Robots-Tag:noindex
X-PUBLISHED-TTL:PT1H
BEGIN:VTIMEZONE
TZID:Europe/Berlin
BEGIN:DAYLIGHT
TZOFFSETFROM:+0100
TZOFFSETTO:+0200
TZNAME:CEST
DTSTART:20260329T010000
END:DAYLIGHT
BEGIN:STANDARD
TZOFFSETFROM:+0200
TZOFFSETTO:+0100
TZNAME:CET
DTSTART:20261025T010000
END:STANDARD
END:VTIMEZONE
BEGIN:VEVENT
DTSTART;TZID=Europe/Berlin:20260219T150000
DTEND;TZID=Europe/Berlin:20260219T180000
DTSTAMP:20260421T133928
CREATED:20260114T111507Z
LAST-MODIFIED:20260114T111507Z
UID:10000858-1771513200-1771524000@freiraum-ronsdorf.de
SUMMARY:Café-Freiraum
DESCRIPTION:Freiraum Ronsdorf lädt ein! \nJeden Donnerstag öffnen wir unsere Türen für alle – ganz ohne feste Veranstaltung. Kommt vorbei und genießt eine entspannte Zeit: Ob bei einer Tasse Kaffee\, einem leckeren Stück Kuchen\, beim Stöbern in einem Buch oder einem kleinen Kicker-Match. Hier ist Platz für Begegnungen\, Gespräche und Gemeinschaft. Lasst uns den Tag gemeinsam genießen – wir freuen uns auf euch!
URL:https://freiraum-ronsdorf.de/event/cafe-freiraum-59/
LOCATION:Freiraum Ronsdorf\, In der Krim 12\, Wuppertal\, 42369
ATTACH;FMTTYPE=image/png:https://freiraum-ronsdorf.de/wp-content/uploads/2025/04/Cafe-scaled.png
END:VEVENT
BEGIN:VEVENT
DTSTART;TZID=Europe/Berlin:20260219T180000
DTEND;TZID=Europe/Berlin:20260219T210000
DTSTAMP:20260421T133928
CREATED:20260123T073822Z
LAST-MODIFIED:20260123T073822Z
UID:10000871-1771524000-1771534800@freiraum-ronsdorf.de
SUMMARY:Bomb Busters - Spieleabend
DESCRIPTION:🎲 Du hast Lust auf einen besonderen Spieleabend mit einem ausgezeichneten Koop-Spiel? Dann komm vorbei und mach mit. \nIn lockerer Runde treffen wir uns in einem gemütlichen Raum und spielen gemeinsam Bomb Busters\, das Spiel des Jahres 2025. Teamwork\, logisches Denken und gute Absprachen stehen hier im Mittelpunkt. \n💣 Bomb Busters ist ein kooperatives Deduktionsspiel für Familien und Spielefreunde. Gemeinsam versucht ihr als Team\, eine Bombe zu entschärfen\, indem ihr verdeckte Kabelpaare mit gleichen Zahlen findet und dabei die gefährlichen roten Kabel meidet. \n🎯 Das Spiel bietet insgesamt 66 Missionen mit steigendem Schwierigkeitsgrad. Natürlich kein Ziel für einen Abend. Wir schauen einfach\, wie weit wir kommen 😉 \n🪑 Es gibt mehrere Tische\, sodass sich kleinere Gruppen bilden können und parallel gespielt wird. \nMaximale Teilnehmerzahl: 20 \nBitte per Mail anmelden: info@freiraum-ronsdorf.de
URL:https://freiraum-ronsdorf.de/event/bomb-busters-spieleabend-2/
LOCATION:Freiraum Ronsdorf\, In der Krim 12\, Wuppertal\, 42369
ATTACH;FMTTYPE=image/jpeg:https://freiraum-ronsdorf.de/wp-content/uploads/2026/01/WhatsApp-Image-2026-01-06-at-13.29.44-scaled.jpeg
END:VEVENT
END:VCALENDAR