BEGIN:VCALENDAR
VERSION:2.0
PRODID:-//Freiraum Ronsdorf - ECPv6.5.1.3//NONSGML v1.0//EN
CALSCALE:GREGORIAN
METHOD:PUBLISH
X-ORIGINAL-URL:https://freiraum-ronsdorf.de
X-WR-CALDESC:Veranstaltungen für Freiraum Ronsdorf
REFRESH-INTERVAL;VALUE=DURATION:PT1H
X-Robots-Tag:noindex
X-PUBLISHED-TTL:PT1H
BEGIN:VTIMEZONE
TZID:Europe/Berlin
BEGIN:DAYLIGHT
TZOFFSETFROM:+0100
TZOFFSETTO:+0200
TZNAME:CEST
DTSTART:20250330T010000
END:DAYLIGHT
BEGIN:STANDARD
TZOFFSETFROM:+0200
TZOFFSETTO:+0100
TZNAME:CET
DTSTART:20251026T010000
END:STANDARD
END:VTIMEZONE
BEGIN:VEVENT
DTSTART;TZID=Europe/Berlin:20251122T100000
DTEND;TZID=Europe/Berlin:20251122T130000
DTSTAMP:20260423T121909
CREATED:20250930T082846Z
LAST-MODIFIED:20250930T083412Z
UID:10000767-1763805600-1763816400@freiraum-ronsdorf.de
SUMMARY:Kleidertauschparty
DESCRIPTION:Unter dem Motto „Tauschen statt kaufen!“ treffen wir uns im Vereinsheim und tauschen was das Zeug hält.\nJeder kann maximal 10 gewaschene\, gut erhaltene Kleidungsstücke mitbringen.
URL:https://freiraum-ronsdorf.de/event/kleidertauschparty-4/
LOCATION:Freiraum Ronsdorf\, In der Krim 12\, Wuppertal\, 42369
ATTACH;FMTTYPE=image/jpeg:https://freiraum-ronsdorf.de/wp-content/uploads/2023/12/boutique-6796399_1280.jpg
END:VEVENT
BEGIN:VEVENT
DTSTART;TZID=Europe/Berlin:20251122T150000
DTEND;TZID=Europe/Berlin:20251122T170000
DTSTAMP:20260423T121909
CREATED:20250915T105948Z
LAST-MODIFIED:20250915T105948Z
UID:10000766-1763823600-1763830800@freiraum-ronsdorf.de
SUMMARY:Strick-Café
DESCRIPTION:Eigene Projekte unter Gleichgesinnten in gemütlicher Café-Atmosphäre weiter stricken. \nWeitere Infos.
URL:https://freiraum-ronsdorf.de/event/strick-cafe-38/
LOCATION:Freiraum Ronsdorf\, In der Krim 12\, Wuppertal\, 42369
ATTACH;FMTTYPE=image/jpeg:https://freiraum-ronsdorf.de/wp-content/uploads/2023/12/Stricken_1.jpg
END:VEVENT
END:VCALENDAR