BEGIN:VCALENDAR
VERSION:2.0
PRODID:-//Freiraum Ronsdorf - ECPv6.5.1.3//NONSGML v1.0//EN
CALSCALE:GREGORIAN
METHOD:PUBLISH
X-WR-CALNAME:Freiraum Ronsdorf
X-ORIGINAL-URL:https://freiraum-ronsdorf.de
X-WR-CALDESC:Veranstaltungen für Freiraum Ronsdorf
REFRESH-INTERVAL;VALUE=DURATION:PT1H
X-Robots-Tag:noindex
X-PUBLISHED-TTL:PT1H
BEGIN:VTIMEZONE
TZID:Europe/Berlin
BEGIN:DAYLIGHT
TZOFFSETFROM:+0100
TZOFFSETTO:+0200
TZNAME:CEST
DTSTART:20250330T010000
END:DAYLIGHT
BEGIN:STANDARD
TZOFFSETFROM:+0200
TZOFFSETTO:+0100
TZNAME:CET
DTSTART:20251026T010000
END:STANDARD
END:VTIMEZONE
BEGIN:VEVENT
DTSTART;TZID=Europe/Berlin:20251105T190000
DTEND;TZID=Europe/Berlin:20251105T220000
DTSTAMP:20260421T184634
CREATED:20250826T110127Z
LAST-MODIFIED:20250826T110127Z
UID:10000746-1762369200-1762380000@freiraum-ronsdorf.de
SUMMARY:Spieleabend
DESCRIPTION:Die Ronsdorfer Bücherstube organisiert einen Spieleabend im Freiraum. \nEs werden ausgesuchte Spiele vom Veranstalter mitgebracht\, die aufgebaut und erklärt werden. Dann wird fleißig gespielt! \nFür diese Veranstaltung melden Sie sich bitte vorher kurz per Mail oder unser Kontaktformular an.
URL:https://freiraum-ronsdorf.de/event/spieleabend-20/
LOCATION:Freiraum Ronsdorf\, In der Krim 12\, Wuppertal\, 42369
ATTACH;FMTTYPE=image/jpeg:https://freiraum-ronsdorf.de/wp-content/uploads/2025/02/goose-game-2806291_1280.jpg
ORGANIZER;CN="Ronsdorfer B%C3%BCcherstube":MAILTO:info@buchkultur.de
END:VEVENT
END:VCALENDAR