BEGIN:VCALENDAR
VERSION:2.0
PRODID:-//Freiraum Ronsdorf - ECPv6.5.1.3//NONSGML v1.0//EN
CALSCALE:GREGORIAN
METHOD:PUBLISH
X-ORIGINAL-URL:https://freiraum-ronsdorf.de
X-WR-CALDESC:Veranstaltungen für Freiraum Ronsdorf
REFRESH-INTERVAL;VALUE=DURATION:PT1H
X-Robots-Tag:noindex
X-PUBLISHED-TTL:PT1H
BEGIN:VTIMEZONE
TZID:Europe/Berlin
BEGIN:DAYLIGHT
TZOFFSETFROM:+0100
TZOFFSETTO:+0200
TZNAME:CEST
DTSTART:20250330T010000
END:DAYLIGHT
BEGIN:STANDARD
TZOFFSETFROM:+0200
TZOFFSETTO:+0100
TZNAME:CET
DTSTART:20251026T010000
END:STANDARD
END:VTIMEZONE
BEGIN:VEVENT
DTSTART;TZID=Europe/Berlin:20251022T180000
DTEND;TZID=Europe/Berlin:20251022T180000
DTSTAMP:20260421T214222
CREATED:20250911T061520Z
LAST-MODIFIED:20250911T061520Z
UID:10000751-1761156000-1761156000@freiraum-ronsdorf.de
SUMMARY:Autorenzirkel
DESCRIPTION:Liebe Menschen\, die auch schreiben\, \nIhr habt Freude am  gemeinsamen Austauschen über selbst geschriebene Texte – Prosa und Lyrik – !? Dann sollten wir uns kennenlernen und zusammensetzen. \nWenn Ihr eher Einsteigerinnen und Einsteiger seid\, dann wird es gut passen. Ich stelle mir vor\, daß wir uns unsere Texte gegenseitig vorstellen\, die dahinter stehenen Gedanken und Gefühle diskutieren und uns dabei literarisch und persönlich begegnen. Unter Umständen mündet unser Autorenzirkel ein in eine gemeinsame Lesung\, wobei das literarische Austauschen\, die persönliche Bereicherung und nicht zuletzt der Humor beim Schreiben dafür die Grundlagen bilden sollen. \nAnmeldungen bitte über die Homepage des „Freiraum Ronsdorf“. \nRoland Krämer
URL:https://freiraum-ronsdorf.de/event/autorenzirkel-2/
LOCATION:Freiraum Ronsdorf\, In der Krim 12\, Wuppertal\, 42369
ATTACH;FMTTYPE=image/jpeg:https://freiraum-ronsdorf.de/wp-content/uploads/2025/08/Autorenzirkel.jpg
END:VEVENT
END:VCALENDAR