BEGIN:VCALENDAR
VERSION:2.0
PRODID:-//Freiraum Ronsdorf - ECPv6.5.1.3//NONSGML v1.0//EN
CALSCALE:GREGORIAN
METHOD:PUBLISH
X-ORIGINAL-URL:https://freiraum-ronsdorf.de
X-WR-CALDESC:Veranstaltungen für Freiraum Ronsdorf
REFRESH-INTERVAL;VALUE=DURATION:PT1H
X-Robots-Tag:noindex
X-PUBLISHED-TTL:PT1H
BEGIN:VTIMEZONE
TZID:Europe/Berlin
BEGIN:DAYLIGHT
TZOFFSETFROM:+0100
TZOFFSETTO:+0200
TZNAME:CEST
DTSTART:20250330T010000
END:DAYLIGHT
BEGIN:STANDARD
TZOFFSETFROM:+0200
TZOFFSETTO:+0100
TZNAME:CET
DTSTART:20251026T010000
END:STANDARD
END:VTIMEZONE
BEGIN:VEVENT
DTSTART;TZID=Europe/Berlin:20251012T120000
DTEND;TZID=Europe/Berlin:20251012T140000
DTSTAMP:20260421T201430
CREATED:20250721T095213Z
LAST-MODIFIED:20250721T095327Z
UID:10000723-1760270400-1760277600@freiraum-ronsdorf.de
SUMMARY:Bücherclub
DESCRIPTION:„Es gibt mehr Schätze in Büchern als Piratenbeute auf der Schatzinsel…und das Beste ist\, du kannst diesen Reichtum jeden Tag deines Lebens genießen.“\, sagte schon Walt Disney. \nWir\, Sofia\, Aliena und Selina\, möchten diesen Schätzen gemeinsam mit euch auf den Grund gehen.\nJeder hat Bücher\, die einen bewegt haben\, die Erinnerungen wecken oder die noch auf der Leseliste stehen. Am schönsten ist es doch\, wenn man diese miteinander teilen kann. \nDie neue Challenge für das nächste Treffen:\nLies ein Buch von einem Autor / einer Autorin aus einem Land\, in das Du gerne mal reisen würdest.
URL:https://freiraum-ronsdorf.de/event/buecherclub-11/
LOCATION:Freiraum Ronsdorf\, In der Krim 12\, Wuppertal\, 42369
ATTACH;FMTTYPE=image/jpeg:https://freiraum-ronsdorf.de/wp-content/uploads/2024/04/Buecherclub.jpg
END:VEVENT
BEGIN:VEVENT
DTSTART;TZID=Europe/Berlin:20251012T150000
DTEND;TZID=Europe/Berlin:20251012T150000
DTSTAMP:20260421T201430
CREATED:20250821T183617Z
LAST-MODIFIED:20250821T183617Z
UID:10000743-1760281200-1760281200@freiraum-ronsdorf.de
SUMMARY:Spieleabend
DESCRIPTION:Wir treffen uns in einem gemütlichen Raum\, um Brett- oder auch mal ein Kartenspiel zu spielen. Es können gerne eigene Spiele mitgebracht werden\, sofern die Regeln bekannt sind und auch erklärt werden können.\n\nUm Anmeldung wird zwecks Organisation gebeten: info@freiraum-ronsdorf.de
URL:https://freiraum-ronsdorf.de/event/spieleabend-17/
LOCATION:Freiraum Ronsdorf\, In der Krim 12\, Wuppertal\, 42369
ATTACH;FMTTYPE=image/jpeg:https://freiraum-ronsdorf.de/wp-content/uploads/2024/12/IMG_1132-scaled-1.jpeg
END:VEVENT
END:VCALENDAR