BEGIN:VCALENDAR
VERSION:2.0
PRODID:-//Freiraum Ronsdorf - ECPv6.5.1.3//NONSGML v1.0//EN
CALSCALE:GREGORIAN
METHOD:PUBLISH
X-ORIGINAL-URL:https://freiraum-ronsdorf.de
X-WR-CALDESC:Veranstaltungen für Freiraum Ronsdorf
REFRESH-INTERVAL;VALUE=DURATION:PT1H
X-Robots-Tag:noindex
X-PUBLISHED-TTL:PT1H
BEGIN:VTIMEZONE
TZID:Europe/Berlin
BEGIN:DAYLIGHT
TZOFFSETFROM:+0100
TZOFFSETTO:+0200
TZNAME:CEST
DTSTART:20250330T010000
END:DAYLIGHT
BEGIN:STANDARD
TZOFFSETFROM:+0200
TZOFFSETTO:+0100
TZNAME:CET
DTSTART:20251026T010000
END:STANDARD
END:VTIMEZONE
BEGIN:VEVENT
DTSTART;TZID=Europe/Berlin:20250626T150000
DTEND;TZID=Europe/Berlin:20250626T180000
DTSTAMP:20260422T025022
CREATED:20250409T082904Z
LAST-MODIFIED:20250607T192538Z
UID:10000640-1750950000-1750960800@freiraum-ronsdorf.de
SUMMARY:Café-Freiraum
DESCRIPTION:Freiraum Ronsdorf lädt ein! \nJeden Donnerstag öffnen wir unsere Türen für alle – ganz ohne feste Veranstaltung. Kommt vorbei und genießt eine entspannte Zeit: Ob bei einer Tasse Kaffee\, einem leckeren Stück Kuchen\, beim Stöbern in einem Buch oder einem kleinen Kicker-Match. Hier ist Platz für Begegnungen\, Gespräche und Gemeinschaft. Lasst uns den Tag gemeinsam genießen – wir freuen uns auf euch!
URL:https://freiraum-ronsdorf.de/event/cafe-freiraum-31/
LOCATION:Freiraum Ronsdorf\, In der Krim 12\, Wuppertal\, 42369
ATTACH;FMTTYPE=image/png:https://freiraum-ronsdorf.de/wp-content/uploads/2025/04/Cafe-scaled.png
END:VEVENT
END:VCALENDAR