BEGIN:VCALENDAR
VERSION:2.0
PRODID:-//Freiraum Ronsdorf - ECPv6.5.1.3//NONSGML v1.0//EN
CALSCALE:GREGORIAN
METHOD:PUBLISH
X-WR-CALNAME:Freiraum Ronsdorf
X-ORIGINAL-URL:https://freiraum-ronsdorf.de
X-WR-CALDESC:Veranstaltungen für Freiraum Ronsdorf
REFRESH-INTERVAL;VALUE=DURATION:PT1H
X-Robots-Tag:noindex
X-PUBLISHED-TTL:PT1H
BEGIN:VTIMEZONE
TZID:Europe/Berlin
BEGIN:DAYLIGHT
TZOFFSETFROM:+0100
TZOFFSETTO:+0200
TZNAME:CEST
DTSTART:20250330T010000
END:DAYLIGHT
BEGIN:STANDARD
TZOFFSETFROM:+0200
TZOFFSETTO:+0100
TZNAME:CET
DTSTART:20251026T010000
END:STANDARD
END:VTIMEZONE
BEGIN:VEVENT
DTSTART;TZID=Europe/Berlin:20250423T190000
DTEND;TZID=Europe/Berlin:20250423T190000
DTSTAMP:20260422T055829
CREATED:20250215T105453Z
LAST-MODIFIED:20250215T105453Z
UID:10000598-1745434800-1745434800@freiraum-ronsdorf.de
SUMMARY:Buchclub-Abend: Broken Shine
DESCRIPTION:Passend zum Welttag des Buches organisiert die Ronsdorfer Bücherstube einen Buchclub-Abend zum Buch „Broken-Shine“: \nCassies Traum wird wahr: Sie darf als Musical-Darstellerin am New Yorker Broadway spielen! Nachdem sie vor ihrem Ex-Freund geflohen ist\, ist die Audition ihre große Chance. Doch der Hauptdarsteller ist ausgerechnet Jake – ihr neuer unfreiwilliger Mitbewohner. Nach einem unschönen Zusammentreffen am Times Square ist er gar nicht davon begeistert\, dass ihre gemeinsame Freundin ausgerechnet Cassie in ihrer Musical-WG an der Upper East Side einquartiert hat. Aber Cassie ist fest entschlossen\, sich zu behaupten; und zwischen Tanzproben\, gesungenen Duetten und hitzigen Debatten hinter dem Theatervorhang kommt sie Jake näher\, als beide erwartet haben. Vor allem da Jake ihr nicht die ganze Wahrheit über sich und seine Vergangenheit sagt …
URL:https://freiraum-ronsdorf.de/event/buchclub-abend-broken-shine/
LOCATION:Freiraum Ronsdorf\, In der Krim 12\, Wuppertal\, 42369
ATTACH;FMTTYPE=image/png:https://freiraum-ronsdorf.de/wp-content/uploads/2025/02/Bildschirmfoto-2025-02-15-um-11.52.02.png
ORGANIZER;CN="Ronsdorfer B%C3%BCcherstube":MAILTO:info@buchkultur.de
END:VEVENT
END:VCALENDAR