BEGIN:VCALENDAR
VERSION:2.0
PRODID:-//Freiraum Ronsdorf - ECPv6.5.1.3//NONSGML v1.0//EN
CALSCALE:GREGORIAN
METHOD:PUBLISH
X-ORIGINAL-URL:https://freiraum-ronsdorf.de
X-WR-CALDESC:Veranstaltungen für Freiraum Ronsdorf
REFRESH-INTERVAL;VALUE=DURATION:PT1H
X-Robots-Tag:noindex
X-PUBLISHED-TTL:PT1H
BEGIN:VTIMEZONE
TZID:Europe/Berlin
BEGIN:DAYLIGHT
TZOFFSETFROM:+0100
TZOFFSETTO:+0200
TZNAME:CEST
DTSTART:20240331T010000
END:DAYLIGHT
BEGIN:STANDARD
TZOFFSETFROM:+0200
TZOFFSETTO:+0100
TZNAME:CET
DTSTART:20241027T010000
END:STANDARD
END:VTIMEZONE
BEGIN:VEVENT
DTSTART;TZID=Europe/Berlin:20241211T153000
DTEND;TZID=Europe/Berlin:20241211T170000
DTSTAMP:20260422T114849
CREATED:20241122T171716Z
LAST-MODIFIED:20241122T171716Z
UID:10000503-1733931000-1733936400@freiraum-ronsdorf.de
SUMMARY:Basteln: DIY Weihnachtsdeko aus Papier
DESCRIPTION:Wir basteln zusammen 3D Baumschmuck und Tischdeko\, einfach und schlicht aus Papier. Lasst euch überraschen\, der schnelle Erfolg ist garantiert. Die Ideen eignen sich übrigens auch super für ein gemeinsames Adventsbasteln mit Kindern\, allerdings sollten die Kids schon sicher im Umgang mit Schere und Klebstoff sein. Meldet euch gerne per E-Mail an\, die Plätze für diesen Nachmittag sind limitiert. \nWir freuen uns auf eine kreative\, gemeinsame Zeit \n 
URL:https://freiraum-ronsdorf.de/event/basteln-diy-weihnachtsdeko-aus-papier/
LOCATION:Freiraum Ronsdorf\, In der Krim 12\, Wuppertal\, 42369
ATTACH;FMTTYPE=image/jpeg:https://freiraum-ronsdorf.de/wp-content/uploads/2024/11/1000021453-scaled.jpg
END:VEVENT
END:VCALENDAR