BEGIN:VCALENDAR
VERSION:2.0
PRODID:-//Freiraum Ronsdorf - ECPv6.5.1.3//NONSGML v1.0//EN
CALSCALE:GREGORIAN
METHOD:PUBLISH
X-WR-CALNAME:Freiraum Ronsdorf
X-ORIGINAL-URL:https://freiraum-ronsdorf.de
X-WR-CALDESC:Veranstaltungen für Freiraum Ronsdorf
REFRESH-INTERVAL;VALUE=DURATION:PT1H
X-Robots-Tag:noindex
X-PUBLISHED-TTL:PT1H
BEGIN:VTIMEZONE
TZID:Europe/Berlin
BEGIN:DAYLIGHT
TZOFFSETFROM:+0100
TZOFFSETTO:+0200
TZNAME:CEST
DTSTART:20240331T010000
END:DAYLIGHT
BEGIN:STANDARD
TZOFFSETFROM:+0200
TZOFFSETTO:+0100
TZNAME:CET
DTSTART:20241027T010000
END:STANDARD
END:VTIMEZONE
BEGIN:VEVENT
DTSTART;TZID=Europe/Berlin:20241119T160000
DTEND;TZID=Europe/Berlin:20241119T180000
DTSTAMP:20260422T212322
CREATED:20241025T160302Z
LAST-MODIFIED:20241025T160302Z
UID:10000494-1732032000-1732039200@freiraum-ronsdorf.de
SUMMARY:Herbst-Basteln
DESCRIPTION:Weihnachten kommt dann doch immer schneller als man denkt. Wir laden alle Generationen herzlich zu einem gemeinsamen Bastelnachmittag ein! Wir treffen uns im Freiraum\, um kreativ zu werden und die weiße Jahreszeit vorzubereiten. Egal ob jung oder alt\, ob mit Kindern oder Großeltern – jeder ist willkommen\, mit uns wunderschöne Wintersterne zu basteln. Materialien und Ideen sind vorhanden\, bringt einfach gute Laune und Freude am Gestalten mit! Wir freuen uns auf einen gemütlichen und kreativen Nachmittag mit euch. \nGeeignet für Kinder ab ca. 4 Jahren\, genauso wie für Erwachsene.
URL:https://freiraum-ronsdorf.de/event/herbst-basteln-2/
LOCATION:Freiraum Ronsdorf\, In der Krim 12\, Wuppertal\, 42369
ATTACH;FMTTYPE=image/png:https://freiraum-ronsdorf.de/wp-content/uploads/2024/10/Bildschirmfoto-2024-10-25-um-18.01.54.png
END:VEVENT
END:VCALENDAR